Workbook
Name NoScrews: 'PU Holds'!#REF!
Name NoScrews: 'PE Holds'!#REF!
Name WithScrews: 'PU Holds'!#REF!
Name WithScrews: 'PE Holds'!#REF!
Name Z_D8989337_B290_44A9_8E0B_1D31DA495A27_.wvu.Cols: 'PE Holds'!$AA:$XFD
Name Z_D8989337_B290_44A9_8E0B_1D31DA495A27_.wvu.Cols: 'PU Holds'!$AA:$XFD

Sheet Summary of Order
H3: Orderform updated 09/2026
H6: Date: | I6: =TODAY() -> 46282
C8: Billing address | G8: Delivery address
C9: Company Name | G9: Company Name
C10: Street | G10: Street
C11: Postcode, City | G11: Postcode, City
C12: Country | G12: Country
C13: VAT-Number
C14: Mail | G14: Mail
C15: Telephone | G15: Telephone
D19: Summary of Order | J19: needed M10 Bolts
E20: Sets | F20: Holds / Volumes | G20: Weight (kg) | H20: Price | J20: 40 mm | K20: ='PE Holds'!H73+'PU Holds'!H49 -> 0
J21: 50 mm | K21: ='PE Holds'!I73+'PU Holds'!I49 -> 0
D22: PE Holds | E22: ='PE Holds'!Z3 -> 0 | F22: ='PE Holds'!Z2 -> 0 | G22: ='PE Holds'!Z4 -> 0 | H22: ='PE Holds'!Z5 -> 0 | J22: 60 mm | K22: ='PE Holds'!J73+'PU Holds'!J49 -> 0
D23: PU Holds | E23: ='PU Holds'!Z3 -> 0 | F23: ='PU Holds'!Z2 -> 0 | G23: ='PU Holds'!Z4 -> 0 | H23: ='PU Holds'!Z5 -> 0 | J23: 70 mm | K23: ='PE Holds'!K73+'PU Holds'!K49 -> 0
D24: Macros | F24: =Macros!T2 -> 0 | G24: =Macros!T3 -> 0 | H24: =Macros!T4 -> 0 | J24: 80 mm | K24: ='PE Holds'!L73+'PU Holds'!L49 -> 0
D25: Volumes | F25: ='Plywood-Volumes'!S2 -> 0 | G25: ='Plywood-Volumes'!S3 -> 0 | H25: ='Plywood-Volumes'!S4 -> 0 | J25: 90 mm | K25: ='PE Holds'!M73+'PU Holds'!M49 -> 0
D26: Total Order | E26: =E22+E23 -> 0 | F26: =F22+F23+F24+F25 -> 0 | G26: =G22+G23+G24+G25 -> 0 | H26: =H22+H23+H24+H25 -> 0 | J26: 100 mm | K26: ='PE Holds'!N73+'PU Holds'!N49 -> 0
J27: 110 mm | K27: ='PE Holds'!O73+'PU Holds'!O49 -> 0
J28: 120 mm | K28: ='PE Holds'!P73+'PU Holds'!P49 -> 0
J29: 130 mm | K29: ='PE Holds'!Q73+'PU Holds'!Q49 -> 0
J30: 140 mm | K30: ='PE Holds'!R73+'PU Holds'!R49 -> 0
D31: Discount: | E31: 0 | H31: =H26-(H26*E31) -> 0 | J31: needed Spax Screws | L31: ='PE Holds'!H75+'PU Holds'!H51+Macros!H138+'Plywood-Volumes'!H89 -> 0
H32: Prices without Taxes

Sheet PE Holds
V2: Total Holds | Z2: =H67+I67+J67+K67+L67+M67+N67+O67+P67+Q67+R67+S67+T67+U67+V67+W67+X67 -> 0
J3: Date: | N3: =TODAY() -> 46282 | V3: Total Sets | Z3: =H68+I68+J68+K68+L68+M68+N68+O68+P68+Q68+R68+S68+T68+U68+V68+W68+X68 -> 0
V4: Total Weight (kg) | Z4: =(Y10/20*1.8)+(Y11/8*5.15)+(Y12/8*9.5)+(Y13/6*10.5)+(Y14/4*10.2)+(Y15/2*9.6)+(Y16/8*10.8)+(Y17/6*7.7)+(Y18/2*6)+(Y19/2*8.6)+(Y20/10*3.45)+(Y21/12*3.25)+(Y22/10*5.7)+(Y23/4*5.45)+(Y24/102*97.7)+(Y27/24*0.9)+(Y28/16*1.45)+(Y29/10*0.85)+(Y30/10*7.6)+(Y31/6*8)+(Y32/4*7.8)+(Y33/2*8.3)+(Y34/12*1.55)+(Y35/12*1.5)+(Y36/10*2.7)+(Y37/12*3.5)+(Y38/20*6.65)+(Y39/4*2.5)+(Y40/10*6.3)+(Y41/8*6.5)+(Y42/6*5.45)+(Y43/6*6.4)+(Y44/4*9.1)+(Y45/4*6.35)+(Y46/2*7)+(Y47/2*6.95)+(Y48/184*107.35)+(Y51/16*2.7)+(Y52/10*4.2)+(Y55/16*1.5)+(Y56/8*4.3)+(Y57/8*3.9)+(Y58/6*7.4)+(Y59/4*12.3)+(Y60/10*4.1)+(Y61/4*2.8)+(Y62/4*7.7)+(Y63/60*44) -> 0
V5: Total Price | Z5: =H80 -> 0
R6: Prices without Taxes
U7: Price +5%
B8: Art.-No. | C8: Name | E8: Size | F8: Holds in Set | G8: Price | H8: White | I8: Black | J8: Blue | K8: Red | L8: Yellow | M8: Green | N8: Orange | O8: Brown | P8: Purple | Q8: Violet | R8: Mint | S8: Light Grey | T8: Dark Grey | U8: Pink Fluo | V8: Orange Fluo | W8: Green Fluo | X8: Yellow Fluo | Y8: Number of Holds | Z8: Price (without Taxes)
B9: CURVES PE
B10: 1001 | C10: Footholds | E10: XS | F10: 20 | G10: 110 | Y10: =(H10+I10+J10+K10+M10+L10+N10+O10+P10+Q10+R10+S10+T10+U10+V10+W10+X10)*20 -> 0 | Z10: =(H10+I10+J10+K10+L10+M10+N10+O10+P10+Q10+R10+S10+T10)*G10+(U10+V10+W10+X10)*(G10*1.05) -> 0
B11: 1002 | C11: Jugs S | E11: S | F11: 8 | G11: 130 | Y11: =(H11+I11+J11+K11+M11+L11+N11+O11+P11+Q11+R11+S11+T11+U11+V11+W11+X11)*8 -> 0 | Z11: =(H11+I11+J11+K11+L11+M11+N11+O11+P11+Q11+R11+S11+T11)*G11+(U11+V11+W11+X11)*(G11*1.05) -> 0
B12: 1003 | C12: Jugs M | E12: M | F12: 8 | G12: 230 | Y12: =(H12+I12+J12+K12+M12+L12+N12+O12+P12+Q12+R12+S12+T12+U12+V12+W12+X12)*8 -> 0 | Z12: =(H12+I12+J12+K12+L12+M12+N12+O12+P12+Q12+R12+S12+T12)*G12+(U12+V12+W12+X12)*(G12*1.05) -> 0
B13: 1004 | C13: Jugs L | E13: L | F13: 6 | G13: 250 | Y13: =(H13+I13+J13+K13+M13+L13+N13+O13+P13+Q13+R13+S13+T13+U13+V13+W13+X13)*6 -> 0 | Z13: =(H13+I13+J13+K13+L13+M13+N13+O13+P13+Q13+R13+S13+T13)*G13+(U13+V13+W13+X13)*(G13*1.05) -> 0
B14: 1005 | C14: Jugs XL | E14: XL | F14: 4 | G14: 250 | Y14: =(H14+I14+J14+K14+M14+L14+N14+O14+P14+Q14+R14+S14+T14+U14+V14+W14+X14)*4 -> 0 | Z14: =(H14+I14+J14+K14+L14+M14+N14+O14+P14+Q14+R14+S14+T14)*G14+(U14+V14+W14+X14)*(G14*1.05) -> 0
B15: 1006 | C15: Jugs XXL | E15: XXL | F15: 2 | G15: 220 | Y15: =(H15+I15+J15+K15+M15+L15+N15+O15+P15+Q15+R15+S15+T15+U15+V15+W15+X15)*2 -> 0 | Z15: =(H15+I15+J15+K15+L15+M15+N15+O15+P15+Q15+R15+S15+T15)*G15+(U15+V15+W15+X15)*(G15*1.05) -> 0
B16: 1007 | C16: positiv Slopers M | E16: M | F16: 8 | G16: 260 | Y16: =(H16+I16+J16+K16+M16+L16+N16+O16+P16+Q16+R16+S16+T16+U16+V16+W16+X16)*8 -> 0 | Z16: =(H16+I16+J16+K16+L16+M16+N16+O16+P16+Q16+R16+S16+T16)*G16+(U16+V16+W16+X16)*(G16*1.05) -> 0
B17: 1008 | C17: positiv Slopers L | E17: L | F17: 6 | G17: 210 | Y17: =(H17+I17+J17+K17+M17+L17+N17+O17+P17+Q17+R17+S17+T17+U17+V17+W17+X17)*6 -> 0 | Z17: =(H17+I17+J17+K17+L17+M17+N17+O17+P17+Q17+R17+S17+T17)*G17+(U17+V17+W17+X17)*(G17*1.05) -> 0
B18: 1009 | C18: positiv Slopers XL | E18: XL | F18: 2 | G18: 150 | Y18: =(H18+I18+J18+K18+M18+L18+N18+O18+P18+Q18+R18+S18+T18+U18+V18+W18+X18)*2 -> 0 | Z18: =(H18+I18+J18+K18+L18+M18+N18+O18+P18+Q18+R18+S18+T18)*G18+(U18+V18+W18+X18)*(G18*1.05) -> 0
B19: 1010 | C19: positiv Slopers XXL | E19: XXL | F19: 2 | G19: 200 | Y19: =(H19+I19+J19+K19+M19+L19+N19+O19+P19+Q19+R19+S19+T19+U19+V19+W19+X19)*2 -> 0 | Z19: =(H19+I19+J19+K19+L19+M19+N19+O19+P19+Q19+R19+S19+T19)*G19+(U19+V19+W19+X19)*(G19*1.05) -> 0
B20: 1011 | C20: open Edges S-M | E20: S-M | F20: 10 | G20: 110 | Y20: =(H20+I20+J20+K20+M20+L20+N20+O20+P20+Q20+R20+S20+T20+U20+V20+W20+X20)*10 -> 0 | Z20: =(H20+I20+J20+K20+L20+M20+N20+O20+P20+Q20+R20+S20+T20)*G20+(U20+V20+W20+X20)*(G20*1.05) -> 0
B21: 1012 | C21: Crimps S-M | E21: S-M | F21: 12 | G21: 110 | Y21: =(H21+I21+J21+K21+M21+L21+N21+O21+P21+Q21+R21+S21+T21+U21+V21+W21+X21)*12 -> 0 | Z21: =(H21+I21+J21+K21+L21+M21+N21+O21+P21+Q21+R21+S21+T21)*G21+(U21+V21+W21+X21)*(G21*1.05) -> 0
B22: 1013 | C22: Edges S-L | E22: S-L | F22: 10 | G22: 140 | Y22: =(H22+I22+J22+K22+M22+L22+N22+O22+P22+Q22+R22+S22+T22+U22+V22+W22+X22)*10 -> 0 | Z22: =(H22+I22+J22+K22+L22+M22+N22+O22+P22+Q22+R22+S22+T22)*G22+(U22+V22+W22+X22)*(G22*1.05) -> 0
B23: 1014 | C23: Slopers M-L | E23: M-L | F23: 4 | G23: 130 | Y23: =(H23+I23+J23+K23+M23+L23+N23+O23+P23+Q23+R23+S23+T23+U23+V23+W23+X23)*4 -> 0 | Z23: =(H23+I23+J23+K23+L23+M23+N23+O23+P23+Q23+R23+S23+T23)*G23+(U23+V23+W23+X23)*(G23*1.05) -> 0
B24: 1015 | C24: Curves Full Set | E24: XS-XXL | F24: =SUM(F10:F23) -> 102 | G24: 2500 | Y24: =(H24+I24+J24+K24+M24+L24+N24+O24+P24+Q24+R24+S24+T24+U24+V24+W24+X24)*102 -> 0 | Z24: =(H24+I24+J24+K24+L24+M24+N24+O24+P24+Q24+R24+S24+T24)*G24+(U24+V24+W24+X24)*(G24*1.05) -> 0
B26: COASTS PE
B27: 1101 | C27: Screw-Ons | E27: XXS | F27: 24 | G27: 70 | Y27: =(H27+I27+J27+K27+M27+L27+N27+O27+P27+Q27+R27+S27+T27+U27+V27+W27+X27)*24 -> 0 | Z27: =(H27+I27+J27+K27+L27+M27+N27+O27+P27+Q27+R27+S27+T27)*G27+(U27+V27+W27+X27)*(G27*1.05) -> 0
B28: 1102 | C28: slopy Footholds | E28: XS | F28: 16 | G28: 80 | Y28: =(H28+I28+J28+K28+M28+L28+N28+O28+P28+Q28+R28+S28+T28+U28+V28+W28+X28)*16 -> 0 | Z28: =(H28+I28+J28+K28+L28+M28+N28+O28+P28+Q28+R28+S28+T28)*G28+(U28+V28+W28+X28)*(G28*1.05) -> 0
B29: 1103 | C29: incut Footholds | E29: XS | F29: 10 | G29: 60 | Y29: =(H29+I29+J29+K29+M29+L29+N29+O29+P29+Q29+R29+S29+T29+U29+V29+W29+X29)*10 -> 0 | Z29: =(H29+I29+J29+K29+L29+M29+N29+O29+P29+Q29+R29+S29+T29)*G29+(U29+V29+W29+X29)*(G29*1.05) -> 0
B30: 1104 | C30: Jugs S-M | E30: S-M | F30: 10 | G30: 200 | Y30: =(H30+I30+J30+K30+M30+L30+N30+O30+P30+Q30+R30+S30+T30+U30+V30+W30+X30)*10 -> 0 | Z30: =(H30+I30+J30+K30+L30+M30+N30+O30+P30+Q30+R30+S30+T30)*G30+(U30+V30+W30+X30)*(G30*1.05) -> 0
B31: 1105 | C31: Jugs L | E31: L | F31: 6 | G31: 200 | Y31: =(H31+I31+J31+K31+M31+L31+N31+O31+P31+Q31+R31+S31+T31+U31+V31+W31+X31)*6 -> 0 | Z31: =(H31+I31+J31+K31+L31+M31+N31+O31+P31+Q31+R31+S31+T31)*G31+(U31+V31+W31+X31)*(G31*1.05) -> 0
B32: 1106 | C32: Jugs XL | E32: XL | F32: 4 | G32: 200 | Y32: =(H32+I32+J32+K32+M32+L32+N32+O32+P32+Q32+R32+S32+T32+U32+V32+W32+X32)*4 -> 0 | Z32: =(H32+I32+J32+K32+L32+M32+N32+O32+P32+Q32+R32+S32+T32)*G32+(U32+V32+W32+X32)*(G32*1.05) -> 0
B33: 1107 | C33: Jugs XXL | E33: XXL | F33: 2 | G33: 200 | Y33: =(H33+I33+J33+K33+M33+L33+N33+O33+P33+Q33+R33+S33+T33+U33+V33+W33+X33)*2 -> 0 | Z33: =(H33+I33+J33+K33+L33+M33+N33+O33+P33+Q33+R33+S33+T33)*G33+(U33+V33+W33+X33)*(G33*1.05) -> 0
B34: 1108 | C34: open Crimps S | E34: S | F34: 12 | G34: 70 | Y34: =(H34+I34+J34+K34+M34+L34+N34+O34+P34+Q34+R34+S34+T34+U34+V34+W34+X34)*12 -> 0 | Z34: =(H34+I34+J34+K34+L34+M34+N34+O34+P34+Q34+R34+S34+T34)*G34+(U34+V34+W34+X34)*(G34*1.05) -> 0
B35: 1109 | C35: incut Crimps S | E35: S | F35: 12 | G35: 70 | Y35: =(H35+I35+J35+K35+M35+L35+N35+O35+P35+Q35+R35+S35+T35+U35+V35+W35+X35)*12 -> 0 | Z35: =(H35+I35+J35+K35+L35+M35+N35+O35+P35+Q35+R35+S35+T35)*G35+(U35+V35+W35+X35)*(G35*1.05) -> 0
B36: 1110 | C36: open Edges S | E36: S | F36: 10 | G36: 90 | Y36: =(H36+I36+J36+K36+M36+L36+N36+O36+P36+Q36+R36+S36+T36+U36+V36+W36+X36)*10 -> 0 | Z36: =(H36+I36+J36+K36+L36+M36+N36+O36+P36+Q36+R36+S36+T36)*G36+(U36+V36+W36+X36)*(G36*1.05) -> 0
B37: 1111 | C37: mini Crimps S-M | E37: S-M | F37: 12 | G37: 120 | Y37: =(H37+I37+J37+K37+M37+L37+N37+O37+P37+Q37+R37+S37+T37+U37+V37+W37+X37)*12 -> 0 | Z37: =(H37+I37+J37+K37+L37+M37+N37+O37+P37+Q37+R37+S37+T37)*G37+(U37+V37+W37+X37)*(G37*1.05) -> 0
B38: 1112 | C38: incut Crimps M | E38: M | F38: 20 | G38: 160 | Y38: =(H38+I38+J38+K38+M38+L38+N38+O38+P38+Q38+R38+S38+T38+U38+V38+W38+X38)*20 -> 0 | Z38: =(H38+I38+J38+K38+L38+M38+N38+O38+P38+Q38+R38+S38+T38)*G38+(U38+V38+W38+X38)*(G38*1.05) -> 0
B39: 1113 | C39: positiv Edges M | E39: M | F39: 4 | G39: 80 | Y39: =(H39+I39+J39+K39+M39+L39+N39+O39+P39+Q39+R39+S39+T39+U39+V39+W39+X39)*4 -> 0 | Z39: =(H39+I39+J39+K39+L39+M39+N39+O39+P39+Q39+R39+S39+T39)*G39+(U39+V39+W39+X39)*(G39*1.05) -> 0
B40: 1114 | C40: open Edges M | E40: M | F40: 10 | G40: 170 | Y40: =(H40+I40+J40+K40+M40+L40+N40+O40+P40+Q40+R40+S40+T40+U40+V40+W40+X40)*10 -> 0 | Z40: =(H40+I40+J40+K40+L40+M40+N40+O40+P40+Q40+R40+S40+T40)*G40+(U40+V40+W40+X40)*(G40*1.05) -> 0
B41: 1115 | C41: incut Edges L | E41: L | F41: 8 | G41: 160 | Y41: =(H41+I41+J41+K41+M41+L41+N41+O41+P41+Q41+R41+S41+T41+U41+V41+W41+X41)*8 -> 0 | Z41: =(H41+I41+J41+K41+L41+M41+N41+O41+P41+Q41+R41+S41+T41)*G41+(U41+V41+W41+X41)*(G41*1.05) -> 0
B42: 1116 | C42: incut Plates L | E42: L | F42: 6 | G42: 140 | Y42: =(H42+I42+J42+K42+M42+L42+N42+O42+P42+Q42+R42+S42+T42+U42+V42+W42+X42)*6 -> 0 | Z42: =(H42+I42+J42+K42+L42+M42+N42+O42+P42+Q42+R42+S42+T42)*G42+(U42+V42+W42+X42)*(G42*1.05) -> 0
...

Sheet PU Holds
V2: Total Holds | Z2: =H43+I43+J43+K43+L43+M43+N43 -> 0
J3: Date: | N3: =TODAY() -> 46282 | V3: Total Sets | Z3: =H44+I44+J44+K44+L44+M44+N44 -> 0
V4: Total Weight (kg) | Z4: =(Y10/8*0.25)+(Y11/8*0.25)+(Y12/8*0.5)+(Y13/6*0.8)+(Y14/4*0.4)+(Y15/5*0.45)+(Y16/41*2.65)+(Y17/24*0.35)+(Y18/10*0.3)+(Y19/18*1.3)+(Y20/7*2.15)+(Y21/7*1.9)+(Y22/66*6)+(Y23/107*8.65)+(Y26/6*3)+(Y27/6*3.5)+(Y28/4*4)+(Y29/2*3.3)+(Y30/8*1)+(Y31/10*2.4)+(Y32/8*2.9)+(Y33/5*2.7)+(Y34/6*2)+(Y35/3*1.9)+(Y36/3*1.8)+(Y37/2*2.4)+(Y38/2*2.05)+(Y39/4*3.7)+(Y40/69*36.65) -> 0
V5: Total Price | Z5: =H56 -> 0
R6: Prices without Taxes
O7: more PU colors coming soon
B8: Art.-No. | C8: Name | E8: Size | F8: Holds in Set | G8: Price | H8: White | I8: Black | J8: Blue | K8: Red | L8: Yellow | M8: Green | N8: Mint | O8: Brown | P8: Purple | Q8: Violet | R8: Mint | S8: Light Grey | T8: Dark Grey | U8: Pink Fluo | V8: Orange Fluo | W8: Green Fluo | X8: Yellow Fluo | Y8: Number of Holds | Z8: Price (without Taxes)
B9: COMBINATION PU
B10: 1301 | C10: Handholds Set 1 | E10: XS-S | F10: 8 | G10: 40 | Y10: =(H10+I10+J10+K10+M10+L10+N10+O10+P10+Q10+R10+S10+T10+U10+V10+W10+X10)*8 -> 0 | Z10: =(H10+I10+J10+K10+L10+M10+N10+O10+P10+Q10+R10+S10+T10)*G10+(U10+V10+W10+X10)*(G10*1.05) -> 0
B11: 1302 | C11: Handholds Set 2 | E11: XS-S | F11: 8 | G11: 40 | Y11: =(H11+I11+J11+K11+M11+L11+N11+O11+P11+Q11+R11+S11+T11+U11+V11+W11+X11)*8 -> 0 | Z11: =(H11+I11+J11+K11+L11+M11+N11+O11+P11+Q11+R11+S11+T11)*G11+(U11+V11+W11+X11)*(G11*1.05) -> 0
B12: 1303 | C12: Handholds Set 3 | E12: S | F12: 8 | G12: 60 | Y12: =(H12+I12+J12+K12+M12+L12+N12+O12+P12+Q12+R12+S12+T12+U12+V12+W12+X12)*8 -> 0 | Z12: =(H12+I12+J12+K12+L12+M12+N12+O12+P12+Q12+R12+S12+T12)*G12+(U12+V12+W12+X12)*(G12*1.05) -> 0
B13: 1304 | C13: Handholds Set 4 | E13: S | F13: 8 | G13: 90 | Y13: =(H13+I13+J13+K13+M13+L13+N13+O13+P13+Q13+R13+S13+T13+U13+V13+W13+X13)*8 -> 0 | Z13: =(H13+I13+J13+K13+L13+M13+N13+O13+P13+Q13+R13+S13+T13)*G13+(U13+V13+W13+X13)*(G13*1.05) -> 0
B14: 1305 | C14: Handholds Set 5 | E14: S | F14: 4 | G14: 40 | Y14: =(H14+I14+J14+K14+M14+L14+N14+O14+P14+Q14+R14+S14+T14+U14+V14+W14+X14)*4 -> 0 | Z14: =(H14+I14+J14+K14+L14+M14+N14+O14+P14+Q14+R14+S14+T14)*G14+(U14+V14+W14+X14)*(G14*1.05) -> 0
B15: 1306 | C15: Handholds Set 6 | E15: S | F15: 5 | G15: 50 | Y15: =(H15+I15+J15+K15+M15+L15+N15+O15+P15+Q15+R15+S15+T15+U15+V15+W15+X15)*5 -> 0 | Z15: =(H15+I15+J15+K15+L15+M15+N15+O15+P15+Q15+R15+S15+T15)*G15+(U15+V15+W15+X15)*(G15*1.05) -> 0
B16: 1307 | C16: Handholds Full Range | E16: XS-S | F16: 41 | G16: 310 | Y16: =(H16+I16+J16+K16+M16+L16+N16+O16+P16+Q16+R16+S16+T16+U16+V16+W16+X16)*41 -> 0 | Z16: =(H16+I16+J16+K16+L16+M16+N16+O16+P16+Q16+R16+S16+T16)*G16+(U16+V16+W16+X16)*(G16*1.05) -> 0
B17: 1308 | C17: Footholds Set 1 | E17: XXS-XS | F17: 24 | G17: 90 | Y17: =(H17+I17+J17+K17+M17+L17+N17+O17+P17+Q17+R17+S17+T17+U17+V17+W17+X17)*24 -> 0 | Z17: =(H17+I17+J17+K17+L17+M17+N17+O17+P17+Q17+R17+S17+T17)*G17+(U17+V17+W17+X17)*(G17*1.05) -> 0
B18: 1309 | C18: Footholds Set 2 | E18: XS-S | F18: 10 | G18: 50 | Y18: =(H18+I18+J18+K18+M18+L18+N18+O18+P18+Q18+R18+S18+T18+U18+V18+W18+X18)*10 -> 0 | Z18: =(H18+I18+J18+K18+L18+M18+N18+O18+P18+Q18+R18+S18+T18)*G18+(U18+V18+W18+X18)*(G18*1.05) -> 0
B19: 1310 | C19: Footholds Set 3 | E19: XS | F19: 18 | G19: 150 | Y19: =(H19+I19+J19+K19+M19+L19+N19+O19+P19+Q19+R19+S19+T19+U19+V19+W19+X19)*18 -> 0 | Z19: =(H19+I19+J19+K19+L19+M19+N19+O19+P19+Q19+R19+S19+T19)*G19+(U19+V19+W19+X19)*(G19*1.05) -> 0
B20: 1311 | C20: Footholds Set 4 | E20: M-L | F20: 7 | G20: 220 | Y20: =(H20+I20+J20+K20+M20+L20+N20+O20+P20+Q20+R20+S20+T20+U20+V20+W20+X20)*7 -> 0 | Z20: =(H20+I20+J20+K20+L20+M20+N20+O20+P20+Q20+R20+S20+T20)*G20+(U20+V20+W20+X20)*(G20*1.05) -> 0
B21: 1312 | C21: Footholds Set 5 | E21: M-L | F21: 7 | G21: 200 | Y21: =(H21+I21+J21+K21+M21+L21+N21+O21+P21+Q21+R21+S21+T21+U21+V21+W21+X21)*7 -> 0 | Z21: =(H21+I21+J21+K21+L21+M21+N21+O21+P21+Q21+R21+S21+T21)*G21+(U21+V21+W21+X21)*(G21*1.05) -> 0
B22: 1313 | C22: Footholds Full Range | E22: XXS-L | F22: 66 | G22: 710 | Y22: =(H22+I22+J22+K22+M22+L22+N22+O22+P22+Q22+R22+S22+T22+U22+V22+W22+X22)*66 -> 0 | Z22: =(H22+I22+J22+K22+L22+M22+N22+O22+P22+Q22+R22+S22+T22)*G22+(U22+V22+W22+X22)*(G22*1.05) -> 0
B23: 1314 | C23: Combination PU Full Range | E23: XXS-L | F23: 107 | G23: 1000 | Y23: =(H23+I23+J23+K23+M23+L23+N23+O23+P23+Q23+R23+S23+T23+U23+V23+W23+X23)*107 -> 0 | Z23: =(H23+I23+J23+K23+L23+M23+N23+O23+P23+Q23+R23+S23+T23)*G23+(U23+V23+W23+X23)*(G23*1.05) -> 0
B25: CANDLES PU
B26: 1203 | C26: Jugs M | E26: M | F26: 6 | G26: 240 | Y26: =(H26+I26+J26+K26+M26+L26+N26+O26+P26+Q26+R26+S26+T26+U26+V26+W26+X26)*6 -> 0 | Z26: =(H26+I26+J26+K26+L26+M26+N26+O26+P26+Q26+R26+S26+T26)*G26+(U26+V26+W26+X26)*(G26*1.05) -> 0
B27: 1204 | C27: Jugs L | E27: L | F27: 6 | G27: 300 | Y27: =(H27+I27+J27+K27+M27+L27+N27+O27+P27+Q27+R27+S27+T27+U27+V27+W27+X27)*6 -> 0 | Z27: =(H27+I27+J27+K27+L27+M27+N27+O27+P27+Q27+R27+S27+T27)*G27+(U27+V27+W27+X27)*(G27*1.05) -> 0
B28: 1205 | C28: Jugs XL | E28: XL | F28: 4 | G28: 330 | Y28: =(H28+I28+J28+K28+M28+L28+N28+O28+P28+Q28+R28+S28+T28+U28+V28+W28+X28)*4 -> 0 | Z28: =(H28+I28+J28+K28+L28+M28+N28+O28+P28+Q28+R28+S28+T28)*G28+(U28+V28+W28+X28)*(G28*1.05) -> 0
B29: 1206 | C29: real Jugs XL | E29: XL | F29: 2 | G29: 270 | Y29: =(H29+I29+J29+K29+M29+L29+N29+O29+P29+Q29+R29+S29+T29+U29+V29+W29+X29)*2 -> 0 | Z29: =(H29+I29+J29+K29+L29+M29+N29+O29+P29+Q29+R29+S29+T29)*G29+(U29+V29+W29+X29)*(G29*1.05) -> 0
B30: 1207 | C30: incut Crimps S | E30: S | F30: 8 | G30: 90 | Y30: =(H30+I30+J30+K30+M30+L30+N30+O30+P30+Q30+R30+S30+T30+U30+V30+W30+X30)*8 -> 0 | Z30: =(H30+I30+J30+K30+L30+M30+N30+O30+P30+Q30+R30+S30+T30)*G30+(U30+V30+W30+X30)*(G30*1.05) -> 0
B31: 1208 | C31: open Edges S-L | E31: S-L | F31: 10 | G31: 200 | Y31: =(H31+I31+J31+K31+M31+L31+N31+O31+P31+Q31+R31+S31+T31+U31+V31+W31+X31)*10 -> 0 | Z31: =(H31+I31+J31+K31+L31+M31+N31+O31+P31+Q31+R31+S31+T31)*G31+(U31+V31+W31+X31)*(G31*1.05) -> 0
B32: 1209 | C32: incut Edges M-L | E32: M-L | F32: 8 | G32: 240 | Y32: =(H32+I32+J32+K32+M32+L32+N32+O32+P32+Q32+R32+S32+T32+U32+V32+W32+X32)*8 -> 0 | Z32: =(H32+I32+J32+K32+L32+M32+N32+O32+P32+Q32+R32+S32+T32)*G32+(U32+V32+W32+X32)*(G32*1.05) -> 0
B33: 1210 | C33: Incut Crimps L | E33: L | F33: 5 | G33: 220 | Y33: =(H33+I33+J33+K33+M33+L33+N33+O33+P33+Q33+R33+S33+T33+U33+V33+W33+X33)*5 -> 0 | Z33: =(H33+I33+J33+K33+L33+M33+N33+O33+P33+Q33+R33+S33+T33)*G33+(U33+V33+W33+X33)*(G33*1.05) -> 0
B34: 1211 | C34: long Edges L | E34: L | F34: 6 | G34: 180 | Y34: =(H34+I34+J34+K34+M34+L34+N34+O34+P34+Q34+R34+S34+T34+U34+V34+W34+X34)*6 -> 0 | Z34: =(H34+I34+J34+K34+L34+M34+N34+O34+P34+Q34+R34+S34+T34)*G34+(U34+V34+W34+X34)*(G34*1.05) -> 0
B35: 1212 | C35: positiv Slopers L | E35: L | F35: 3 | G35: 160 | Y35: =(H35+I35+J35+K35+M35+L35+N35+O35+P35+Q35+R35+S35+T35+U35+V35+W35+X35)*3 -> 0 | Z35: =(H35+I35+J35+K35+L35+M35+N35+O35+P35+Q35+R35+S35+T35)*G35+(U35+V35+W35+X35)*(G35*1.05) -> 0
B36: 1213 | C36: negativ Slopers L | E36: L | F36: 3 | G36: 160 | Y36: =(H36+I36+J36+K36+M36+L36+N36+O36+P36+Q36+R36+S36+T36+U36+V36+W36+X36)*3 -> 0 | Z36: =(H36+I36+J36+K36+L36+M36+N36+O36+P36+Q36+R36+S36+T36)*G36+(U36+V36+W36+X36)*(G36*1.05) -> 0
B37: 1214 | C37: positiv Slopers XL | E37: XL | F37: 2 | G37: 200 | Y37: =(H37+I37+J37+K37+M37+L37+N37+O37+P37+Q37+R37+S37+T37+U37+V37+W37+X37)*2 -> 0 | Z37: =(H37+I37+J37+K37+L37+M37+N37+O37+P37+Q37+R37+S37+T37)*G37+(U37+V37+W37+X37)*(G37*1.05) -> 0
B38: 1215 | C38: negativ Slopers XL | E38: XL | F38: 2 | G38: 170 | Y38: =(H38+I38+J38+K38+M38+L38+N38+O38+P38+Q38+R38+S38+T38+U38+V38+W38+X38)*2 -> 0 | Z38: =(H38+I38+J38+K38+L38+M38+N38+O38+P38+Q38+R38+S38+T38)*G38+(U38+V38+W38+X38)*(G38*1.05) -> 0
B39: 1216 | C39: Edges XL | E39: XL | F39: 4 | G39: 300 | Y39: =(H39+I39+J39+K39+M39+L39+N39+O39+P39+Q39+R39+S39+T39+U39+V39+W39+X39)*4 -> 0 | Z39: =(H39+I39+J39+K39+L39+M39+N39+O39+P39+Q39+R39+S39+T39)*G39+(U39+V39+W39+X39)*(G39*1.05) -> 0
B40: 1217 | C40: Candles PU Full Range | E40: S-XL | F40: =SUM(F26:F39) -> 69 | G40: 3000 | Y40: =(H40+I40+J40+K40+M40+L40+N40+O40+P40+Q40+R40+S40+T40+U40+V40+W40+X40)*69 -> 0 | Z40: =(H40+I40+J40+K40+L40+M40+N40+O40+P40+Q40+R40+S40+T40)*G40+(U40+V40+W40+X40)*(G40*1.05) -> 0
H42: RAL 9001* | I42: RAL 9004* | J42: RAL 5015* | K42: RAL 3020* | L42: RAL 1023* | M42: RAL 6037* | N42: RAL 6027* | O42: RAL 8003* | P42: NCS 4050-R60B* | Q42: RAL 4008* | R42: RAL 6027* | S42: RAL 7038* | U42: RAL 4003* | V42: RAL 2008* | W42: RAL 6018* | X42: RAL 1026*
E43: Total Holds per color | H43: =(H10*8)+(H11*8)+(H12*8)+(H13*8)+(H14*4)+(H15*5)+(H16*41)+(H17*24)+(H18*10)+(H19*18)+(H20*7)+(H21*7)+(H22*66)+(H23*107)+(H26*6)+(H27*6)+(H28*4)+(H29*2)+(H30*8)+(H31*10)+(H32*8)+(H33*5)+(H34*6)+(H35*3)+(H36*3)+(H37*2)+(H38*2)+(H39*4)+(H40*69) -> 0 | I43: =(I10*8)+(I11*8)+(I12*8)+(I13*8)+(I14*4)+(I15*5)+(I16*41)+(I17*24)+(I18*10)+(I19*18)+(I20*7)+(I21*7)+(I22*66)+(I23*107)+(I26*6)+(I27*6)+(I28*4)+(I29*2)+(I30*8)+(I31*10)+(I32*8)+(I33*5)+(I34*6)+(I35*3)+(I36*3)+(I37*2)+(I38*2)+(I39*4)+(I40*69) -> 0 | J43: =(J10*8)+(J11*8)+(J12*8)+(J13*8)+(J14*4)+(J15*5)+(J16*41)+(J17*24)+(J18*10)+(J19*18)+(J20*7)+(J21*7)+(J22*66)+(J23*107)+(J26*6)+(J27*6)+(J28*4)+(J29*2)+(J30*8)+(J31*10)+(J32*8)+(J33*5)+(J34*6)+(J35*3)+(J36*3)+(J37*2)+(J38*2)+(J39*4)+(J40*69) -> 0 | K43: =(K10*8)+(K11*8)+(K12*8)+(K13*8)+(K14*4)+(K15*5)+(K16*41)+(K17*24)+(K18*10)+(K19*18)+(K20*7)+(K21*7)+(K22*66)+(K23*107)+(K26*6)+(K27*6)+(K28*4)+(K29*2)+(K30*8)+(K31*10)+(K32*8)+(K33*5)+(K34*6)+(K35*3)+(K36*3)+(K37*2)+(K38*2)+(K39*4)+(K40*69) -> 0 | L43: =(L10*8)+(L11*8)+(L12*8)+(L13*8)+(L14*4)+(L15*5)+(L16*41)+(L17*24)+(L18*10)+(L19*18)+(L20*7)+(L21*7)+(L22*66)+(L23*107)+(L26*6)+(L27*6)+(L28*4)+(L29*2)+(L30*8)+(L31*10)+(L32*8)+(L33*5)+(L34*6)+(L35*3)+(L36*3)+(L37*2)+(L38*2)+(L39*4)+(L40*69) -> 0 | M43: =(M10*8)+(M11*8)+(M12*8)+(M13*8)+(M14*4)+(M15*5)+(M16*41)+(M17*24)+(M18*10)+(M19*18)+(M20*7)+(M21*7)+(M22*66)+(M23*107)+(M26*6)+(M27*6)+(M28*4)+(M29*2)+(M30*8)+(M31*10)+(M32*8)+(M33*5)+(M34*6)+(M35*3)+(M36*3)+(M37*2)+(M38*2)+(M39*4)+(M40*69) -> 0 | N43: =(N10*8)+(N11*8)+(N12*8)+(N13*8)+(N14*4)+(N15*5)+(N16*41)+(N17*24)+(N18*10)+(N19*18)+(N20*7)+(N21*7)+(N22*66)+(N23*107)+(N26*6)+(N27*6)+(N28*4)+(N29*2)+(N30*8)+(N31*10)+(N32*8)+(N33*5)+(N34*6)+(N35*3)+(N36*3)+(N37*2)+(N38*2)+(N39*4)+(N40*69) -> 0
...

Sheet Macros
R2: Total Macros | T2: =H140 -> 0
I3: Date: | L3: =TODAY() -> 46282 | R3: Total Weigth (kg) | T3: =(R9*0.8)+(R10*0.8)+(R11*1)+(R12*1.1)+(R13*1.1)+(R14*1.1)+(R15*1.1)+(R16*1.1)+(R17*1.1)+(R18*1.25)+(R19*1.25)+(R20*1.6)+(R21*2)+(R22*1.8)+(R23*2.1)+(R24*2.7)+(R25*2.6)+(R26*2.6)+(R27*2.8)+(R28*3.5)+(R29*3.7)+(R30*7.5)+(R31*9)+((R32*48.4)/23)+(R34*0.88)+(R35*0.88)+(R36*1.1)+(R37*1.2)+(R38*1.2)+(R39*1.2)+(R40*1.2)+(R41*1.2)+(R42*1.2)+(R43*1.35)+(R44*1.35)+(R45*1.75)+(R46*2.2)+(R47*2)+(R48*2.3)+(R49*3)+(R50*2.9)+(R51*2.9)+(R52*3.1)+(R53*3.9)+(R54*4.1)+(R55*8.3)+(R56*10)+((R57*53.53)/23)+(R59*0.8)+(R60*0.8)+(R61*1)+(R62*1.1)+(R63*1.1)+(R64*1.1)+(R65*1.1)+(R66*1.1)+(R67*1.1)+(R68*1.25)+(R69*1.25)+(R70*1.6)+(R71*2)+(R72*1.8)+(R73*2.1)+(R74*2.7)+(R75*2.6)+(R76*2.6)+(R77*2.8)+(R78*3.5)+(R79*3.7)+(R80*7.5)+(R81*9)+((R82*48.4)/23)+(R85*0.85)+(R86*1.15)+(R87*1.1)+(R88*1.3)+(R89*1.4)+(R90*1.6)+(R91*1.8)+(R92*1.8)+(R93*1.8)+(R94*1.9)+(R95*2.1)+(R96*2.3)+(R97*2.4)+(R98*2.4)+(R99*2.6)+(R100*2.5)+(R101*2.5)+(R102*2.8)+(R103*2.9)+(R104*3)+(R105*3.1)+(R106*3.9)+((R107*47.2)/22)+(R109*0.85)+(R110*1.15)+(R111*1.1)+(R112*1.3)+(R113*1.4)+(R114*1.6)+(R115*1.8)+(R116*1.8)+(R117*1.8)+(R118*1.9)+(R119*2.1)+(R120*2.3)+(R121*2.4)+(R122*2.4)+(R123*2.6)+(R124*2.5)+(R125*2.5)+(R126*2.8)+(R127*2.9)+(R128*3)+(R129*3.1)+(R130*3.9)+((R131*47.2)/22) -> 0
R4: Total Price Macros | T4: =H141 -> 0
T5: Prices without Taxes
B7: Art.-No. | C7: Name | F7: Macros in Set | G7: Price | H7: White | I7: Black | J7: Blue | K7: Red | L7: Yellow | M7: Green | N7: Orange | O7: Purple | P7: Mint | Q7: Grey | R7: Number of Macros | S7: Price (without Taxes)
B8: CANDLES Macros
B9: 2001 | C9: Candles 1 Dual Texture | F9: 1 | G9: 160 | R9: =(H9+I9+J9+K9+M9+L9+N9+O9+P9+Q9)*1 -> 0 | S9: =(H9+I9+J9+K9+L9+M9+N9+O9+P9+Q9)*G9 -> 0
B10: 2002 | C10: Candles 2 Dual Texture | F10: 1 | G10: 160 | R10: =(H10+I10+J10+K10+M10+L10+N10+O10+P10+Q10)*1 -> 0 | S10: =(H10+I10+J10+K10+L10+M10+N10+O10+P10+Q10)*G10 -> 0
B11: 2003 | C11: Candles 3 Dual Texture | F11: 1 | G11: 160 | R11: =(H11+I11+J11+K11+M11+L11+N11+O11+P11+Q11)*1 -> 0 | S11: =(H11+I11+J11+K11+L11+M11+N11+O11+P11+Q11)*G11 -> 0
B12: 2004 | C12: Candles 4 Dual Texture | F12: 1 | G12: 160 | R12: =(H12+I12+J12+K12+M12+L12+N12+O12+P12+Q12)*1 -> 0 | S12: =(H12+I12+J12+K12+L12+M12+N12+O12+P12+Q12)*G12 -> 0
B13: 2005 | C13: Candles 5 Dual Texture | F13: 1 | G13: 160 | R13: =(H13+I13+J13+K13+M13+L13+N13+O13+P13+Q13)*1 -> 0 | S13: =(H13+I13+J13+K13+L13+M13+N13+O13+P13+Q13)*G13 -> 0
B14: 2006 | C14: Candles 6 Dual Texture | F14: 1 | G14: 160 | R14: =(H14+I14+J14+K14+M14+L14+N14+O14+P14+Q14)*1 -> 0 | S14: =(H14+I14+J14+K14+L14+M14+N14+O14+P14+Q14)*G14 -> 0
B15: 2007 | C15: Candles 7 Dual Texture | F15: 1 | G15: 160 | R15: =(H15+I15+J15+K15+M15+L15+N15+O15+P15+Q15)*1 -> 0 | S15: =(H15+I15+J15+K15+L15+M15+N15+O15+P15+Q15)*G15 -> 0
B16: 2008 | C16: Candles 8 Dual Texture | F16: 1 | G16: 160 | R16: =(H16+I16+J16+K16+M16+L16+N16+O16+P16+Q16)*1 -> 0 | S16: =(H16+I16+J16+K16+L16+M16+N16+O16+P16+Q16)*G16 -> 0
B17: 2009 | C17: Candles 9 Dual Texture | F17: 1 | G17: 160 | R17: =(H17+I17+J17+K17+M17+L17+N17+O17+P17+Q17)*1 -> 0 | S17: =(H17+I17+J17+K17+L17+M17+N17+O17+P17+Q17)*G17 -> 0
B18: 2010 | C18: Candles 10 Dual Texture | F18: 1 | G18: 160 | R18: =(H18+I18+J18+K18+M18+L18+N18+O18+P18+Q18)*1 -> 0 | S18: =(H18+I18+J18+K18+L18+M18+N18+O18+P18+Q18)*G18 -> 0
B19: 2011 | C19: Candles 11 Dual Texture | F19: 1 | G19: 160 | R19: =(H19+I19+J19+K19+M19+L19+N19+O19+P19+Q19)*1 -> 0 | S19: =(H19+I19+J19+K19+L19+M19+N19+O19+P19+Q19)*G19 -> 0
B20: 2012 | C20: Candles 12 Dual Texture | F20: 1 | G20: 200 | R20: =(H20+I20+J20+K20+M20+L20+N20+O20+P20+Q20)*1 -> 0 | S20: =(H20+I20+J20+K20+L20+M20+N20+O20+P20+Q20)*G20 -> 0
... B31: 2023 | C31: Candles 23 Dual Texture | F31: 1 | G31: 440 | R31: =(H31+I31+J31+K31+M31+L31+N31+O31+P31+Q31)*1 -> 0 | S31: =(H31+I31+J31+K31+L31+M31+N31+O31+P31+Q31)*G31 -> 0
B32: 2024 | C32: Candles Full Range Dual Texture | F32: 23 | G32: 4800 | R32: =(H32+I32+J32+K32+M32+L32+N32+O32+P32+Q32)*23 -> 0 | S32: =(H32+I32+J32+K32+L32+M32+N32+O32+P32+Q32)*G32 -> 0
B34: 2031 | C34: Candles 1 Full Texture | F34: 1 | G34: 150 | R34: =(H34+I34+J34+K34+M34+L34+N34+O34+P34+Q34)*1 -> 0 | S34: =(H34+I34+J34+K34+L34+M34+N34+O34+P34+Q34)*G34 -> 0
B35: 2032 | C35: Candles 2 Full Texture | F35: 1 | G35: 150 | R35: =(H35+I35+J35+K35+M35+L35+N35+O35+P35+Q35)*1 -> 0 | S35: =(H35+I35+J35+K35+L35+M35+N35+O35+P35+Q35)*G35 -> 0
B36: 2033 | C36: Candles 3 Full Texture | F36: 1 | G36: 150 | R36: =(H36+I36+J36+K36+M36+L36+N36+O36+P36+Q36)*1 -> 0 | S36: =(H36+I36+J36+K36+L36+M36+N36+O36+P36+Q36)*G36 -> 0
B37: 2034 | C37: Candles 4 Full Texture | F37: 1 | G37: 150 | R37: =(H37+I37+J37+K37+M37+L37+N37+O37+P37+Q37)*1 -> 0 | S37: =(H37+I37+J37+K37+L37+M37+N37+O37+P37+Q37)*G37 -> 0
B38: 2035 | C38: Candles 5 Full Texture | F38: 1 | G38: 150 | R38: =(H38+I38+J38+K38+M38+L38+N38+O38+P38+Q38)*1 -> 0 | S38: =(H38+I38+J38+K38+L38+M38+N38+O38+P38+Q38)*G38 -> 0
B39: 2036 | C39: Candles 6 Full Texture | F39: 1 | G39: 150 | R39: =(H39+I39+J39+K39+M39+L39+N39+O39+P39+Q39)*1 -> 0 | S39: =(H39+I39+J39+K39+L39+M39+N39+O39+P39+Q39)*G39 -> 0
B40: 2037 | C40: Candles 7 Full Texture | F40: 1 | G40: 150 | R40: =(H40+I40+J40+K40+M40+L40+N40+O40+P40+Q40)*1 -> 0 | S40: =(H40+I40+J40+K40+L40+M40+N40+O40+P40+Q40)*G40 -> 0
B41: 2038 | C41: Candles 8 Full Texture | F41: 1 | G41: 150 | R41: =(H41+I41+J41+K41+M41+L41+N41+O41+P41+Q41)*1 -> 0 | S41: =(H41+I41+J41+K41+L41+M41+N41+O41+P41+Q41)*G41 -> 0
B42: 2039 | C42: Candles 9 Full Texture | F42: 1 | G42: 150 | R42: =(H42+I42+J42+K42+M42+L42+N42+O42+P42+Q42)*1 -> 0 | S42: =(H42+I42+J42+K42+L42+M42+N42+O42+P42+Q42)*G42 -> 0
B43: 2040 | C43: Candles 10 Full Texture | F43: 1 | G43: 150 | R43: =(H43+I43+J43+K43+M43+L43+N43+O43+P43+Q43)*1 -> 0 | S43: =(H43+I43+J43+K43+L43+M43+N43+O43+P43+Q43)*G43 -> 0
B44: 2041 | C44: Candles 11 Full Texture | F44: 1 | G44: 150 | R44: =(H44+I44+J44+K44+M44+L44+N44+O44+P44+Q44)*1 -> 0 | S44: =(H44+I44+J44+K44+L44+M44+N44+O44+P44+Q44)*G44 -> 0
B45: 2042 | C45: Candles 12 Full Texture | F45: 1 | G45: 170 | R45: =(H45+I45+J45+K45+M45+L45+N45+O45+P45+Q45)*1 -> 0 | S45: =(H45+I45+J45+K45+L45+M45+N45+O45+P45+Q45)*G45 -> 0
... B56: 2053 | C56: Candles 23 Full Texture | F56: 1 | G56: 350 | R56: =(H56+I56+J56+K56+M56+L56+N56+O56+P56+Q56)*1 -> 0 | S56: =(H56+I56+J56+K56+L56+M56+N56+O56+P56+Q56)*G56 -> 0
B57: 2054 | C57: Candles Full Range Full Texture | F57: 23 | G57: 4150 | R57: =(H57+I57+J57+K57+M57+L57+N57+O57+P57+Q57)*23 -> 0 | S57: =(H57+I57+J57+K57+L57+M57+N57+O57+P57+Q57)*G57 -> 0
B59: 2061 | C59: Candles 1 No Texture | F59: 1 | G59: 145 | R59: =(H59+I59+J59+K59+M59+L59+N59+O59+P59+Q59)*1 -> 0 | S59: =(H59+I59+J59+K59+L59+M59+N59+O59+P59+Q59)*G59 -> 0
B60: 2062 | C60: Candles 2 No Texture | F60: 1 | G60: 145 | R60: =(H60+I60+J60+K60+M60+L60+N60+O60+P60+Q60)*1 -> 0 | S60: =(H60+I60+J60+K60+L60+M60+N60+O60+P60+Q60)*G60 -> 0
B61: 2063 | C61: Candles 3 No Texture | F61: 1 | G61: 145 | R61: =(H61+I61+J61+K61+M61+L61+N61+O61+P61+Q61)*1 -> 0 | S61: =(H61+I61+J61+K61+L61+M61+N61+O61+P61+Q61)*G61 -> 0
B62: 2064 | C62: Candles 4 No Texture | F62: 1 | G62: 145 | R62: =(H62+I62+J62+K62+M62+L62+N62+O62+P62+Q62)*1 -> 0 | S62: =(H62+I62+J62+K62+L62+M62+N62+O62+P62+Q62)*G62 -> 0
B63: 2065 | C63: Candles 5 No Texture | F63: 1 | G63: 145 | R63: =(H63+I63+J63+K63+M63+L63+N63+O63+P63+Q63)*1 -> 0 | S63: =(H63+I63+J63+K63+L63+M63+N63+O63+P63+Q63)*G63 -> 0
B64: 2066 | C64: Candles 6 No Texture | F64: 1 | G64: 145 | R64: =(H64+I64+J64+K64+M64+L64+N64+O64+P64+Q64)*1 -> 0 | S64: =(H64+I64+J64+K64+L64+M64+N64+O64+P64+Q64)*G64 -> 0
...

Sheet Plywood-Volumes
Q2: Total Volumes | S2: =H91 -> 0
H3: Date: | K3: =TODAY() -> 46282 | Q3: Total Weigth (kg) | S3: =(Q9*1.5)+(Q10*2.7)+(Q11*5.1)+(Q12*9)+(Q13*16.7)+(Q14*1.8)+(Q15*3.3)+(Q16*5.8)+(Q17*10.4)+(Q18*19)+(Q19*2.1)+(Q20*3.8)+(Q21*6.8)+(Q22*12.1)+(Q23*21.8)+((Q24*121.9)/15)+(Q26*1.5)+(Q27*2.7)+(Q28*5.1)+(Q29*9)+(Q30*16.7)+(Q31*1.8)+(Q32*3.3)+(Q33*5.8)+(Q34*10.4)+(Q35*19)+(Q36*2.1)+(Q37*3.8)+(Q38*6.8)+(Q39*12.1)+(Q40*21.8)+((Q41*121.9)/15)+((Q44*4.1)/7)+(Q45*2.2)+(Q46*3.6)+(Q47*5.5)+(Q48*8.8)+((Q49*24.2)/11)+((Q50*5.56)/7)+(Q51*2.9)+(Q52*4.7)+(Q53*6.9)+(Q54*11)+((Q55*31.06)/11)+((Q56*6.68)/7)+(Q57*3.7)+(Q58*5.8)+(Q59*9)+(Q60*14.3)+((Q61*39.48)/11)+((Q62*94.74)/33)+((Q64*4.1)/7)+(Q65*2.2)+(Q66*3.6)+(Q67*5.5)+(Q68*8.8)+((Q69*24.2)/11)+((Q70*5.56)/7)+(Q71*2.9)+(Q72*4.7)+(Q73*6.9)+(Q74*11)+((Q75*31.06)/11)+((Q76*6.68)/7)+(Q77*3.7)+(Q78*5.8)+(Q79*9)+(Q80*14.3)+((Q81*39.48)/11)+((Q82*94.74)/33) -> 0
Q4: Total Price Volumes | S4: =H92 -> 0
S5: Prices without Taxes
B7: Art.-No. | C7: Name | F7: Volumes in Set | G7: Price | H7: White | I7: Black | J7: Anthracite | K7: Grey | L7: Blue | M7: Red | N7: Orange | O7: Green | P7: Special request | Q7: Number of Volumes | R7: Price (without Taxes)
B8: PETALS Plywood
B9: 3001 | C9: Petals Flat S Dual Texture | F9: 1 | G9: 120 | Q9: =(H9+I9+J9+K9+M9+L9+N9+O9+P9)*1 -> 0 | R9: =(H9+I9+J9+K9+L9+M9+N9+O9+P9)*G9 -> 0
B10: 3002 | C10: Petals Flat M Dual Texture | F10: 1 | G10: 160 | Q10: =(H10+I10+J10+K10+M10+L10+N10+O10+P10)*1 -> 0 | R10: =(H10+I10+J10+K10+L10+M10+N10+O10+P10)*G10 -> 0
B11: 3003 | C11: Petals Flat L Dual Texture | F11: 1 | G11: 240 | Q11: =(H11+I11+J11+K11+M11+L11+N11+O11+P11)*1 -> 0 | R11: =(H11+I11+J11+K11+L11+M11+N11+O11+P11)*G11 -> 0
B12: 3004 | C12: Petals Flat XL Dual Texture | F12: 1 | G12: 390 | Q12: =(H12+I12+J12+K12+M12+L12+N12+O12+P12)*1 -> 0 | R12: =(H12+I12+J12+K12+L12+M12+N12+O12+P12)*G12 -> 0
B13: 3005 | C13: Petals Flat XXL Dual Texture | F13: 1 | G13: 470 | Q13: =(H13+I13+J13+K13+M13+L13+N13+O13+P13)*1 -> 0 | R13: =(H13+I13+J13+K13+L13+M13+N13+O13+P13)*G13 -> 0
B14: 3006 | C14: Petals Medium S Dual Texture | F14: 1 | G14: 130 | Q14: =(H14+I14+J14+K14+M14+L14+N14+O14+P14)*1 -> 0 | R14: =(H14+I14+J14+K14+L14+M14+N14+O14+P14)*G14 -> 0
B15: 3007 | C15: Petals Medium M Dual Texture | F15: 1 | G15: 170 | Q15: =(H15+I15+J15+K15+M15+L15+N15+O15+P15)*1 -> 0 | R15: =(H15+I15+J15+K15+L15+M15+N15+O15+P15)*G15 -> 0
B16: 3008 | C16: Petals Medium L Dual Texture | F16: 1 | G16: 250 | Q16: =(H16+I16+J16+K16+M16+L16+N16+O16+P16)*1 -> 0 | R16: =(H16+I16+J16+K16+L16+M16+N16+O16+P16)*G16 -> 0
B17: 3009 | C17: Petals Medium XL Dual Texture | F17: 1 | G17: 400 | Q17: =(H17+I17+J17+K17+M17+L17+N17+O17+P17)*1 -> 0 | R17: =(H17+I17+J17+K17+L17+M17+N17+O17+P17)*G17 -> 0
B18: 3010 | C18: Petals Medium XXL Dual Texture | F18: 1 | G18: 500 | Q18: =(H18+I18+J18+K18+M18+L18+N18+O18+P18)*1 -> 0 | R18: =(H18+I18+J18+K18+L18+M18+N18+O18+P18)*G18 -> 0
B19: 3011 | C19: Petals Steep S Dual Texture | F19: 1 | G19: 150 | Q19: =(H19+I19+J19+K19+M19+L19+N19+O19+P19)*1 -> 0 | R19: =(H19+I19+J19+K19+L19+M19+N19+O19+P19)*G19 -> 0
B20: 3012 | C20: Petals Steep M Dual Texture | F20: 1 | G20: 200 | Q20: =(H20+I20+J20+K20+M20+L20+N20+O20+P20)*1 -> 0 | R20: =(H20+I20+J20+K20+L20+M20+N20+O20+P20)*G20 -> 0
... B23: 3015 | C23: Petals Steep XXL Dual Texture | F23: 1 | G23: 600 | Q23: =(H23+I23+J23+K23+M23+L23+N23+O23+P23)*1 -> 0 | R23: =(H23+I23+J23+K23+L23+M23+N23+O23+P23)*G23 -> 0
B24: 3016 | C24: Petals Full Range Dual Texture | F24: 15 | G24: 4500 | Q24: =(H24+I24+J24+K24+M24+L24+N24+O24+P24)*15 -> 0 | R24: =(H24+I24+J24+K24+L24+M24+N24+O24+P24)*G24 -> 0
B26: 3021 | C26: Petals Flat S Full Texture | F26: 1 | G26: 108 | Q26: =(H26+I26+J26+K26+M26+L26+N26+O26+P26)*1 -> 0 | R26: =(H26+I26+J26+K26+L26+M26+N26+O26+P26)*G26 -> 0
B27: 3022 | C27: Petals Flat M Full Texture | F27: 1 | G27: 144 | Q27: =(H27+I27+J27+K27+M27+L27+N27+O27+P27)*1 -> 0 | R27: =(H27+I27+J27+K27+L27+M27+N27+O27+P27)*G27 -> 0
B28: 3023 | C28: Petals Flat L Full Texture | F28: 1 | G28: 216 | Q28: =(H28+I28+J28+K28+M28+L28+N28+O28+P28)*1 -> 0 | R28: =(H28+I28+J28+K28+L28+M28+N28+O28+P28)*G28 -> 0
B29: 3024 | C29: Petals Flat XL Full Texture | F29: 1 | G29: 351 | Q29: =(H29+I29+J29+K29+M29+L29+N29+O29+P29)*1 -> 0 | R29: =(H29+I29+J29+K29+L29+M29+N29+O29+P29)*G29 -> 0
B30: 3025 | C30: Petals Flat XXL Full Texture | F30: 1 | G30: 423 | Q30: =(H30+I30+J30+K30+M30+L30+N30+O30+P30)*1 -> 0 | R30: =(H30+I30+J30+K30+L30+M30+N30+O30+P30)*G30 -> 0
B31: 3026 | C31: Petals Medium S Full Texture | F31: 1 | G31: 117 | Q31: =(H31+I31+J31+K31+M31+L31+N31+O31+P31)*1 -> 0 | R31: =(H31+I31+J31+K31+L31+M31+N31+O31+P31)*G31 -> 0
B32: 3027 | C32: Petals Medium M FullTexture | F32: 1 | G32: 153 | Q32: =(H32+I32+J32+K32+M32+L32+N32+O32+P32)*1 -> 0 | R32: =(H32+I32+J32+K32+L32+M32+N32+O32+P32)*G32 -> 0
B33: 3028 | C33: Petals Medium L Full Texture | F33: 1 | G33: 225 | Q33: =(H33+I33+J33+K33+M33+L33+N33+O33+P33)*1 -> 0 | R33: =(H33+I33+J33+K33+L33+M33+N33+O33+P33)*G33 -> 0
B34: 3029 | C34: Petals Medium XL Full Texture | F34: 1 | G34: 360 | Q34: =(H34+I34+J34+K34+M34+L34+N34+O34+P34)*1 -> 0 | R34: =(H34+I34+J34+K34+L34+M34+N34+O34+P34)*G34 -> 0
B35: 3030 | C35: Petals Medium XXL Full Texture | F35: 1 | G35: 450 | Q35: =(H35+I35+J35+K35+M35+L35+N35+O35+P35)*1 -> 0 | R35: =(H35+I35+J35+K35+L35+M35+N35+O35+P35)*G35 -> 0
B36: 3031 | C36: Petals Steep S Full Texture | F36: 1 | G36: 135 | Q36: =(H36+I36+J36+K36+M36+L36+N36+O36+P36)*1 -> 0 | R36: =(H36+I36+J36+K36+L36+M36+N36+O36+P36)*G36 -> 0
B37: 3032 | C37: Petals Steep M Full Texture | F37: 1 | G37: 180 | Q37: =(H37+I37+J37+K37+M37+L37+N37+O37+P37)*1 -> 0 | R37: =(H37+I37+J37+K37+L37+M37+N37+O37+P37)*G37 -> 0
... B40: 3035 | C40: Petals Steep XXL Full Texture | F40: 1 | G40: 540 | Q40: =(H40+I40+J40+K40+M40+L40+N40+O40+P40)*1 -> 0 | R40: =(H40+I40+J40+K40+L40+M40+N40+O40+P40)*G40 -> 0
B41: 3036 | C41: Petals Full Range Full Texture | F41: 15 | G41: 4050 | Q41: =(H41+I41+J41+K41+M41+L41+N41+O41+P41)*15 -> 0 | R41: =(H41+I41+J41+K41+L41+M41+N41+O41+P41)*G41 -> 0
B43: TRIOS Plywood
B44: 3101 | C44: Trios Flat 3x XS 2x S 2x M Dual Tex. | F44: 7 | G44: 450 | Q44: =(H44+I44+J44+K44+M44+L44+N44+O44+P44)*7 -> 0 | R44: =(H44+I44+J44+K44+L44+M44+N44+O44+P44)*G44 -> 0
B45: 3102 | C45: Trios Flat L Dual Tex. | F45: 1 | G45: 170 | Q45: =(H45+I45+J45+K45+M45+L45+N45+O45+P45)*1 -> 0 | R45: =(H45+I45+J45+K45+L45+M45+N45+O45+P45)*G45 -> 0
B46: 3103 | C46: Trios Flat XL Dual Tex. | F46: 1 | G46: 230 | Q46: =(H46+I46+J46+K46+M46+L46+N46+O46+P46)*1 -> 0 | R46: =(H46+I46+J46+K46+L46+M46+N46+O46+P46)*G46 -> 0
B47: 3104 | C47: Trios Flat XXL Dual Tex. | F47: 1 | G47: 290 | Q47: =(H47+I47+J47+K47+M47+L47+N47+O47+P47)*1 -> 0 | R47: =(H47+I47+J47+K47+L47+M47+N47+O47+P47)*G47 -> 0
B48: 3105 | C48: Trios Flat XXXL Dual Tex. | F48: 1 | G48: 370 | Q48: =(H48+I48+J48+K48+M48+L48+N48+O48+P48)*1 -> 0 | R48: =(H48+I48+J48+K48+L48+M48+N48+O48+P48)*G48 -> 0
...
