Workbook
Name NoScrews: 'PU Holds'!#REF!
Name NoScrews: 'PE Holds'!#REF!
Name WithScrews: 'PU Holds'!#REF!
Name WithScrews: 'PE Holds'!#REF!
Name Z_D8989337_B290_44A9_8E0B_1D31DA495A27_.wvu.Cols: 'PE Holds'!$AA:$XFD
Name Z_D8989337_B290_44A9_8E0B_1D31DA495A27_.wvu.Cols: 'PU Holds'!$AA:$XFD

Sheet Summary of Order
H3: Orderform updated 09/2026
H6: Date: | I6: =TODAY() -> 46282
C8: Billing address | G8: Delivery address
C9: Company Name | G9: Company Name
C10: Street | G10: Street
C11: Postcode, City | G11: Postcode, City
C12: Country | G12: Country
C13: VAT-Number
C14: Mail | G14: Mail
C15: Telephone | G15: Telephone
D19: Summary of Order | J19: needed M10 Bolts
E20: Sets | F20: Holds / Volumes | G20: Weight (kg) | H20: Price | J20: 40 mm | K20: ='PE Holds'!H73+'PU Holds'!H49 -> 0
J21: 50 mm | K21: ='PE Holds'!I73+'PU Holds'!I49 -> 0
D22: PE Holds | E22: ='PE Holds'!Z3 -> 0 | F22: ='PE Holds'!Z2 -> 0 | G22: ='PE Holds'!Z4 -> 0 | H22: ='PE Holds'!Z5 -> 0 | J22: 60 mm | K22: ='PE Holds'!J73+'PU Holds'!J49 -> 0
D23: PU Holds | E23: ='PU Holds'!Z3 -> 0 | F23: ='PU Holds'!Z2 -> 0 | G23: ='PU Holds'!Z4 -> 0 | H23: ='PU Holds'!Z5 -> 0 | J23: 70 mm | K23: ='PE Holds'!K73+'PU Holds'!K49 -> 0
D24: Macros | F24: =Macros!T2 -> 0 | G24: =Macros!T3 -> 0 | H24: =Macros!T4 -> 0 | J24: 80 mm | K24: ='PE Holds'!L73+'PU Holds'!L49 -> 0
D25: Volumes | F25: ='Plywood-Volumes'!S2 -> 0 | G25: ='Plywood-Volumes'!S3 -> 0 | H25: ='Plywood-Volumes'!S4 -> 0 | J25: 90 mm | K25: ='PE Holds'!M73+'PU Holds'!M49 -> 0
D26: Total Order | E26: =E22+E23 -> 0 | F26: =F22+F23+F24+F25 -> 0 | G26: =G22+G23+G24+G25 -> 0 | H26: =H22+H23+H24+H25 -> 0 | J26: 100 mm | K26: ='PE Holds'!N73+'PU Holds'!N49 -> 0
J27: 110 mm | K27: ='PE Holds'!O73+'PU Holds'!O49 -> 0
J28: 120 mm | K28: ='PE Holds'!P73+'PU Holds'!P49 -> 0
J29: 130 mm | K29: ='PE Holds'!Q73+'PU Holds'!Q49 -> 0
J30: 140 mm | K30: ='PE Holds'!R73+'PU Holds'!R49 -> 0
D31: Discount: | E31: 0 | H31: =H26-(H26*E31) -> 0 | J31: needed Spax Screws | L31: ='PE Holds'!H75+'PU Holds'!H51+Macros!H138+'Plywood-Volumes'!H89 -> 0
H32: Prices without Taxes

Sheet PE Holds
V2: Total Holds | Z2: =H67+I67+J67+K67+L67+M67+N67+O67+P67+Q67+R67+S67+T67+U67+V67+W67+X67 -> 0
J3: Date: | N3: =TODAY() -> 46282 | V3: Total Sets | Z3: =H68+I68+J68+K68+L68+M68+N68+O68+P68+Q68+R68+S68+T68+U68+V68+W68+X68 -> 0
V4: Total Weight (kg) | Z4: =(Y10/20*1.8)+(Y11/8*5.15)+(Y12/8*9.5)+(Y13/6*10.5)+(Y14/4*10.2)+(Y15/2*9.6)+(Y16/8*10.8)+(Y17/6*7.7)+(Y18/2*6)+(Y19/2*8.6)+(Y20/10*3.45)+(Y21/12*3.25)+(Y22/10*5.7)+(Y23/4*5.45)+(Y24/102*97.7)+(Y27/24*0.9)+(Y28/16*1.45)+(Y29/10*0.85)+(Y30/10*7.6)+(Y31/6*8)+(Y32/4*7.8)+(Y33/2*8.3)+(Y34/12*1.55)+(Y35/12*1.5)+(Y36/10*2.7)+(Y37/12*3.5)+(Y38/20*6.65)+(Y39/4*2.5)+(Y40/10*6.3)+(Y41/8*6.5)+(Y42/6*5.45)+(Y43/6*6.4)+(Y44/4*9.1)+(Y45/4*6.35)+(Y46/2*7)+(Y47/2*6.95)+(Y48/184*107.35)+(Y51/16*2.7)+(Y52/10*4.2)+(Y55/16*1.5)+(Y56/8*4.3)+(Y57/8*3.9)+(Y58/6*7.4)+(Y59/4*12.3)+(Y60/10*4.1)+(Y61/4*2.8)+(Y62/4*7.7)+(Y63/60*44) -> 0
V5: Total Price | Z5: =H80 -> 0
R6: Prices without Taxes
U7: Price +5%
B8: Art.-No. | C8: Name | E8: Size | F8: Holds in Set | G8: Price | H8: White | I8: Black | J8: Blue | K8: Red | L8: Yellow | M8: Green | N8: Orange | O8: Brown | P8: Purple | Q8: Violet | R8: Mint | S8: Light Grey | T8: Dark Grey | U8: Pink Fluo | V8: Orange Fluo | W8: Green Fluo | X8: Yellow Fluo | Y8: Number of Holds | Z8: Price (without Taxes)
B9: CURVES PE
B10: 1001 | C10: Footholds | E10: XS | F10: 20 | G10: 110 | Y10: =(H10+I10+J10+K10+M10+L10+N10+O10+P10+Q10+R10+S10+T10+U10+V10+W10+X10)*20 -> 0 | Z10: =(H10+I10+J10+K10+L10+M10+N10+O10+P10+Q10+R10+S10+T10)*G10+(U10+V10+W10+X10)*(G10*1.05) -> 0
B11: 1002 | C11: Jugs S | E11: S | F11: 8 | G11: 130 | Y11: =(H11+I11+J11+K11+M11+L11+N11+O11+P11+Q11+R11+S11+T11+U11+V11+W11+X11)*8 -> 0 | Z11: =(H11+I11+J11+K11+L11+M11+N11+O11+P11+Q11+R11+S11+T11)*G11+(U11+V11+W11+X11)*(G11*1.05) -> 0
B12: 1003 | C12: Jugs M | E12: M | F12: 8 | G12: 230 | Y12: =(H12+I12+J12+K12+M12+L12+N12+O12+P12+Q12+R12+S12+T12+U12+V12+W12+X12)*8 -> 0 | Z12: =(H12+I12+J12+K12+L12+M12+N12+O12+P12+Q12+R12+S12+T12)*G12+(U12+V12+W12+X12)*(G12*1.05) -> 0
B13: 1004 | C13: Jugs L | E13: L | F13: 6 | G13: 250 | Y13: =(H13+I13+J13+K13+M13+L13+N13+O13+P13+Q13+R13+S13+T13+U13+V13+W13+X13)*6 -> 0 | Z13: =(H13+I13+J13+K13+L13+M13+N13+O13+P13+Q13+R13+S13+T13)*G13+(U13+V13+W13+X13)*(G13*1.05) -> 0
B14: 1005 | C14: Jugs XL | E14: XL | F14: 4 | G14: 250 | Y14: =(H14+I14+J14+K14+M14+L14+N14+O14+P14+Q14+R14+S14+T14+U14+V14+W14+X14)*4 -> 0 | Z14: =(H14+I14+J14+K14+L14+M14+N14+O14+P14+Q14+R14+S14+T14)*G14+(U14+V14+W14+X14)*(G14*1.05) -> 0
B15: 1006 | C15: Jugs XXL | E15: XXL | F15: 2 | G15: 220 | Y15: =(H15+I15+J15+K15+M15+L15+N15+O15+P15+Q15+R15+S15+T15+U15+V15+W15+X15)*2 -> 0 | Z15: =(H15+I15+J15+K15+L15+M15+N15+O15+P15+Q15+R15+S15+T15)*G15+(U15+V15+W15+X15)*(G15*1.05) -> 0
B16: 1007 | C16: positiv Slopers M | E16: M | F16: 8 | G16: 260 | Y16: =(H16+I16+J16+K16+M16+L16+N16+O16+P16+Q16+R16+S16+T16+U16+V16+W16+X16)*8 -> 0 | Z16: =(H16+I16+J16+K16+L16+M16+N16+O16+P16+Q16+R16+S16+T16)*G16+(U16+V16+W16+X16)*(G16*1.05) -> 0
B17: 1008 | C17: positiv Slopers L | E17: L | F17: 6 | G17: 210 | Y17: =(H17+I17+J17+K17+M17+L17+N17+O17+P17+Q17+R17+S17+T17+U17+V17+W17+X17)*6 -> 0 | Z17: =(H17+I17+J17+K17+L17+M17+N17+O17+P17+Q17+R17+S17+T17)*G17+(U17+V17+W17+X17)*(G17*1.05) -> 0
B18: 1009 | C18: positiv Slopers XL | E18: XL | F18: 2 | G18: 150 | Y18: =(H18+I18+J18+K18+M18+L18+N18+O18+P18+Q18+R18+S18+T18+U18+V18+W18+X18)*2 -> 0 | Z18: =(H18+I18+J18+K18+L18+M18+N18+O18+P18+Q18+R18+S18+T18)*G18+(U18+V18+W18+X18)*(G18*1.05) -> 0
B19: 1010 | C19: positiv Slopers XXL | E19: XXL | F19: 2 | G19: 200 | Y19: =(H19+I19+J19+K19+M19+L19+N19+O19+P19+Q19+R19+S19+T19+U19+V19+W19+X19)*2 -> 0 | Z19: =(H19+I19+J19+K19+L19+M19+N19+O19+P19+Q19+R19+S19+T19)*G19+(U19+V19+W19+X19)*(G19*1.05) -> 0
B20: 1011 | C20: open Edges S-M | E20: S-M | F20: 10 | G20: 110 | Y20: =(H20+I20+J20+K20+M20+L20+N20+O20+P20+Q20+R20+S20+T20+U20+V20+W20+X20)*10 -> 0 | Z20: =(H20+I20+J20+K20+L20+M20+N20+O20+P20+Q20+R20+S20+T20)*G20+(U20+V20+W20+X20)*(G20*1.05) -> 0
B21: 1012 | C21: Crimps S-M | E21: S-M | F21: 12 | G21: 110 | Y21: =(H21+I21+J21+K21+M21+L21+N21+O21+P21+Q21+R21+S21+T21+U21+V21+W21+X21)*12 -> 0 | Z21: =(H21+I21+J21+K21+L21+M21+N21+O21+P21+Q21+R21+S21+T21)*G21+(U21+V21+W21+X21)*(G21*1.05) -> 0
B22: 1013 | C22: Edges S-L | E22: S-L | F22: 10 | G22: 140 | Y22: =(H22+I22+J22+K22+M22+L22+N22+O22+P22+Q22+R22+S22+T22+U22+V22+W22+X22)*10 -> 0 | Z22: =(H22+I22+J22+K22+L22+M22+N22+O22+P22+Q22+R22+S22+T22)*G22+(U22+V22+W22+X22)*(G22*1.05) -> 0
B23: 1014 | C23: Slopers M-L | E23: M-L | F23: 4 | G23: 130 | Y23: =(H23+I23+J23+K23+M23+L23+N23+O23+P23+Q23+R23+S23+T23+U23+V23+W23+X23)*4 -> 0 | Z23: =(H23+I23+J23+K23+L23+M23+N23+O23+P23+Q23+R23+S23+T23)*G23+(U23+V23+W23+X23)*(G23*1.05) -> 0
B24: 1015 | C24: Curves Full Set | E24: XS-XXL | F24: =SUM(F10:F23) -> 102 | G24: 2500 | Y24: =(H24+I24+J24+K24+M24+L24+N24+O24+P24+Q24+R24+S24+T24+U24+V24+W24+X24)*102 -> 0 | Z24: =(H24+I24+J24+K24+L24+M24+N24+O24+P24+Q24+R24+S24+T24)*G24+(U24+V24+W24+X24)*(G24*1.05) -> 0
B26: COASTS PE
B27: 1101 | C27: Screw-Ons | E27: XXS | F27: 24 | G27: 70 | Y27: =(H27+I27+J27+K27+M27+L27+N27+O27+P27+Q27+R27+S27+T27+U27+V27+W27+X27)*24 -> 0 | Z27: =(H27+I27+J27+K27+L27+M27+N27+O27+P27+Q27+R27+S27+T27)*G27+(U27+V27+W27+X27)*(G27*1.05) -> 0
B28: 1102 | C28: slopy Footholds | E28: XS | F28: 16 | G28: 80 | Y28: =(H28+I28+J28+K28+M28+L28+N28+O28+P28+Q28+R28+S28+T28+U28+V28+W28+X28)*16 -> 0 | Z28: =(H28+I28+J28+K28+L28+M28+N28+O28+P28+Q28+R28+S28+T28)*G28+(U28+V28+W28+X28)*(G28*1.05) -> 0
B29: 1103 | C29: incut Footholds | E29: XS | F29: 10 | G29: 60 | Y29: =(H29+I29+J29+K29+M29+L29+N29+O29+P29+Q29+R29+S29+T29+U29+V29+W29+X29)*10 -> 0 | Z29: =(H29+I29+J29+K29+L29+M29+N29+O29+P29+Q29+R29+S29+T29)*G29+(U29+V29+W29+X29)*(G29*1.05) -> 0
B30: 1104 | C30: Jugs S-M | E30: S-M | F30: 10 | G30: 200 | Y30: =(H30+I30+J30+K30+M30+L30+N30+O30+P30+Q30+R30+S30+T30+U30+V30+W30+X30)*10 -> 0 | Z30: =(H30+I30+J30+K30+L30+M30+N30+O30+P30+Q30+R30+S30+T30)*G30+(U30+V30+W30+X30)*(G30*1.05) -> 0
B31: 1105 | C31: Jugs L | E31: L | F31: 6 | G31: 200 | Y31: =(H31+I31+J31+K31+M31+L31+N31+O31+P31+Q31+R31+S31+T31+U31+V31+W31+X31)*6 -> 0 | Z31: =(H31+I31+J31+K31+L31+M31+N31+O31+P31+Q31+R31+S31+T31)*G31+(U31+V31+W31+X31)*(G31*1.05) -> 0
B32: 1106 | C32: Jugs XL | E32: XL | F32: 4 | G32: 200 | Y32: =(H32+I32+J32+K32+M32+L32+N32+O32+P32+Q32+R32+S32+T32+U32+V32+W32+X32)*4 -> 0 | Z32: =(H32+I32+J32+K32+L32+M32+N32+O32+P32+Q32+R32+S32+T32)*G32+(U32+V32+W32+X32)*(G32*1.05) -> 0
B33: 1107 | C33: Jugs XXL | E33: XXL | F33: 2 | G33: 200 | Y33: =(H33+I33+J33+K33+M33+L33+N33+O33+P33+Q33+R33+S33+T33+U33+V33+W33+X33)*2 -> 0 | Z33: =(H33+I33+J33+K33+L33+M33+N33+O33+P33+Q33+R33+S33+T33)*G33+(U33+V33+W33+X33)*(G33*1.05) -> 0
B34: 1108 | C34: open Crimps S | E34: S | F34: 12 | G34: 70 | Y34: =(H34+I34+J34+K34+M34+L34+N34+O34+P34+Q34+R34+S34+T34+U34+V34+W34+X34)*12 -> 0 | Z34: =(H34+I34+J34+K34+L34+M34+N34+O34+P34+Q34+R34+S34+T34)*G34+(U34+V34+W34+X34)*(G34*1.05) -> 0
B35: 1109 | C35: incut Crimps S | E35: S | F35: 12 | G35: 70 | Y35: =(H35+I35+J35+K35+M35+L35+N35+O35+P35+Q35+R35+S35+T35+U35+V35+W35+X35)*12 -> 0 | Z35: =(H35+I35+J35+K35+L35+M35+N35+O35+P35+Q35+R35+S35+T35)*G35+(U35+V35+W35+X35)*(G35*1.05) -> 0
B36: 1110 | C36: open Edges S | E36: S | F36: 10 | G36: 90 | Y36: =(H36+I36+J36+K36+M36+L36+N36+O36+P36+Q36+R36+S36+T36+U36+V36+W36+X36)*10 -> 0 | Z36: =(H36+I36+J36+K36+L36+M36+N36+O36+P36+Q36+R36+S36+T36)*G36+(U36+V36+W36+X36)*(G36*1.05) -> 0
B37: 1111 | C37: mini Crimps S-M | E37: S-M | F37: 12 | G37: 120 | Y37: =(H37+I37+J37+K37+M37+L37+N37+O37+P37+Q37+R37+S37+T37+U37+V37+W37+X37)*12 -> 0 | Z37: =(H37+I37+J37+K37+L37+M37+N37+O37+P37+Q37+R37+S37+T37)*G37+(U37+V37+W37+X37)*(G37*1.05) -> 0
B38: 1112 | C38: incut Crimps M | E38: M | F38: 20 | G38: 160 | Y38: =(H38+I38+J38+K38+M38+L38+N38+O38+P38+Q38+R38+S38+T38+U38+V38+W38+X38)*20 -> 0 | Z38: =(H38+I38+J38+K38+L38+M38+N38+O38+P38+Q38+R38+S38+T38)*G38+(U38+V38+W38+X38)*(G38*1.05) -> 0
B39: 1113 | C39: positiv Edges M | E39: M | F39: 4 | G39: 80 | Y39: =(H39+I39+J39+K39+M39+L39+N39+O39+P39+Q39+R39+S39+T39+U39+V39+W39+X39)*4 -> 0 | Z39: =(H39+I39+J39+K39+L39+M39+N39+O39+P39+Q39+R39+S39+T39)*G39+(U39+V39+W39+X39)*(G39*1.05) -> 0
B40: 1114 | C40: open Edges M | E40: M | F40: 10 | G40: 170 | Y40: =(H40+I40+J40+K40+M40+L40+N40+O40+P40+Q40+R40+S40+T40+U40+V40+W40+X40)*10 -> 0 | Z40: =(H40+I40+J40+K40+L40+M40+N40+O40+P40+Q40+R40+S40+T40)*G40+(U40+V40+W40+X40)*(G40*1.05) -> 0
B41: 1115 | C41: incut Edges L | E41: L | F41: 8 | G41: 160 | Y41: =(H41+I41+J41+K41+M41+L41+N41+O41+P41+Q41+R41+S41+T41+U41+V41+W41+X41)*8 -> 0 | Z41: =(H41+I41+J41+K41+L41+M41+N41+O41+P41+Q41+R41+S41+T41)*G41+(U41+V41+W41+X41)*(G41*1.05) -> 0
B42: 1116 | C42: incut Plates L | E42: L | F42: 6 | G42: 140 | Y42: =(H42+I42+J42+K42+M42+L42+N42+O42+P42+Q42+R42+S42+T42+U42+V42+W42+X42)*6 -> 0 | Z42: =(H42+I42+J42+K42+L42+M42+N42+O42+P42+Q42+R42+S42+T42)*G42+(U42+V42+W42+X42)*(G42*1.05) -> 0
B43: 1117 | C43: slopy-incut Edges L | E43: L | F43: 6 | G43: 160 | Y43: =(H43+I43+J43+K43+M43+L43+N43+O43+P43+Q43+R43+S43+T43+U43+V43+W43+X43)*6 -> 0 | Z43: =(H43+I43+J43+K43+L43+M43+N43+O43+P43+Q43+R43+S43+T43)*G43+(U43+V43+W43+X43)*(G43*1.05) -> 0
B44: 1118 | C44: Slopers L-XL | E44: L-XL | F44: 4 | G44: 220 | Y44: =(H44+I44+J44+K44+M44+L44+N44+O44+P44+Q44+R44+S44+T44+U44+V44+W44+X44)*4 -> 0 | Z44: =(H44+I44+J44+K44+L44+M44+N44+O44+P44+Q44+R44+S44+T44)*G44+(U44+V44+W44+X44)*(G44*1.05) -> 0
B45: 1119 | C45: big Edges XL | E45: XL | F45: 4 | G45: 150 | Y45: =(H45+I45+J45+K45+M45+L45+N45+O45+P45+Q45+R45+S45+T45+U45+V45+W45+X45)*4 -> 0 | Z45: =(H45+I45+J45+K45+L45+M45+N45+O45+P45+Q45+R45+S45+T45)*G45+(U45+V45+W45+X45)*(G45*1.05) -> 0
B46: 1120 | C46: Edges XXL | E46: XXL | F46: 2 | G46: 150 | Y46: =(H46+I46+J46+K46+M46+L46+N46+O46+P46+Q46+R46+S46+T46+U46+V46+W46+X46)*2 -> 0 | Z46: =(H46+I46+J46+K46+L46+M46+N46+O46+P46+Q46+R46+S46+T46)*G46+(U46+V46+W46+X46)*(G46*1.05) -> 0
B47: 1121 | C47: positiv Slopers XXL | E47: XXL | F47: 2 | G47: 150 | Y47: =(H47+I47+J47+K47+M47+L47+N47+O47+P47+Q47+R47+S47+T47+U47+V47+W47+X47)*2 -> 0 | Z47: =(H47+I47+J47+K47+L47+M47+N47+O47+P47+Q47+R47+S47+T47)*G47+(U47+V47+W47+X47)*(G47*1.05) -> 0
B48: 1122 | C48: Coasts Full Set | E48: XS-XXL | F48: =SUM(F27:F47) -> 184 | G48: 2900 | Y48: =(H48+I48+J48+K48+M48+L48+N48+O48+P48+Q48+R48+S48+T48+U48+V48+W48+X48)*184 -> 0 | Z48: =(H48+I48+J48+K48+L48+M48+N48+O48+P48+Q48+R48+S48+T48)*G48+(U48+V48+W48+X48)*(G48*1.05) -> 0
B50: CANDLES PE
B51: 1201 | C51: Spax XS | E51: XS | F51: 16 | G51: 100 | Y51: =(H51+I51+J51+K51+M51+L51+N51+O51+P51+Q51+R51+S51+T51+U51+V51+W51+X51)*16 -> 0 | Z51: =(H51+I51+J51+K51+L51+M51+N51+O51+P51+Q51+R51+S51+T51)*G51+(U51+V51+W51+X51)*(G51*1.05) -> 0
B52: 1202 | C52: Spax S | E52: S | F52: 10 | G52: 120 | Y52: =(H52+I52+J52+K52+M52+L52+N52+O52+P52+Q52+R52+S52+T52+U52+V52+W52+X52)*10 -> 0 | Z52: =(H52+I52+J52+K52+L52+M52+N52+O52+P52+Q52+R52+S52+T52)*G52+(U52+V52+W52+X52)*(G52*1.05) -> 0
B54: ECHOES PE Dual-Texture
B55: 1401 | C55: Footholds S | D55: NEW | E55: S | F55: 16 | G55: 100 | Y55: =(H55+I55+J55+K55+M55+L55+N55+O55+P55+Q55+R55+S55+T55+U55+V55+W55+X55)*16 -> 0 | Z55: =(H55+I55+J55+K55+L55+M55+N55+O55+P55+Q55+R55+S55+T55)*G55+(U55+V55+W55+X55)*(G55*1.05) -> 0
B56: 1402 | C56: Footholds / Sloper M-L | D56: NEW | E56: M-L | F56: 8 | G56: 140 | Y56: =(H56+I56+J56+K56+M56+L56+N56+O56+P56+Q56+R56+S56+T56+U56+V56+W56+X56)*8 -> 0 | Z56: =(H56+I56+J56+K56+L56+M56+N56+O56+P56+Q56+R56+S56+T56)*G56+(U56+V56+W56+X56)*(G56*1.05) -> 0
B57: 1403 | C57: Jugs M | D57: NEW | E57: M | F57: 8 | G57: 130 | Y57: =(H57+I57+J57+K57+M57+L57+N57+O57+P57+Q57+R57+S57+T57+U57+V57+W57+X57)*8 -> 0 | Z57: =(H57+I57+J57+K57+L57+M57+N57+O57+P57+Q57+R57+S57+T57)*G57+(U57+V57+W57+X57)*(G57*1.05) -> 0
B58: 1404 | C58: Jugs L-XL | D58: NEW | E58: L-XL | F58: 6 | G58: 220 | Y58: =(H58+I58+J58+K58+M58+L58+N58+O58+P58+Q58+R58+S58+T58+U58+V58+W58+X58)*6 -> 0 | Z58: =(H58+I58+J58+K58+L58+M58+N58+O58+P58+Q58+R58+S58+T58)*G58+(U58+V58+W58+X58)*(G58*1.05) -> 0
B59: 1405 | C59: Jugs XXL | D59: NEW | E59: XXL | F59: 4 | G59: 350 | Y59: =(H59+I59+J59+K59+M59+L59+N59+O59+P59+Q59+R59+S59+T59+U59+V59+W59+X59)*4 -> 0 | Z59: =(H59+I59+J59+K59+L59+M59+N59+O59+P59+Q59+R59+S59+T59)*G59+(U59+V59+W59+X59)*(G59*1.05) -> 0
B60: 1406 | C60: incut Edges S-L | D60: NEW | E60: S-L | F60: 10 | G60: 130 | Y60: =(H60+I60+J60+K60+M60+L60+N60+O60+P60+Q60+R60+S60+T60+U60+V60+W60+X60)*10 -> 0 | Z60: =(H60+I60+J60+K60+L60+M60+N60+O60+P60+Q60+R60+S60+T60)*G60+(U60+V60+W60+X60)*(G60*1.05) -> 0
B61: 1407 | C61: Pockets L | D61: NEW | E61: L | F61: 4 | G61: 100 | Y61: =(H61+I61+J61+K61+M61+L61+N61+O61+P61+Q61+R61+S61+T61+U61+V61+W61+X61)*4 -> 0 | Z61: =(H61+I61+J61+K61+L61+M61+N61+O61+P61+Q61+R61+S61+T61)*G61+(U61+V61+W61+X61)*(G61*1.05) -> 0
B62: 1408 | C62: Pockets XL-XXL | D62: NEW | E62: XL-XXL | F62: 4 | G62: 230 | Y62: =(H62+I62+J62+K62+M62+L62+N62+O62+P62+Q62+R62+S62+T62+U62+V62+W62+X62)*4 -> 0 | Z62: =(H62+I62+J62+K62+L62+M62+N62+O62+P62+Q62+R62+S62+T62)*G62+(U62+V62+W62+X62)*(G62*1.05) -> 0
B63: 1409 | C63: Full Set | D63: NEW | E63: S-XXL | F63: =F55+F56+F57+F58+F59+F60+F61+F62 -> 60 | G63: 1400 | Y63: =(H63+I63+J63+K63+M63+L63+N63+O63+P63+Q63+R63+S63+T63+U63+V63+W63+X63)*60 -> 0 | Z63: =(H63+I63+J63+K63+L63+M63+N63+O63+P63+Q63+R63+S63+T63)*G63+(U63+V63+W63+X63)*(G63*1.05) -> 0
H66: RAL 9001* | I66: RAL 9004* | J66: RAL 5015* | K66: RAL 3020* | L66: RAL 1023* | M66: RAL 6037* | N66: RAL 2011* | O66: RAL 8003* | P66: NCS 4050-R60B* | Q66: RAL 4008* | R66: RAL 6027* | S66: RAL 7038* | T66: RAL 7037* | U66: RAL 4003* | V66: RAL 2008* | W66: RAL 6018* | X66: RAL 1026*
E67: Total Holds per color | H67: =(H10*20)+(H11*8)+(H12*8)+(H13*6)+(H14*4)+(H15*2)+(H16*8)+(H17*6)+(H18*2)+(H19*2)+(H20*10)+(H21*12)+(H22*10)+(H23*4)+(H24*102)+(H27*24)+(H28*16)+(H29*10)+(H30*10)+(H31*6)+(H32*4)+(H33*2)+(H34*12)+(H35*12)+(H36*10)+(H37*12)+(H38*20)+(H39*4)+(H40*10)+(H41*8)+(H42*6)+(H43*6)+(H44*4)+(H45*4)+(H46*2)+(H47*2)+(H48*184)+(H51*16)+(H52*10)+(H55*16)+(H56*8)+(H57*8)+(H58*6)+(H59*4)+(H60*10)+(H61*4)+(H62*4)+(H63*60) -> 0 | I67: =(I10*20)+(I11*8)+(I12*8)+(I13*6)+(I14*4)+(I15*2)+(I16*8)+(I17*6)+(I18*2)+(I19*2)+(I20*10)+(I21*12)+(I22*10)+(I23*4)+(I24*102)+(I27*24)+(I28*16)+(I29*10)+(I30*10)+(I31*6)+(I32*4)+(I33*2)+(I34*12)+(I35*12)+(I36*10)+(I37*12)+(I38*20)+(I39*4)+(I40*10)+(I41*8)+(I42*6)+(I43*6)+(I44*4)+(I45*4)+(I46*2)+(I47*2)+(I48*184)+(I51*16)+(I52*10)+(I55*16)+(I56*8)+(I57*8)+(I58*6)+(I59*4)+(I60*10)+(I61*4)+(I62*4)+(I63*60) -> 0 | J67: =(J10*20)+(J11*8)+(J12*8)+(J13*6)+(J14*4)+(J15*2)+(J16*8)+(J17*6)+(J18*2)+(J19*2)+(J20*10)+(J21*12)+(J22*10)+(J23*4)+(J24*102)+(J27*24)+(J28*16)+(J29*10)+(J30*10)+(J31*6)+(J32*4)+(J33*2)+(J34*12)+(J35*12)+(J36*10)+(J37*12)+(J38*20)+(J39*4)+(J40*10)+(J41*8)+(J42*6)+(J43*6)+(J44*4)+(J45*4)+(J46*2)+(J47*2)+(J48*184)+(J51*16)+(J52*10)+(J55*16)+(J56*8)+(J57*8)+(J58*6)+(J59*4)+(J60*10)+(J61*4)+(J62*4)+(J63*60) -> 0 | K67: =(K10*20)+(K11*8)+(K12*8)+(K13*6)+(K14*4)+(K15*2)+(K16*8)+(K17*6)+(K18*2)+(K19*2)+(K20*10)+(K21*12)+(K22*10)+(K23*4)+(K24*102)+(K27*24)+(K28*16)+(K29*10)+(K30*10)+(K31*6)+(K32*4)+(K33*2)+(K34*12)+(K35*12)+(K36*10)+(K37*12)+(K38*20)+(K39*4)+(K40*10)+(K41*8)+(K42*6)+(K43*6)+(K44*4)+(K45*4)+(K46*2)+(K47*2)+(K48*184)+(K51*16)+(K52*10)+(K55*16)+(K56*8)+(K57*8)+(K58*6)+(K59*4)+(K60*10)+(K61*4)+(K62*4)+(K63*60) -> 0 | L67: =(L10*20)+(L11*8)+(L12*8)+(L13*6)+(L14*4)+(L15*2)+(L16*8)+(L17*6)+(L18*2)+(L19*2)+(L20*10)+(L21*12)+(L22*10)+(L23*4)+(L24*102)+(L27*24)+(L28*16)+(L29*10)+(L30*10)+(L31*6)+(L32*4)+(L33*2)+(L34*12)+(L35*12)+(L36*10)+(L37*12)+(L38*20)+(L39*4)+(L40*10)+(L41*8)+(L42*6)+(L43*6)+(L44*4)+(L45*4)+(L46*2)+(L47*2)+(L48*184)+(L51*16)+(L52*10)+(L55*16)+(L56*8)+(L57*8)+(L58*6)+(L59*4)+(L60*10)+(L61*4)+(L62*4)+(L63*60) -> 0 | M67: =(M10*20)+(M11*8)+(M12*8)+(M13*6)+(M14*4)+(M15*2)+(M16*8)+(M17*6)+(M18*2)+(M19*2)+(M20*10)+(M21*12)+(M22*10)+(M23*4)+(M24*102)+(M27*24)+(M28*16)+(M29*10)+(M30*10)+(M31*6)+(M32*4)+(M33*2)+(M34*12)+(M35*12)+(M36*10)+(M37*12)+(M38*20)+(M39*4)+(M40*10)+(M41*8)+(M42*6)+(M43*6)+(M44*4)+(M45*4)+(M46*2)+(M47*2)+(M48*184)+(M51*16)+(M52*10)+(M55*16)+(M56*8)+(M57*8)+(M58*6)+(M59*4)+(M60*10)+(M61*4)+(M62*4)+(M63*60) -> 0 | N67: =(N10*20)+(N11*8)+(N12*8)+(N13*6)+(N14*4)+(N15*2)+(N16*8)+(N17*6)+(N18*2)+(N19*2)+(N20*10)+(N21*12)+(N22*10)+(N23*4)+(N24*102)+(N27*24)+(N28*16)+(N29*10)+(N30*10)+(N31*6)+(N32*4)+(N33*2)+(N34*12)+(N35*12)+(N36*10)+(N37*12)+(N38*20)+(N39*4)+(N40*10)+(N41*8)+(N42*6)+(N43*6)+(N44*4)+(N45*4)+(N46*2)+(N47*2)+(N48*184)+(N51*16)+(N52*10)+(N55*16)+(N56*8)+(N57*8)+(N58*6)+(N59*4)+(N60*10)+(N61*4)+(N62*4)+(N63*60) -> 0 | O67: =(O10*20)+(O11*8)+(O12*8)+(O13*6)+(O14*4)+(O15*2)+(O16*8)+(O17*6)+(O18*2)+(O19*2)+(O20*10)+(O21*12)+(O22*10)+(O23*4)+(O24*102)+(O27*24)+(O28*16)+(O29*10)+(O30*10)+(O31*6)+(O32*4)+(O33*2)+(O34*12)+(O35*12)+(O36*10)+(O37*12)+(O38*20)+(O39*4)+(O40*10)+(O41*8)+(O42*6)+(O43*6)+(O44*4)+(O45*4)+(O46*2)+(O47*2)+(O48*184)+(O51*16)+(O52*10)+(O55*16)+(O56*8)+(O57*8)+(O58*6)+(O59*4)+(O60*10)+(O61*4)+(O62*4)+(O63*60) -> 0 | ... X67: =(X10*20)+(X11*8)+(X12*8)+(X13*6)+(X14*4)+(X15*2)+(X16*8)+(X17*6)+(X18*2)+(X19*2)+(X20*10)+(X21*12)+(X22*10)+(X23*4)+(X24*102)+(X27*24)+(X28*16)+(X29*10)+(X30*10)+(X31*6)+(X32*4)+(X33*2)+(X34*12)+(X35*12)+(X36*10)+(X37*12)+(X38*20)+(X39*4)+(X40*10)+(X41*8)+(X42*6)+(X43*6)+(X44*4)+(X45*4)+(X46*2)+(X47*2)+(X48*184)+(X51*16)+(X52*10)+(X55*16)+(X56*8)+(X57*8)+(X58*6)+(X59*4)+(X60*10)+(X61*4)+(X62*4)+(X63*60) -> 0
E68: Total Sets per color | H68: =H10+H11+H12+H13+H14+H15+H16+H17+H18+H19+H20+H21+H22+H23+(H24*14)+H27+H28+H29+H30+H31+H32+H33+H34+H35+H36+H37+H38+H39+H40+H41+H42+H43+H44+H45+H46+H47+(H48*21)+H51+H52+H55+H56+H57+H58+H59+H60+H61+H62+(H63*8) -> 0 | I68: =I10+I11+I12+I13+I14+I15+I16+I17+I18+I19+I20+I21+I22+I23+(I24*14)+I27+I28+I29+I30+I31+I32+I33+I34+I35+I36+I37+I38+I39+I40+I41+I42+I43+I44+I45+I46+I47+(I48*21)+I51+I52+I55+I56+I57+I58+I59+I60+I61+I62+(I63*8) -> 0 | J68: =J10+J11+J12+J13+J14+J15+J16+J17+J18+J19+J20+J21+J22+J23+(J24*14)+J27+J28+J29+J30+J31+J32+J33+J34+J35+J36+J37+J38+J39+J40+J41+J42+J43+J44+J45+J46+J47+(J48*21)+J51+J52+J55+J56+J57+J58+J59+J60+J61+J62+(J63*8) -> 0 | K68: =K10+K11+K12+K13+K14+K15+K16+K17+K18+K19+K20+K21+K22+K23+(K24*14)+K27+K28+K29+K30+K31+K32+K33+K34+K35+K36+K37+K38+K39+K40+K41+K42+K43+K44+K45+K46+K47+(K48*21)+K51+K52+K55+K56+K57+K58+K59+K60+K61+K62+(K63*8) -> 0 | L68: =L10+L11+L12+L13+L14+L15+L16+L17+L18+L19+L20+L21+L22+L23+(L24*14)+L27+L28+L29+L30+L31+L32+L33+L34+L35+L36+L37+L38+L39+L40+L41+L42+L43+L44+L45+L46+L47+(L48*21)+L51+L52+L55+L56+L57+L58+L59+L60+L61+L62+(L63*8) -> 0 | M68: =M10+M11+M12+M13+M14+M15+M16+M17+M18+M19+M20+M21+M22+M23+(M24*14)+M27+M28+M29+M30+M31+M32+M33+M34+M35+M36+M37+M38+M39+M40+M41+M42+M43+M44+M45+M46+M47+(M48*21)+M51+M52+M55+M56+M57+M58+M59+M60+M61+M62+(M63*8) -> 0 | N68: =N10+N11+N12+N13+N14+N15+N16+N17+N18+N19+N20+N21+N22+N23+(N24*14)+N27+N28+N29+N30+N31+N32+N33+N34+N35+N36+N37+N38+N39+N40+N41+N42+N43+N44+N45+N46+N47+(N48*21)+N51+N52+N55+N56+N57+N58+N59+N60+N61+N62+(N63*8) -> 0 | O68: =O10+O11+O12+O13+O14+O15+O16+O17+O18+O19+O20+O21+O22+O23+(O24*14)+O27+O28+O29+O30+O31+O32+O33+O34+O35+O36+O37+O38+O39+O40+O41+O42+O43+O44+O45+O46+O47+(O48*21)+O51+O52+O55+O56+O57+O58+O59+O60+O61+O62+(O63*8) -> 0 | ... X68: =X10+X11+X12+X13+X14+X15+X16+X17+X18+X19+X20+X21+X22+X23+(X24*14)+X27+X28+X29+X30+X31+X32+X33+X34+X35+X36+X37+X38+X39+X40+X41+X42+X43+X44+X45+X46+X47+(X48*21)+X51+X52+X55+X56+X57+X58+X59+X60+X61+X62+(X63*8) -> 0
H69: *All color specifications (RAL and NCS) are best possible approximations. Slight deviations can not be excluded.
E72: Screw length M10 (mm) | H72: 40 | I72: 50 | J72: 60 | K72: 70 | L72: 80 | M72: 90 | N72: 100 | O72: 110 | P72: 120 | Q72: 130 | R72: 140 | S72: 150 | T72: 160 | U72: 170 | V72: 180 | W72: 190
E73: needed Bolts | H73: =(Y10/20*16)+(Y11*0)+(Y12*0)+(Y13*0)+(Y14*0)+(Y15*0)+(Y16*0)+(Y17*0)+(Y18*0)+(Y19*0)+(Y20*0)+(Y21*1)+(Y22*0)+(Y23*0)+(Y24/102*28)+(Y27*0)+(Y28*1)+(Y29*1)+(Y30*0)+(Y31*0)+(Y32*0)+(Y33*0)+(Y34*1)+(Y35*1)+(Y36*1)+(Y37/12*5)+(Y38*1)+(Y39*0)+(Y40*0)+(Y41*0)+(Y42*0)+(Y43*0)+(Y44*0)+(Y45*0)+(Y46*0)+(Y47*0)+(Y48/184*85)+(Y55/16*16)+(Y56*0)+(Y57*0)+(Y58*0)+(Y59*0)+(Y60*0)+(Y61*0)+(Y62*0)+(Y63/60*16) -> 0 | I73: =(Y10*0)+(Y11*1)+(Y12*1)+(Y13*0)+(Y14*0)+(Y15*0)+(Y16*0)+(Y17*0)+(Y18*0)+(Y19*0)+(Y20*1)+(Y21*0)+(Y22*1)+(Y23*0)+(Y24/102*36)+(Y27*0)+(Y28*0)+(Y29*0)+(Y30/10*1)+(Y31*0)+(Y32*0)+(Y33*0)+(Y34*0)+(Y35*0)+(Y36*0)+(Y37*0)+(Y38*0)+(Y39*1)+(Y40*1)+(Y41*1)+(Y42*1)+(Y43*0)+(Y44*0)+(Y45*0)+(Y46*0)+(Y47*0)+(Y48/184*29)+(Y55*0)+(Y56/8*2)+(Y57/8*7)+(Y58/6*1)+(Y59*0)+(Y60/10*10)+(Y61/4*4)+(Y62*0)+(Y63/60*24) -> 0 | J73: =(Y10*0)+(Y11*0)+(Y12*0)+(Y13*1)+(Y14*1)+(Y15*1)+(Y16*0)+(Y17*0)+(Y18*0)+(Y19*0)+(Y20*0)+(Y21*0)+(Y22*0)+(Y23*0)+(Y24/102*12)+(Y27*0)+(Y28*0)+(Y29*0)+(Y30/10*9)+(Y31/6*2)+(Y32*0)+(Y33*0)+(Y34*0)+(Y35*0)+(Y36*0)+(Y37*0)+(Y38*0)+(Y39*0)+(Y40*0)+(Y41*0)+(Y42*0)+(Y43*0)+(Y44*0)+(Y45*1)+(Y46*0)+(Y47*0)+(Y48/184*15)+(Y55*0)+(Y56*0)+(Y57/8*1)+(Y58/6*2)+(Y59/4*1)+(Y60*0)+(Y61*0)+(Y62/4*2)+(Y63/60*6) -> 0 | K73: =(Y10*0)+(Y11*0)+(Y12*0)+(Y13*0)+(Y14*0)+(Y15*0)+(Y16*1)+(Y17*0)+(Y18*1)+(Y19*1)+(Y20*0)+(Y21*0)+(Y22*0)+(Y23*0)+(Y24/102*12)+(Y27*0)+(Y28*0)+(Y29*0)+(Y30*0)+(Y31/6*4)+(Y32*0)+(Y33*0)+(Y34*0)+(Y35*0)+(Y36*0)+(Y37*0)+(Y38*0)+(Y39*0)+(Y40*0)+(Y41*0)+(Y42*0)+(Y43*1)+(Y44*0)+(Y45*0)+(Y46*1)+(Y47*0)+(Y48/184*12)+(Y55*0)+(Y56/8*4)+(Y57*0)+(Y58*0)+(Y59*0)+(Y60*0)+(Y61*0)+(Y62/4*1)+(Y63/60*5) -> 0 | L73: =(Y10*0)+(Y11*0)+(Y12*0)+(Y13*0)+(Y14*0)+(Y15*0)+(Y16*0)+(Y17*0)+(Y18*0)+(Y19*0)+(Y20*0)+(Y21*0)+(Y22*0)+(Y23*1)+(Y24/102*4)+(Y27*0)+(Y28*0)+(Y29*0)+(Y30*0)+(Y31*0)+(Y32*1)+(Y33*1)+(Y34*0)+(Y35*0)+(Y36*0)+(Y37*0)+(Y38*0)+(Y39*0)+(Y40*0)+(Y41*0)+(Y42*0)+(Y43*0)+(Y44/4*1)+(Y45*0)+(Y46*0)+(Y47*0)+(Y48/184*7)+(Y55*0)+(Y56/8*2)+(Y57*0)+(Y58/6*3)+(Y59/4*3)+(Y60*0)+(Y61*0)+(Y62/4*1)+(Y63/60*9) -> 0 | M73: =(Y10*0)+(Y11*0)+(Y12*0)+(Y13*0)+(Y14*0)+(Y15*0)+(Y16*0)+(Y17*1)+(Y18*0)+(Y19*0)+(Y20*0)+(Y21*0)+(Y22*0)+(Y23*0)+(Y24/102*6)+(Y27*0)+(Y28*0)+(Y29*0)+(Y30*0)+(Y31*0)+(Y32*0)+(Y33*0)+(Y34*0)+(Y35*0)+(Y36*0)+(Y37*0)+(Y38*0)+(Y39*0)+(Y40*0)+(Y41*0)+(Y42*0)+(Y43*0)+(Y44*0)+(Y45*0)+(Y46*0)+(Y47*0)+(Y48*0) -> 0 | N73: =(Y10*0)+(Y11*0)+(Y12*0)+(Y13*0)+(Y14*0)+(Y15*0)+(Y16*0)+(Y17*0)+(Y18*0)+(Y19*0)+(Y20*0)+(Y21*0)+(Y22*0)+(Y23*0)+(Y24*0)+(Y27*0)+(Y28*0)+(Y29*0)+(Y30*0)+(Y31*0)+(Y32*0)+(Y33*0)+(Y34*0)+(Y35*0)+(Y36*0)+(Y37*0)+(Y38*0)+(Y39*0)+(Y40*0)+(Y41*0)+(Y42*0)+(Y43*0)+(Y44/4*3)+(Y45*0)+(Y46*0)+(Y47*1)+(Y48/184*5) -> 0 | O73: =(Y10*0)+(Y11*0)+(Y12*0)+(Y13*0)+(Y14*0)+(Y15*0)+(Y16*0)+(Y17*0)+(Y18*0)+(Y19*0)+(Y20*0)+(Y21*0)+(Y22*0)+(Y23*0)+(Y24*0)+(Y27*0)+(Y28*0)+(Y29*0)+(Y30*0)+(Y31*0)+(Y32*0)+(Y33*0)+(Y34*0)+(Y35*0)+(Y36*0)+(Y37*0)+(Y38*0)+(Y39*0)+(Y40*0)+(Y41*0)+(Y42*0)+(Y43*0)+(Y44*0)+(Y45*0)+(Y46*0)+(Y47*0)+(Y48*0) -> 0 | P73: =(Y10*0)+(Y11*0)+(Y12*0)+(Y13*0)+(Y14*0)+(Y15*0)+(Y16*0)+(Y17*0)+(Y18*0)+(Y19*0)+(Y20*0)+(Y21*0)+(Y22*0)+(Y23*0)+(Y24*0)+(Y27*0)+(Y28*0)+(Y29*0)+(Y30*0)+(Y31*0)+(Y32*0)+(Y33*0)+(Y34*0)+(Y35*0)+(Y36*0)+(Y37*0)+(Y38*0)+(Y39*0)+(Y40*0)+(Y41*0)+(Y42*0)+(Y43*0)+(Y44*0)+(Y45*0)+(Y46*0)+(Y47*0)+(Y48*0) -> 0 | Q73: =(Y10*0)+(Y11*0)+(Y12*0)+(Y13*0)+(Y14*0)+(Y15*0)+(Y16*0)+(Y17*0)+(Y18*0)+(Y19*0)+(Y20*0)+(Y21*0)+(Y22*0)+(Y23*0)+(Y24*0)+(Y27*0)+(Y28*0)+(Y29*0)+(Y30*0)+(Y31*0)+(Y32*0)+(Y33*0)+(Y34*0)+(Y35*0)+(Y36*0)+(Y37*0)+(Y38*0)+(Y39*0)+(Y40*0)+(Y41*0)+(Y42*0)+(Y43*0)+(Y44*0)+(Y45*0)+(Y46*0)+(Y47*0)+(Y48*0) -> 0 | R73: =(Y10*0)+(Y11*0)+(Y12*0)+(Y13*0)+(Y14*0)+(Y15*0)+(Y16*0)+(Y17*0)+(Y18*0)+(Y19*0)+(Y20*0)+(Y21*0)+(Y22*0)+(Y23*0)+(Y24*0)+(Y27*0)+(Y28*0)+(Y29*0)+(Y30*0)+(Y31*0)+(Y32*0)+(Y33*0)+(Y34*0)+(Y35*0)+(Y36*0)+(Y37*0)+(Y38*0)+(Y39*0)+(Y40*0)+(Y41*0)+(Y42*0)+(Y43*0)+(Y44*0)+(Y45*0)+(Y46*0)+(Y47*0)+(Y48*0) -> 0 | S73: =(Y10*0)+(Y11*0)+(Y12*0)+(Y13*0)+(Y14*0)+(Y15*0)+(Y16*0)+(Y17*0)+(Y18*0)+(Y19*0)+(Y20*0)+(Y21*0)+(Y22*0)+(Y23*0)+(Y24*0)+(Y27*0)+(Y28*0)+(Y29*0)+(Y30*0)+(Y31*0)+(Y32*0)+(Y33*0)+(Y34*0)+(Y35*0)+(Y36*0)+(Y37*0)+(Y38*0)+(Y39*0)+(Y40*0)+(Y41*0)+(Y42*0)+(Y43*0)+(Y44*0)+(Y45*0)+(Y46*0)+(Y47*0)+(Y48*0) -> 0 | T73: =(Y10*0)+(Y11*0)+(Y12*0)+(Y13*0)+(Y14*0)+(Y15*0)+(Y16*0)+(Y17*0)+(Y18*0)+(Y19*0)+(Y20*0)+(Y21*0)+(Y22*0)+(Y23*0)+(Y24*0)+(Y27*0)+(Y28*0)+(Y29*0)+(Y30*0)+(Y31*0)+(Y32*0)+(Y33*0)+(Y34*0)+(Y35*0)+(Y36*0)+(Y37*0)+(Y38*0)+(Y39*0)+(Y40*0)+(Y41*0)+(Y42*0)+(Y43*0)+(Y44*0)+(Y45*0)+(Y46*0)+(Y47*0)+(Y48*0) -> 0 | U73: =(Y10*0)+(Y11*0)+(Y12*0)+(Y13*0)+(Y14*0)+(Y15*0)+(Y16*0)+(Y17*0)+(Y18*0)+(Y19*0)+(Y20*0)+(Y21*0)+(Y22*0)+(Y23*0)+(Y24*0)+(Y27*0)+(Y28*0)+(Y29*0)+(Y30*0)+(Y31*0)+(Y32*0)+(Y33*0)+(Y34*0)+(Y35*0)+(Y36*0)+(Y37*0)+(Y38*0)+(Y39*0)+(Y40*0)+(Y41*0)+(Y42*0)+(Y43*0)+(Y44*0)+(Y45*0)+(Y46*0)+(Y47*0)+(Y48*0) -> 0 | V73: =(Y10*0)+(Y11*0)+(Y12*0)+(Y13*0)+(Y14*0)+(Y15*0)+(Y16*0)+(Y17*0)+(Y18*0)+(Y19*0)+(Y20*0)+(Y21*0)+(Y22*0)+(Y23*0)+(Y24*0)+(Y27*0)+(Y28*0)+(Y29*0)+(Y30*0)+(Y31*0)+(Y32*0)+(Y33*0)+(Y34*0)+(Y35*0)+(Y36*0)+(Y37*0)+(Y38*0)+(Y39*0)+(Y40*0)+(Y41*0)+(Y42*0)+(Y43*0)+(Y44*0)+(Y45*0)+(Y46*0)+(Y47*0)+(Y48*0) -> 0 | W73: =(Y10*0)+(Y11*0)+(Y12*0)+(Y13*0)+(Y14*0)+(Y15*0)+(Y16*0)+(Y17*0)+(Y18*0)+(Y19*0)+(Y20*0)+(Y21*0)+(Y22*0)+(Y23*0)+(Y24*0)+(Y27*0)+(Y28*0)+(Y29*0)+(Y30*0)+(Y31*0)+(Y32*0)+(Y33*0)+(Y34*0)+(Y35*0)+(Y36*0)+(Y37*0)+(Y38*0)+(Y39*0)+(Y40*0)+(Y41*0)+(Y42*0)+(Y43*0)+(Y44*0)+(Y45*0)+(Y46*0)+(Y47*0)+(Y48*0) -> 0
E75: needed Spax | H75: =(Y10/20*26)+(Y11*2)+(Y12*2)+(Y13*2)+(Y14*3)+(Y15*3)+(Y16*2)+(Y17*2)+(Y18*3)+(Y19*3)+(Y20*2)+(Y21*2)+(Y22*2)+(Y23/4*9)+(Y24/102*201)+(Y27*2)+(Y28/16*12)+(Y29*1)+(Y30*3)+(Y31*3)+(Y32*3)+(Y33*3)+(Y34*1)+(Y35*1)+(Y36*2)+(Y37/12*27)+(Y38*2)+(Y39*3)+(Y40*3)+(Y41*3)+(Y42*3)+(Y43*3)+(Y44*3)+(Y45*3)+(Y46*3)+(Y47*3)+(Y48/184*385)+(Y51*2)+(Y52*2)+(Y55*2)+(Y56/8*20)+(Y57*3)+(Y58*3)+(Y59/4*18)+(Y60*3)+(Y61/4*13)+(Y62*4)+(Y63/60*171) -> 0
E78: Total Holds | H78: =H67+I67+J67+K67+L67+M67+N67+O67+P67+Q67+R67+S67+T67+U67+V67+W67+X67 -> 0
E79: Total Sets | H79: =H68+I68+J68+K68+L68+M68+N68+O68+P68+Q68+R68+S68+T68+U68+V68+W68+X68 -> 0
E80: Total Price Holds | H80: =SUM(Z10:Z63) -> 0
H81: Prices without Taxes

Sheet PU Holds
V2: Total Holds | Z2: =H43+I43+J43+K43+L43+M43+N43 -> 0
J3: Date: | N3: =TODAY() -> 46282 | V3: Total Sets | Z3: =H44+I44+J44+K44+L44+M44+N44 -> 0
V4: Total Weight (kg) | Z4: =(Y10/8*0.25)+(Y11/8*0.25)+(Y12/8*0.5)+(Y13/6*0.8)+(Y14/4*0.4)+(Y15/5*0.45)+(Y16/41*2.65)+(Y17/24*0.35)+(Y18/10*0.3)+(Y19/18*1.3)+(Y20/7*2.15)+(Y21/7*1.9)+(Y22/66*6)+(Y23/107*8.65)+(Y26/6*3)+(Y27/6*3.5)+(Y28/4*4)+(Y29/2*3.3)+(Y30/8*1)+(Y31/10*2.4)+(Y32/8*2.9)+(Y33/5*2.7)+(Y34/6*2)+(Y35/3*1.9)+(Y36/3*1.8)+(Y37/2*2.4)+(Y38/2*2.05)+(Y39/4*3.7)+(Y40/69*36.65) -> 0
V5: Total Price | Z5: =H56 -> 0
R6: Prices without Taxes
O7: more PU colors coming soon
B8: Art.-No. | C8: Name | E8: Size | F8: Holds in Set | G8: Price | H8: White | I8: Black | J8: Blue | K8: Red | L8: Yellow | M8: Green | N8: Mint | O8: Brown | P8: Purple | Q8: Violet | R8: Mint | S8: Light Grey | T8: Dark Grey | U8: Pink Fluo | V8: Orange Fluo | W8: Green Fluo | X8: Yellow Fluo | Y8: Number of Holds | Z8: Price (without Taxes)
B9: COMBINATION PU
B10: 1301 | C10: Handholds Set 1 | E10: XS-S | F10: 8 | G10: 40 | Y10: =(H10+I10+J10+K10+M10+L10+N10+O10+P10+Q10+R10+S10+T10+U10+V10+W10+X10)*8 -> 0 | Z10: =(H10+I10+J10+K10+L10+M10+N10+O10+P10+Q10+R10+S10+T10)*G10+(U10+V10+W10+X10)*(G10*1.05) -> 0
B11: 1302 | C11: Handholds Set 2 | E11: XS-S | F11: 8 | G11: 40 | Y11: =(H11+I11+J11+K11+M11+L11+N11+O11+P11+Q11+R11+S11+T11+U11+V11+W11+X11)*8 -> 0 | Z11: =(H11+I11+J11+K11+L11+M11+N11+O11+P11+Q11+R11+S11+T11)*G11+(U11+V11+W11+X11)*(G11*1.05) -> 0
B12: 1303 | C12: Handholds Set 3 | E12: S | F12: 8 | G12: 60 | Y12: =(H12+I12+J12+K12+M12+L12+N12+O12+P12+Q12+R12+S12+T12+U12+V12+W12+X12)*8 -> 0 | Z12: =(H12+I12+J12+K12+L12+M12+N12+O12+P12+Q12+R12+S12+T12)*G12+(U12+V12+W12+X12)*(G12*1.05) -> 0
B13: 1304 | C13: Handholds Set 4 | E13: S | F13: 8 | G13: 90 | Y13: =(H13+I13+J13+K13+M13+L13+N13+O13+P13+Q13+R13+S13+T13+U13+V13+W13+X13)*8 -> 0 | Z13: =(H13+I13+J13+K13+L13+M13+N13+O13+P13+Q13+R13+S13+T13)*G13+(U13+V13+W13+X13)*(G13*1.05) -> 0
B14: 1305 | C14: Handholds Set 5 | E14: S | F14: 4 | G14: 40 | Y14: =(H14+I14+J14+K14+M14+L14+N14+O14+P14+Q14+R14+S14+T14+U14+V14+W14+X14)*4 -> 0 | Z14: =(H14+I14+J14+K14+L14+M14+N14+O14+P14+Q14+R14+S14+T14)*G14+(U14+V14+W14+X14)*(G14*1.05) -> 0
B15: 1306 | C15: Handholds Set 6 | E15: S | F15: 5 | G15: 50 | Y15: =(H15+I15+J15+K15+M15+L15+N15+O15+P15+Q15+R15+S15+T15+U15+V15+W15+X15)*5 -> 0 | Z15: =(H15+I15+J15+K15+L15+M15+N15+O15+P15+Q15+R15+S15+T15)*G15+(U15+V15+W15+X15)*(G15*1.05) -> 0
B16: 1307 | C16: Handholds Full Range | E16: XS-S | F16: 41 | G16: 310 | Y16: =(H16+I16+J16+K16+M16+L16+N16+O16+P16+Q16+R16+S16+T16+U16+V16+W16+X16)*41 -> 0 | Z16: =(H16+I16+J16+K16+L16+M16+N16+O16+P16+Q16+R16+S16+T16)*G16+(U16+V16+W16+X16)*(G16*1.05) -> 0
B17: 1308 | C17: Footholds Set 1 | E17: XXS-XS | F17: 24 | G17: 90 | Y17: =(H17+I17+J17+K17+M17+L17+N17+O17+P17+Q17+R17+S17+T17+U17+V17+W17+X17)*24 -> 0 | Z17: =(H17+I17+J17+K17+L17+M17+N17+O17+P17+Q17+R17+S17+T17)*G17+(U17+V17+W17+X17)*(G17*1.05) -> 0
B18: 1309 | C18: Footholds Set 2 | E18: XS-S | F18: 10 | G18: 50 | Y18: =(H18+I18+J18+K18+M18+L18+N18+O18+P18+Q18+R18+S18+T18+U18+V18+W18+X18)*10 -> 0 | Z18: =(H18+I18+J18+K18+L18+M18+N18+O18+P18+Q18+R18+S18+T18)*G18+(U18+V18+W18+X18)*(G18*1.05) -> 0
B19: 1310 | C19: Footholds Set 3 | E19: XS | F19: 18 | G19: 150 | Y19: =(H19+I19+J19+K19+M19+L19+N19+O19+P19+Q19+R19+S19+T19+U19+V19+W19+X19)*18 -> 0 | Z19: =(H19+I19+J19+K19+L19+M19+N19+O19+P19+Q19+R19+S19+T19)*G19+(U19+V19+W19+X19)*(G19*1.05) -> 0
B20: 1311 | C20: Footholds Set 4 | E20: M-L | F20: 7 | G20: 220 | Y20: =(H20+I20+J20+K20+M20+L20+N20+O20+P20+Q20+R20+S20+T20+U20+V20+W20+X20)*7 -> 0 | Z20: =(H20+I20+J20+K20+L20+M20+N20+O20+P20+Q20+R20+S20+T20)*G20+(U20+V20+W20+X20)*(G20*1.05) -> 0
B21: 1312 | C21: Footholds Set 5 | E21: M-L | F21: 7 | G21: 200 | Y21: =(H21+I21+J21+K21+M21+L21+N21+O21+P21+Q21+R21+S21+T21+U21+V21+W21+X21)*7 -> 0 | Z21: =(H21+I21+J21+K21+L21+M21+N21+O21+P21+Q21+R21+S21+T21)*G21+(U21+V21+W21+X21)*(G21*1.05) -> 0
B22: 1313 | C22: Footholds Full Range | E22: XXS-L | F22: 66 | G22: 710 | Y22: =(H22+I22+J22+K22+M22+L22+N22+O22+P22+Q22+R22+S22+T22+U22+V22+W22+X22)*66 -> 0 | Z22: =(H22+I22+J22+K22+L22+M22+N22+O22+P22+Q22+R22+S22+T22)*G22+(U22+V22+W22+X22)*(G22*1.05) -> 0
B23: 1314 | C23: Combination PU Full Range | E23: XXS-L | F23: 107 | G23: 1000 | Y23: =(H23+I23+J23+K23+M23+L23+N23+O23+P23+Q23+R23+S23+T23+U23+V23+W23+X23)*107 -> 0 | Z23: =(H23+I23+J23+K23+L23+M23+N23+O23+P23+Q23+R23+S23+T23)*G23+(U23+V23+W23+X23)*(G23*1.05) -> 0
B25: CANDLES PU
B26: 1203 | C26: Jugs M | E26: M | F26: 6 | G26: 240 | Y26: =(H26+I26+J26+K26+M26+L26+N26+O26+P26+Q26+R26+S26+T26+U26+V26+W26+X26)*6 -> 0 | Z26: =(H26+I26+J26+K26+L26+M26+N26+O26+P26+Q26+R26+S26+T26)*G26+(U26+V26+W26+X26)*(G26*1.05) -> 0
B27: 1204 | C27: Jugs L | E27: L | F27: 6 | G27: 300 | Y27: =(H27+I27+J27+K27+M27+L27+N27+O27+P27+Q27+R27+S27+T27+U27+V27+W27+X27)*6 -> 0 | Z27: =(H27+I27+J27+K27+L27+M27+N27+O27+P27+Q27+R27+S27+T27)*G27+(U27+V27+W27+X27)*(G27*1.05) -> 0
B28: 1205 | C28: Jugs XL | E28: XL | F28: 4 | G28: 330 | Y28: =(H28+I28+J28+K28+M28+L28+N28+O28+P28+Q28+R28+S28+T28+U28+V28+W28+X28)*4 -> 0 | Z28: =(H28+I28+J28+K28+L28+M28+N28+O28+P28+Q28+R28+S28+T28)*G28+(U28+V28+W28+X28)*(G28*1.05) -> 0
B29: 1206 | C29: real Jugs XL | E29: XL | F29: 2 | G29: 270 | Y29: =(H29+I29+J29+K29+M29+L29+N29+O29+P29+Q29+R29+S29+T29+U29+V29+W29+X29)*2 -> 0 | Z29: =(H29+I29+J29+K29+L29+M29+N29+O29+P29+Q29+R29+S29+T29)*G29+(U29+V29+W29+X29)*(G29*1.05) -> 0
B30: 1207 | C30: incut Crimps S | E30: S | F30: 8 | G30: 90 | Y30: =(H30+I30+J30+K30+M30+L30+N30+O30+P30+Q30+R30+S30+T30+U30+V30+W30+X30)*8 -> 0 | Z30: =(H30+I30+J30+K30+L30+M30+N30+O30+P30+Q30+R30+S30+T30)*G30+(U30+V30+W30+X30)*(G30*1.05) -> 0
B31: 1208 | C31: open Edges S-L | E31: S-L | F31: 10 | G31: 200 | Y31: =(H31+I31+J31+K31+M31+L31+N31+O31+P31+Q31+R31+S31+T31+U31+V31+W31+X31)*10 -> 0 | Z31: =(H31+I31+J31+K31+L31+M31+N31+O31+P31+Q31+R31+S31+T31)*G31+(U31+V31+W31+X31)*(G31*1.05) -> 0
B32: 1209 | C32: incut Edges M-L | E32: M-L | F32: 8 | G32: 240 | Y32: =(H32+I32+J32+K32+M32+L32+N32+O32+P32+Q32+R32+S32+T32+U32+V32+W32+X32)*8 -> 0 | Z32: =(H32+I32+J32+K32+L32+M32+N32+O32+P32+Q32+R32+S32+T32)*G32+(U32+V32+W32+X32)*(G32*1.05) -> 0
B33: 1210 | C33: Incut Crimps L | E33: L | F33: 5 | G33: 220 | Y33: =(H33+I33+J33+K33+M33+L33+N33+O33+P33+Q33+R33+S33+T33+U33+V33+W33+X33)*5 -> 0 | Z33: =(H33+I33+J33+K33+L33+M33+N33+O33+P33+Q33+R33+S33+T33)*G33+(U33+V33+W33+X33)*(G33*1.05) -> 0
B34: 1211 | C34: long Edges L | E34: L | F34: 6 | G34: 180 | Y34: =(H34+I34+J34+K34+M34+L34+N34+O34+P34+Q34+R34+S34+T34+U34+V34+W34+X34)*6 -> 0 | Z34: =(H34+I34+J34+K34+L34+M34+N34+O34+P34+Q34+R34+S34+T34)*G34+(U34+V34+W34+X34)*(G34*1.05) -> 0
B35: 1212 | C35: positiv Slopers L | E35: L | F35: 3 | G35: 160 | Y35: =(H35+I35+J35+K35+M35+L35+N35+O35+P35+Q35+R35+S35+T35+U35+V35+W35+X35)*3 -> 0 | Z35: =(H35+I35+J35+K35+L35+M35+N35+O35+P35+Q35+R35+S35+T35)*G35+(U35+V35+W35+X35)*(G35*1.05) -> 0
B36: 1213 | C36: negativ Slopers L | E36: L | F36: 3 | G36: 160 | Y36: =(H36+I36+J36+K36+M36+L36+N36+O36+P36+Q36+R36+S36+T36+U36+V36+W36+X36)*3 -> 0 | Z36: =(H36+I36+J36+K36+L36+M36+N36+O36+P36+Q36+R36+S36+T36)*G36+(U36+V36+W36+X36)*(G36*1.05) -> 0
B37: 1214 | C37: positiv Slopers XL | E37: XL | F37: 2 | G37: 200 | Y37: =(H37+I37+J37+K37+M37+L37+N37+O37+P37+Q37+R37+S37+T37+U37+V37+W37+X37)*2 -> 0 | Z37: =(H37+I37+J37+K37+L37+M37+N37+O37+P37+Q37+R37+S37+T37)*G37+(U37+V37+W37+X37)*(G37*1.05) -> 0
B38: 1215 | C38: negativ Slopers XL | E38: XL | F38: 2 | G38: 170 | Y38: =(H38+I38+J38+K38+M38+L38+N38+O38+P38+Q38+R38+S38+T38+U38+V38+W38+X38)*2 -> 0 | Z38: =(H38+I38+J38+K38+L38+M38+N38+O38+P38+Q38+R38+S38+T38)*G38+(U38+V38+W38+X38)*(G38*1.05) -> 0
B39: 1216 | C39: Edges XL | E39: XL | F39: 4 | G39: 300 | Y39: =(H39+I39+J39+K39+M39+L39+N39+O39+P39+Q39+R39+S39+T39+U39+V39+W39+X39)*4 -> 0 | Z39: =(H39+I39+J39+K39+L39+M39+N39+O39+P39+Q39+R39+S39+T39)*G39+(U39+V39+W39+X39)*(G39*1.05) -> 0
B40: 1217 | C40: Candles PU Full Range | E40: S-XL | F40: =SUM(F26:F39) -> 69 | G40: 3000 | Y40: =(H40+I40+J40+K40+M40+L40+N40+O40+P40+Q40+R40+S40+T40+U40+V40+W40+X40)*69 -> 0 | Z40: =(H40+I40+J40+K40+L40+M40+N40+O40+P40+Q40+R40+S40+T40)*G40+(U40+V40+W40+X40)*(G40*1.05) -> 0
H42: RAL 9001* | I42: RAL 9004* | J42: RAL 5015* | K42: RAL 3020* | L42: RAL 1023* | M42: RAL 6037* | N42: RAL 6027* | O42: RAL 8003* | P42: NCS 4050-R60B* | Q42: RAL 4008* | R42: RAL 6027* | S42: RAL 7038* | U42: RAL 4003* | V42: RAL 2008* | W42: RAL 6018* | X42: RAL 1026*
E43: Total Holds per color | H43: =(H10*8)+(H11*8)+(H12*8)+(H13*8)+(H14*4)+(H15*5)+(H16*41)+(H17*24)+(H18*10)+(H19*18)+(H20*7)+(H21*7)+(H22*66)+(H23*107)+(H26*6)+(H27*6)+(H28*4)+(H29*2)+(H30*8)+(H31*10)+(H32*8)+(H33*5)+(H34*6)+(H35*3)+(H36*3)+(H37*2)+(H38*2)+(H39*4)+(H40*69) -> 0 | I43: =(I10*8)+(I11*8)+(I12*8)+(I13*8)+(I14*4)+(I15*5)+(I16*41)+(I17*24)+(I18*10)+(I19*18)+(I20*7)+(I21*7)+(I22*66)+(I23*107)+(I26*6)+(I27*6)+(I28*4)+(I29*2)+(I30*8)+(I31*10)+(I32*8)+(I33*5)+(I34*6)+(I35*3)+(I36*3)+(I37*2)+(I38*2)+(I39*4)+(I40*69) -> 0 | J43: =(J10*8)+(J11*8)+(J12*8)+(J13*8)+(J14*4)+(J15*5)+(J16*41)+(J17*24)+(J18*10)+(J19*18)+(J20*7)+(J21*7)+(J22*66)+(J23*107)+(J26*6)+(J27*6)+(J28*4)+(J29*2)+(J30*8)+(J31*10)+(J32*8)+(J33*5)+(J34*6)+(J35*3)+(J36*3)+(J37*2)+(J38*2)+(J39*4)+(J40*69) -> 0 | K43: =(K10*8)+(K11*8)+(K12*8)+(K13*8)+(K14*4)+(K15*5)+(K16*41)+(K17*24)+(K18*10)+(K19*18)+(K20*7)+(K21*7)+(K22*66)+(K23*107)+(K26*6)+(K27*6)+(K28*4)+(K29*2)+(K30*8)+(K31*10)+(K32*8)+(K33*5)+(K34*6)+(K35*3)+(K36*3)+(K37*2)+(K38*2)+(K39*4)+(K40*69) -> 0 | L43: =(L10*8)+(L11*8)+(L12*8)+(L13*8)+(L14*4)+(L15*5)+(L16*41)+(L17*24)+(L18*10)+(L19*18)+(L20*7)+(L21*7)+(L22*66)+(L23*107)+(L26*6)+(L27*6)+(L28*4)+(L29*2)+(L30*8)+(L31*10)+(L32*8)+(L33*5)+(L34*6)+(L35*3)+(L36*3)+(L37*2)+(L38*2)+(L39*4)+(L40*69) -> 0 | M43: =(M10*8)+(M11*8)+(M12*8)+(M13*8)+(M14*4)+(M15*5)+(M16*41)+(M17*24)+(M18*10)+(M19*18)+(M20*7)+(M21*7)+(M22*66)+(M23*107)+(M26*6)+(M27*6)+(M28*4)+(M29*2)+(M30*8)+(M31*10)+(M32*8)+(M33*5)+(M34*6)+(M35*3)+(M36*3)+(M37*2)+(M38*2)+(M39*4)+(M40*69) -> 0 | N43: =(N10*8)+(N11*8)+(N12*8)+(N13*8)+(N14*4)+(N15*5)+(N16*41)+(N17*24)+(N18*10)+(N19*18)+(N20*7)+(N21*7)+(N22*66)+(N23*107)+(N26*6)+(N27*6)+(N28*4)+(N29*2)+(N30*8)+(N31*10)+(N32*8)+(N33*5)+(N34*6)+(N35*3)+(N36*3)+(N37*2)+(N38*2)+(N39*4)+(N40*69) -> 0
E44: Total Sets per color | H44: =H10+H11+H12+H13+H14+H15+(H16*6)+H17+H18+H19+H20+H21+(H22*5)+(H23*11)+H26+H27+H28+H29+H30+H31+H32+H33+H34+H35+H36+H37+H38+H39+(H40*14) -> 0 | I44: =I10+I11+I12+I13+I14+I15+(I16*6)+I17+I18+I19+I20+I21+(I22*5)+(I23*11)+I26+I27+I28+I29+I30+I31+I32+I33+I34+I35+I36+I37+I38+I39+(I40*14) -> 0 | J44: =J10+J11+J12+J13+J14+J15+(J16*6)+J17+J18+J19+J20+J21+(J22*5)+(J23*11)+J26+J27+J28+J29+J30+J31+J32+J33+J34+J35+J36+J37+J38+J39+(J40*14) -> 0 | K44: =K10+K11+K12+K13+K14+K15+(K16*6)+K17+K18+K19+K20+K21+(K22*5)+(K23*11)+K26+K27+K28+K29+K30+K31+K32+K33+K34+K35+K36+K37+K38+K39+(K40*14) -> 0 | L44: =L10+L11+L12+L13+L14+L15+(L16*6)+L17+L18+L19+L20+L21+(L22*5)+(L23*11)+L26+L27+L28+L29+L30+L31+L32+L33+L34+L35+L36+L37+L38+L39+(L40*14) -> 0 | M44: =M10+M11+M12+M13+M14+M15+(M16*6)+M17+M18+M19+M20+M21+(M22*5)+(M23*11)+M26+M27+M28+M29+M30+M31+M32+M33+M34+M35+M36+M37+M38+M39+(M40*14) -> 0 | N44: =N10+N11+N12+N13+N14+N15+(N16*6)+N17+N18+N19+N20+N21+(N22*5)+(N23*11)+N26+N27+N28+N29+N30+N31+N32+N33+N34+N35+N36+N37+N38+N39+(N40*14) -> 0
H45: *All color specifications (RAL and NCS) are best possible approximations. Slight deviations can not be excluded.
E48: Screw length M10 (mm) | H48: 40 | I48: 50 | J48: 60 | K48: 70 | L48: 80 | M48: 90 | N48: 100 | O48: 110 | P48: 120 | Q48: 130 | R48: 140 | S48: 150 | T48: 160 | U48: 170 | V48: 180 | W48: 190
E49: needed M10 Bolts | H49: =(Y26*0)+(Y27*0)+(Y28*0)+(Y29*0)+(Y30*1)+(Y31/10*7)+(Y32/8*1)+(Y33/5*2)+(Y34*0)+(Y35*0)+(Y36*0)+(Y37*0)+(Y38*0)+(Y39*0)+(Y40/69*18) -> 0 | I49: =(Y26/6*2)+(Y27*0)+(Y28*0)+(Y29*0)+(Y30*0)+(Y31/10*3)+(Y32/8*6)+(Y33/5*3)+(Y34/6*2)+(Y35*0)+(Y36*0)+(Y37*0)+(Y38*0)+(Y39/4*2)+(Y40/69*18) -> 0 | J49: =(Y26/6*4)+(Y27/6*2)+(Y28*0)+(Y29*0)+(Y30*0)+(Y31*0)+(Y32/8*1)+(Y33*0)+(Y34/6*4)+(Y35*0)+(Y36*0)+(Y37*0)+(Y38*0)+(Y39*0)+(Y40/69*11) -> 0 | K49: =(Y26*0)+(Y27/6*4)+(Y28*0)+(Y29*0)+(Y30*0)+(Y31*0)+(Y32*0)+(Y33*0)+(Y34*0)+(Y35*0)+(Y36/3*2)+(Y37*0)+(Y38*0)+(Y39/4*2)+(Y40/69*8) -> 0 | L49: =(Y26*0)+(Y27/6*2)+(Y28/4*2)+(Y29/2*1)+(Y30*0)+(Y31*0)+(Y32*0)+(Y33*0)+(Y34*0)+(Y35/3*2)+(Y36/3*1)+(Y37*0)+(Y38*0)+(Y39*0)+(Y40/69*8) -> 0 | M49: =(Y26*0)+(Y27*0)+(Y28/4*2)+(Y29/2*1)+(Y30*0)+(Y31*0)+(Y32*0)+(Y33*0)+(Y34*0)+(Y35/3*1)+(Y36*0)+(Y37*1)+(Y38*1)+(Y39*0)+(Y40/69*8) -> 0 | N49: =(Y26*0)+(Y27*0)+(Y28*0)+(Y29*0)+(Y30*0)+(Y31*0)+(Y32*0)+(Y33*0)+(Y34*0)+(Y35*0)+(Y36*0)+(Y37*0)+(Y38*0)+(Y39*0)+(Y40*0) -> 0 | O49: =(Y26*0)+(Y27*0)+(Y28*0)+(Y29*0)+(Y30*0)+(Y31*0)+(Y32*0)+(Y33*0)+(Y34*0)+(Y35*0)+(Y36*0)+(Y37*0)+(Y38*0)+(Y39*0)+(Y40*0) -> 0 | P49: =(Y26*0)+(Y27*0)+(Y28*0)+(Y29*0)+(Y30*0)+(Y31*0)+(Y32*0)+(Y33*0)+(Y34*0)+(Y35*0)+(Y36*0)+(Y37*0)+(Y38*0)+(Y39*0)+(Y40*0) -> 0 | Q49: =(Y26*0)+(Y27*0)+(Y28*0)+(Y29*0)+(Y30*0)+(Y31*0)+(Y32*0)+(Y33*0)+(Y34*0)+(Y35*0)+(Y36*0)+(Y37*0)+(Y38*0)+(Y39*0)+(Y40*0) -> 0 | R49: =(Y26*0)+(Y27*0)+(Y28*0)+(Y29*0)+(Y30*0)+(Y31*0)+(Y32*0)+(Y33*0)+(Y34*0)+(Y35*0)+(Y36*0)+(Y37*0)+(Y38*0)+(Y39*0)+(Y40*0) -> 0 | S49: =(Y26*0)+(Y27*0)+(Y28*0)+(Y29*0)+(Y30*0)+(Y31*0)+(Y32*0)+(Y33*0)+(Y34*0)+(Y35*0)+(Y36*0)+(Y37*0)+(Y38*0)+(Y39*0)+(Y40*0) -> 0 | T49: =(Y26*0)+(Y27*0)+(Y28*0)+(Y29*0)+(Y30*0)+(Y31*0)+(Y32*0)+(Y33*0)+(Y34*0)+(Y35*0)+(Y36*0)+(Y37*0)+(Y38*0)+(Y39*0)+(Y40*0) -> 0 | U49: =(Y26*0)+(Y27*0)+(Y28*0)+(Y29*0)+(Y30*0)+(Y31*0)+(Y32*0)+(Y33*0)+(Y34*0)+(Y35*0)+(Y36*0)+(Y37*0)+(Y38*0)+(Y39*0)+(Y40*0) -> 0 | V49: =(Y26*0)+(Y27*0)+(Y28*0)+(Y29*0)+(Y30*0)+(Y31*0)+(Y32*0)+(Y33*0)+(Y34*0)+(Y35*0)+(Y36*0)+(Y37*0)+(Y38*0)+(Y39*0)+(Y40*0) -> 0 | W49: =(Y26*0)+(Y27*0)+(Y28*0)+(Y29*0)+(Y30*0)+(Y31*0)+(Y32*0)+(Y33*0)+(Y34*0)+(Y35*0)+(Y36*0)+(Y37*0)+(Y38*0)+(Y39*0)+(Y40*0) -> 0
E51: needed Spax | H51: =(Y10*2)+(Y11*2)+(Y12*2)+(Y13*2)+(Y14*2)+(Y15*2)+(Y16*2)+(Y17/24*43)+(Y18*2)+(Y19*2)+(Y20*2)+(Y21*2)+(Y22/66*127)+(Y23/107*209)+(Y26*3)+(Y27*3)+(Y28*4)+(Y29*4)+(Y30*2)+(Y31/10*23)+(Y32*3)+(Y33*3)+(Y34*3)+(Y35*3)+(Y36*3)+(Y37*4)+(Y38*4)+(Y39*4)+(Y40/69*206) -> 0
E54: Total Holds | H54: =H43+I43+J43+K43+L43+M43+N43 -> 0
E55: Total Sets | H55: =H44+I44+J44+K44+L44+M44+N44 -> 0
E56: Total Price Holds | H56: =SUM(Z10:Z40) -> 0
H57: Prices without Taxes

Sheet Macros
R2: Total Macros | T2: =H140 -> 0
I3: Date: | L3: =TODAY() -> 46282 | R3: Total Weigth (kg) | T3: =(R9*0.8)+(R10*0.8)+(R11*1)+(R12*1.1)+(R13*1.1)+(R14*1.1)+(R15*1.1)+(R16*1.1)+(R17*1.1)+(R18*1.25)+(R19*1.25)+(R20*1.6)+(R21*2)+(R22*1.8)+(R23*2.1)+(R24*2.7)+(R25*2.6)+(R26*2.6)+(R27*2.8)+(R28*3.5)+(R29*3.7)+(R30*7.5)+(R31*9)+((R32*48.4)/23)+(R34*0.88)+(R35*0.88)+(R36*1.1)+(R37*1.2)+(R38*1.2)+(R39*1.2)+(R40*1.2)+(R41*1.2)+(R42*1.2)+(R43*1.35)+(R44*1.35)+(R45*1.75)+(R46*2.2)+(R47*2)+(R48*2.3)+(R49*3)+(R50*2.9)+(R51*2.9)+(R52*3.1)+(R53*3.9)+(R54*4.1)+(R55*8.3)+(R56*10)+((R57*53.53)/23)+(R59*0.8)+(R60*0.8)+(R61*1)+(R62*1.1)+(R63*1.1)+(R64*1.1)+(R65*1.1)+(R66*1.1)+(R67*1.1)+(R68*1.25)+(R69*1.25)+(R70*1.6)+(R71*2)+(R72*1.8)+(R73*2.1)+(R74*2.7)+(R75*2.6)+(R76*2.6)+(R77*2.8)+(R78*3.5)+(R79*3.7)+(R80*7.5)+(R81*9)+((R82*48.4)/23)+(R85*0.85)+(R86*1.15)+(R87*1.1)+(R88*1.3)+(R89*1.4)+(R90*1.6)+(R91*1.8)+(R92*1.8)+(R93*1.8)+(R94*1.9)+(R95*2.1)+(R96*2.3)+(R97*2.4)+(R98*2.4)+(R99*2.6)+(R100*2.5)+(R101*2.5)+(R102*2.8)+(R103*2.9)+(R104*3)+(R105*3.1)+(R106*3.9)+((R107*47.2)/22)+(R109*0.85)+(R110*1.15)+(R111*1.1)+(R112*1.3)+(R113*1.4)+(R114*1.6)+(R115*1.8)+(R116*1.8)+(R117*1.8)+(R118*1.9)+(R119*2.1)+(R120*2.3)+(R121*2.4)+(R122*2.4)+(R123*2.6)+(R124*2.5)+(R125*2.5)+(R126*2.8)+(R127*2.9)+(R128*3)+(R129*3.1)+(R130*3.9)+((R131*47.2)/22) -> 0
R4: Total Price Macros | T4: =H141 -> 0
T5: Prices without Taxes
B7: Art.-No. | C7: Name | F7: Macros in Set | G7: Price | H7: White | I7: Black | J7: Blue | K7: Red | L7: Yellow | M7: Green | N7: Orange | O7: Purple | P7: Mint | Q7: Grey | R7: Number of Macros | S7: Price (without Taxes)
B8: CANDLES Macros
B9: 2001 | C9: Candles 1 Dual Texture | F9: 1 | G9: 160 | R9: =(H9+I9+J9+K9+M9+L9+N9+O9+P9+Q9)*1 -> 0 | S9: =(H9+I9+J9+K9+L9+M9+N9+O9+P9+Q9)*G9 -> 0
B10: 2002 | C10: Candles 2 Dual Texture | F10: 1 | G10: 160 | R10: =(H10+I10+J10+K10+M10+L10+N10+O10+P10+Q10)*1 -> 0 | S10: =(H10+I10+J10+K10+L10+M10+N10+O10+P10+Q10)*G10 -> 0
B11: 2003 | C11: Candles 3 Dual Texture | F11: 1 | G11: 160 | R11: =(H11+I11+J11+K11+M11+L11+N11+O11+P11+Q11)*1 -> 0 | S11: =(H11+I11+J11+K11+L11+M11+N11+O11+P11+Q11)*G11 -> 0
B12: 2004 | C12: Candles 4 Dual Texture | F12: 1 | G12: 160 | R12: =(H12+I12+J12+K12+M12+L12+N12+O12+P12+Q12)*1 -> 0 | S12: =(H12+I12+J12+K12+L12+M12+N12+O12+P12+Q12)*G12 -> 0
B13: 2005 | C13: Candles 5 Dual Texture | F13: 1 | G13: 160 | R13: =(H13+I13+J13+K13+M13+L13+N13+O13+P13+Q13)*1 -> 0 | S13: =(H13+I13+J13+K13+L13+M13+N13+O13+P13+Q13)*G13 -> 0
B14: 2006 | C14: Candles 6 Dual Texture | F14: 1 | G14: 160 | R14: =(H14+I14+J14+K14+M14+L14+N14+O14+P14+Q14)*1 -> 0 | S14: =(H14+I14+J14+K14+L14+M14+N14+O14+P14+Q14)*G14 -> 0
B15: 2007 | C15: Candles 7 Dual Texture | F15: 1 | G15: 160 | R15: =(H15+I15+J15+K15+M15+L15+N15+O15+P15+Q15)*1 -> 0 | S15: =(H15+I15+J15+K15+L15+M15+N15+O15+P15+Q15)*G15 -> 0
B16: 2008 | C16: Candles 8 Dual Texture | F16: 1 | G16: 160 | R16: =(H16+I16+J16+K16+M16+L16+N16+O16+P16+Q16)*1 -> 0 | S16: =(H16+I16+J16+K16+L16+M16+N16+O16+P16+Q16)*G16 -> 0
B17: 2009 | C17: Candles 9 Dual Texture | F17: 1 | G17: 160 | R17: =(H17+I17+J17+K17+M17+L17+N17+O17+P17+Q17)*1 -> 0 | S17: =(H17+I17+J17+K17+L17+M17+N17+O17+P17+Q17)*G17 -> 0
B18: 2010 | C18: Candles 10 Dual Texture | F18: 1 | G18: 160 | R18: =(H18+I18+J18+K18+M18+L18+N18+O18+P18+Q18)*1 -> 0 | S18: =(H18+I18+J18+K18+L18+M18+N18+O18+P18+Q18)*G18 -> 0
B19: 2011 | C19: Candles 11 Dual Texture | F19: 1 | G19: 160 | R19: =(H19+I19+J19+K19+M19+L19+N19+O19+P19+Q19)*1 -> 0 | S19: =(H19+I19+J19+K19+L19+M19+N19+O19+P19+Q19)*G19 -> 0
B20: 2012 | C20: Candles 12 Dual Texture | F20: 1 | G20: 200 | R20: =(H20+I20+J20+K20+M20+L20+N20+O20+P20+Q20)*1 -> 0 | S20: =(H20+I20+J20+K20+L20+M20+N20+O20+P20+Q20)*G20 -> 0
... B31: 2023 | C31: Candles 23 Dual Texture | F31: 1 | G31: 440 | R31: =(H31+I31+J31+K31+M31+L31+N31+O31+P31+Q31)*1 -> 0 | S31: =(H31+I31+J31+K31+L31+M31+N31+O31+P31+Q31)*G31 -> 0
B32: 2024 | C32: Candles Full Range Dual Texture | F32: 23 | G32: 4800 | R32: =(H32+I32+J32+K32+M32+L32+N32+O32+P32+Q32)*23 -> 0 | S32: =(H32+I32+J32+K32+L32+M32+N32+O32+P32+Q32)*G32 -> 0
B34: 2031 | C34: Candles 1 Full Texture | F34: 1 | G34: 150 | R34: =(H34+I34+J34+K34+M34+L34+N34+O34+P34+Q34)*1 -> 0 | S34: =(H34+I34+J34+K34+L34+M34+N34+O34+P34+Q34)*G34 -> 0
B35: 2032 | C35: Candles 2 Full Texture | F35: 1 | G35: 150 | R35: =(H35+I35+J35+K35+M35+L35+N35+O35+P35+Q35)*1 -> 0 | S35: =(H35+I35+J35+K35+L35+M35+N35+O35+P35+Q35)*G35 -> 0
B36: 2033 | C36: Candles 3 Full Texture | F36: 1 | G36: 150 | R36: =(H36+I36+J36+K36+M36+L36+N36+O36+P36+Q36)*1 -> 0 | S36: =(H36+I36+J36+K36+L36+M36+N36+O36+P36+Q36)*G36 -> 0
B37: 2034 | C37: Candles 4 Full Texture | F37: 1 | G37: 150 | R37: =(H37+I37+J37+K37+M37+L37+N37+O37+P37+Q37)*1 -> 0 | S37: =(H37+I37+J37+K37+L37+M37+N37+O37+P37+Q37)*G37 -> 0
B38: 2035 | C38: Candles 5 Full Texture | F38: 1 | G38: 150 | R38: =(H38+I38+J38+K38+M38+L38+N38+O38+P38+Q38)*1 -> 0 | S38: =(H38+I38+J38+K38+L38+M38+N38+O38+P38+Q38)*G38 -> 0
B39: 2036 | C39: Candles 6 Full Texture | F39: 1 | G39: 150 | R39: =(H39+I39+J39+K39+M39+L39+N39+O39+P39+Q39)*1 -> 0 | S39: =(H39+I39+J39+K39+L39+M39+N39+O39+P39+Q39)*G39 -> 0
B40: 2037 | C40: Candles 7 Full Texture | F40: 1 | G40: 150 | R40: =(H40+I40+J40+K40+M40+L40+N40+O40+P40+Q40)*1 -> 0 | S40: =(H40+I40+J40+K40+L40+M40+N40+O40+P40+Q40)*G40 -> 0
B41: 2038 | C41: Candles 8 Full Texture | F41: 1 | G41: 150 | R41: =(H41+I41+J41+K41+M41+L41+N41+O41+P41+Q41)*1 -> 0 | S41: =(H41+I41+J41+K41+L41+M41+N41+O41+P41+Q41)*G41 -> 0
B42: 2039 | C42: Candles 9 Full Texture | F42: 1 | G42: 150 | R42: =(H42+I42+J42+K42+M42+L42+N42+O42+P42+Q42)*1 -> 0 | S42: =(H42+I42+J42+K42+L42+M42+N42+O42+P42+Q42)*G42 -> 0
B43: 2040 | C43: Candles 10 Full Texture | F43: 1 | G43: 150 | R43: =(H43+I43+J43+K43+M43+L43+N43+O43+P43+Q43)*1 -> 0 | S43: =(H43+I43+J43+K43+L43+M43+N43+O43+P43+Q43)*G43 -> 0
B44: 2041 | C44: Candles 11 Full Texture | F44: 1 | G44: 150 | R44: =(H44+I44+J44+K44+M44+L44+N44+O44+P44+Q44)*1 -> 0 | S44: =(H44+I44+J44+K44+L44+M44+N44+O44+P44+Q44)*G44 -> 0
B45: 2042 | C45: Candles 12 Full Texture | F45: 1 | G45: 170 | R45: =(H45+I45+J45+K45+M45+L45+N45+O45+P45+Q45)*1 -> 0 | S45: =(H45+I45+J45+K45+L45+M45+N45+O45+P45+Q45)*G45 -> 0
... B56: 2053 | C56: Candles 23 Full Texture | F56: 1 | G56: 350 | R56: =(H56+I56+J56+K56+M56+L56+N56+O56+P56+Q56)*1 -> 0 | S56: =(H56+I56+J56+K56+L56+M56+N56+O56+P56+Q56)*G56 -> 0
B57: 2054 | C57: Candles Full Range Full Texture | F57: 23 | G57: 4150 | R57: =(H57+I57+J57+K57+M57+L57+N57+O57+P57+Q57)*23 -> 0 | S57: =(H57+I57+J57+K57+L57+M57+N57+O57+P57+Q57)*G57 -> 0
B59: 2061 | C59: Candles 1 No Texture | F59: 1 | G59: 145 | R59: =(H59+I59+J59+K59+M59+L59+N59+O59+P59+Q59)*1 -> 0 | S59: =(H59+I59+J59+K59+L59+M59+N59+O59+P59+Q59)*G59 -> 0
B60: 2062 | C60: Candles 2 No Texture | F60: 1 | G60: 145 | R60: =(H60+I60+J60+K60+M60+L60+N60+O60+P60+Q60)*1 -> 0 | S60: =(H60+I60+J60+K60+L60+M60+N60+O60+P60+Q60)*G60 -> 0
B61: 2063 | C61: Candles 3 No Texture | F61: 1 | G61: 145 | R61: =(H61+I61+J61+K61+M61+L61+N61+O61+P61+Q61)*1 -> 0 | S61: =(H61+I61+J61+K61+L61+M61+N61+O61+P61+Q61)*G61 -> 0
B62: 2064 | C62: Candles 4 No Texture | F62: 1 | G62: 145 | R62: =(H62+I62+J62+K62+M62+L62+N62+O62+P62+Q62)*1 -> 0 | S62: =(H62+I62+J62+K62+L62+M62+N62+O62+P62+Q62)*G62 -> 0
B63: 2065 | C63: Candles 5 No Texture | F63: 1 | G63: 145 | R63: =(H63+I63+J63+K63+M63+L63+N63+O63+P63+Q63)*1 -> 0 | S63: =(H63+I63+J63+K63+L63+M63+N63+O63+P63+Q63)*G63 -> 0
B64: 2066 | C64: Candles 6 No Texture | F64: 1 | G64: 145 | R64: =(H64+I64+J64+K64+M64+L64+N64+O64+P64+Q64)*1 -> 0 | S64: =(H64+I64+J64+K64+L64+M64+N64+O64+P64+Q64)*G64 -> 0
B65: 2067 | C65: Candles 7 No Texture | F65: 1 | G65: 145 | R65: =(H65+I65+J65+K65+M65+L65+N65+O65+P65+Q65)*1 -> 0 | S65: =(H65+I65+J65+K65+L65+M65+N65+O65+P65+Q65)*G65 -> 0
B66: 2068 | C66: Candles 8 No Texture | F66: 1 | G66: 145 | R66: =(H66+I66+J66+K66+M66+L66+N66+O66+P66+Q66)*1 -> 0 | S66: =(H66+I66+J66+K66+L66+M66+N66+O66+P66+Q66)*G66 -> 0
B67: 2069 | C67: Candles 9 No Texture | F67: 1 | G67: 145 | R67: =(H67+I67+J67+K67+M67+L67+N67+O67+P67+Q67)*1 -> 0 | S67: =(H67+I67+J67+K67+L67+M67+N67+O67+P67+Q67)*G67 -> 0
B68: 2070 | C68: Candles 10 No Texture | F68: 1 | G68: 145 | R68: =(H68+I68+J68+K68+M68+L68+N68+O68+P68+Q68)*1 -> 0 | S68: =(H68+I68+J68+K68+L68+M68+N68+O68+P68+Q68)*G68 -> 0
B69: 2071 | C69: Candles 11 No Texture | F69: 1 | G69: 145 | R69: =(H69+I69+J69+K69+M69+L69+N69+O69+P69+Q69)*1 -> 0 | S69: =(H69+I69+J69+K69+L69+M69+N69+O69+P69+Q69)*G69 -> 0
B70: 2072 | C70: Candles 12 No Texture | F70: 1 | G70: 165 | R70: =(H70+I70+J70+K70+M70+L70+N70+O70+P70+Q70)*1 -> 0 | S70: =(H70+I70+J70+K70+L70+M70+N70+O70+P70+Q70)*G70 -> 0
... B81: 2083 | C81: Candles 23 No Texture | F81: 1 | G81: 345 | R81: =(H81+I81+J81+K81+M81+L81+N81+O81+P81+Q81)*1 -> 0 | S81: =(H81+I81+J81+K81+L81+M81+N81+O81+P81+Q81)*G81 -> 0
B82: 2084 | C82: Candles Full Range No Texture | F82: 23 | G82: 4070 | R82: =(H82+I82+J82+K82+M82+L82+N82+O82+P82+Q82)*23 -> 0 | S82: =(H82+I82+J82+K82+L82+M82+N82+O82+P82+Q82)*G82 -> 0
B84: DREAMERS Macros
B85: 2101 | C85: Dreamers 1 Dual Texture | F85: 1 | G85: 150 | R85: =(H85+I85+J85+K85+M85+L85+N85+O85+P85+Q85)*1 -> 0 | S85: =(H85+I85+J85+K85+L85+M85+N85+O85+P85+Q85)*G85 -> 0
B86: 2102 | C86: Dreamers 2 Dual Texture | F86: 1 | G86: 150 | R86: =(H86+I86+J86+K86+M86+L86+N86+O86+P86+Q86)*1 -> 0 | S86: =(H86+I86+J86+K86+L86+M86+N86+O86+P86+Q86)*G86 -> 0
B87: 2103 | C87: Dreamers 3 Dual Texture | F87: 1 | G87: 150 | R87: =(H87+I87+J87+K87+M87+L87+N87+O87+P87+Q87)*1 -> 0 | S87: =(H87+I87+J87+K87+L87+M87+N87+O87+P87+Q87)*G87 -> 0
B88: 2104 | C88: Dreamers 4 Dual Texture | F88: 1 | G88: 160 | R88: =(H88+I88+J88+K88+M88+L88+N88+O88+P88+Q88)*1 -> 0 | S88: =(H88+I88+J88+K88+L88+M88+N88+O88+P88+Q88)*G88 -> 0
B89: 2105 | C89: Dreamers 5 Dual Texture | F89: 1 | G89: 160 | R89: =(H89+I89+J89+K89+M89+L89+N89+O89+P89+Q89)*1 -> 0 | S89: =(H89+I89+J89+K89+L89+M89+N89+O89+P89+Q89)*G89 -> 0
B90: 2106 | C90: Dreamers 6 Dual Texture | F90: 1 | G90: 170 | R90: =(H90+I90+J90+K90+M90+L90+N90+O90+P90+Q90)*1 -> 0 | S90: =(H90+I90+J90+K90+L90+M90+N90+O90+P90+Q90)*G90 -> 0
B91: 2107 | C91: Dreamers 7 Dual Texture | F91: 1 | G91: 170 | R91: =(H91+I91+J91+K91+M91+L91+N91+O91+P91+Q91)*1 -> 0 | S91: =(H91+I91+J91+K91+L91+M91+N91+O91+P91+Q91)*G91 -> 0
B92: 2108 | C92: Dreamers 8 Dual Texture | F92: 1 | G92: 170 | R92: =(H92+I92+J92+K92+M92+L92+N92+O92+P92+Q92)*1 -> 0 | S92: =(H92+I92+J92+K92+L92+M92+N92+O92+P92+Q92)*G92 -> 0
B93: 2109 | C93: Dreamers 9 Dual Texture | F93: 1 | G93: 170 | R93: =(H93+I93+J93+K93+M93+L93+N93+O93+P93+Q93)*1 -> 0 | S93: =(H93+I93+J93+K93+L93+M93+N93+O93+P93+Q93)*G93 -> 0
B94: 2110 | C94: Dreamers 10 Dual Texture | F94: 1 | G94: 180 | R94: =(H94+I94+J94+K94+M94+L94+N94+O94+P94+Q94)*1 -> 0 | S94: =(H94+I94+J94+K94+L94+M94+N94+O94+P94+Q94)*G94 -> 0
B95: 2111 | C95: Dreamers 11 Dual Texture | F95: 1 | G95: 200 | R95: =(H95+I95+J95+K95+M95+L95+N95+O95+P95+Q95)*1 -> 0 | S95: =(H95+I95+J95+K95+L95+M95+N95+O95+P95+Q95)*G95 -> 0
B96: 2112 | C96: Dreamers 12 Dual Texture | F96: 1 | G96: 200 | R96: =(H96+I96+J96+K96+M96+L96+N96+O96+P96+Q96)*1 -> 0 | S96: =(H96+I96+J96+K96+L96+M96+N96+O96+P96+Q96)*G96 -> 0
... B106: 2122 | C106: Dreamers 22 Dual Texture | F106: 1 | G106: 340 | R106: =(H106+I106+J106+K106+M106+L106+N106+O106+P106+Q106)*1 -> 0 | S106: =(H106+I106+J106+K106+L106+M106+N106+O106+P106+Q106)*G106 -> 0
B107: 2123 | C107: Dreamers Full Range Dual Texture | F107: 22 | G107: 4500 | R107: =(H107+I107+J107+K107+M107+L107+N107+O107+P107+Q107)*22 -> 0 | S107: =(H107+I107+J107+K107+L107+M107+N107+O107+P107+Q107)*G107 -> 0
B109: 2131 | C109: Dreamers 1 Full Texture | F109: 1 | G109: 140 | R109: =(H109+I109+J109+K109+M109+L109+N109+O109+P109+Q109)*1 -> 0 | S109: =(H109+I109+J109+K109+L109+M109+N109+O109+P109+Q109)*G109 -> 0
B110: 2132 | C110: Dreamers 2 Full Texture | F110: 1 | G110: 140 | R110: =(H110+I110+J110+K110+M110+L110+N110+O110+P110+Q110)*1 -> 0 | S110: =(H110+I110+J110+K110+L110+M110+N110+O110+P110+Q110)*G110 -> 0
B111: 2133 | C111: Dreamers 3 Full Texture | F111: 1 | G111: 140 | R111: =(H111+I111+J111+K111+M111+L111+N111+O111+P111+Q111)*1 -> 0 | S111: =(H111+I111+J111+K111+L111+M111+N111+O111+P111+Q111)*G111 -> 0
B112: 2134 | C112: Dreamers 4 Full Texture | F112: 1 | G112: 150 | R112: =(H112+I112+J112+K112+M112+L112+N112+O112+P112+Q112)*1 -> 0 | S112: =(H112+I112+J112+K112+L112+M112+N112+O112+P112+Q112)*G112 -> 0
B113: 2135 | C113: Dreamers 5 Full Texture | F113: 1 | G113: 150 | R113: =(H113+I113+J113+K113+M113+L113+N113+O113+P113+Q113)*1 -> 0 | S113: =(H113+I113+J113+K113+L113+M113+N113+O113+P113+Q113)*G113 -> 0
B114: 2136 | C114: Dreamers 6 Full Texture | F114: 1 | G114: 160 | R114: =(H114+I114+J114+K114+M114+L114+N114+O114+P114+Q114)*1 -> 0 | S114: =(H114+I114+J114+K114+L114+M114+N114+O114+P114+Q114)*G114 -> 0
B115: 2137 | C115: Dreamers 7 Full Texture | F115: 1 | G115: 160 | R115: =(H115+I115+J115+K115+M115+L115+N115+O115+P115+Q115)*1 -> 0 | S115: =(H115+I115+J115+K115+L115+M115+N115+O115+P115+Q115)*G115 -> 0
B116: 2138 | C116: Dreamers 8 Full Texture | F116: 1 | G116: 160 | R116: =(H116+I116+J116+K116+M116+L116+N116+O116+P116+Q116)*1 -> 0 | S116: =(H116+I116+J116+K116+L116+M116+N116+O116+P116+Q116)*G116 -> 0
B117: 2139 | C117: Dreamers 9 Full Texture | F117: 1 | G117: 160 | R117: =(H117+I117+J117+K117+M117+L117+N117+O117+P117+Q117)*1 -> 0 | S117: =(H117+I117+J117+K117+L117+M117+N117+O117+P117+Q117)*G117 -> 0
B118: 2140 | C118: Dreamers 10 Full Texture | F118: 1 | G118: 170 | R118: =(H118+I118+J118+K118+M118+L118+N118+O118+P118+Q118)*1 -> 0 | S118: =(H118+I118+J118+K118+L118+M118+N118+O118+P118+Q118)*G118 -> 0
B119: 2141 | C119: Dreamers 11 Full Texture | F119: 1 | G119: 190 | R119: =(H119+I119+J119+K119+M119+L119+N119+O119+P119+Q119)*1 -> 0 | S119: =(H119+I119+J119+K119+L119+M119+N119+O119+P119+Q119)*G119 -> 0
B120: 2142 | C120: Dreamers 12 Full Texture | F120: 1 | G120: 190 | R120: =(H120+I120+J120+K120+M120+L120+N120+O120+P120+Q120)*1 -> 0 | S120: =(H120+I120+J120+K120+L120+M120+N120+O120+P120+Q120)*G120 -> 0
... B130: 2152 | C130: Dreamers 22 Full Texture | F130: 1 | G130: 320 | R130: =(H130+I130+J130+K130+M130+L130+N130+O130+P130+Q130)*1 -> 0 | S130: =(H130+I130+J130+K130+L130+M130+N130+O130+P130+Q130)*G130 -> 0
B131: 2153 | C131: Dreamers Full Range Full Texture | F131: 22 | G131: 4100 | R131: =(H131+I131+J131+K131+M131+L131+N131+O131+P131+Q131)*22 -> 0 | S131: =(H131+I131+J131+K131+L131+M131+N131+O131+P131+Q131)*G131 -> 0
H134: RAL 9010* | I134: RAL 9005* | J134: RAL 5015* | K134: RAL 3020* | L134: RAL 1023* | M134: RAL 6018* | N134: RAL 2003* | O134: RAL 4008* | P134: RAL 6027* | Q134: RAL 7046*
E135: Total Macros per color | H135: =(H9*1)+H10+(H11*1)+(H12*1)+(H13*1)+H14+H15+H16+H17+(H18*1)+(H19*1)+(H20*1)+(H21*1)+(H22*1)+(H23*1)+(H24*1)+(H25*1)+(H26*1)+(H27*1)+(H28*1)+(H29*1)+(H30*1)+(H31*1)+(H32*23)+(H34*1)+H35+(H36*1)+(H37*1)+(H38*1)+H39+H40+H41+H42+(H43*1)+(H44*1)+(H45*1)+(H46*1)+(H47*1)+(H48*1)+(H49*1)+(H50*1)+(H51*1)+(H52*1)+(H53*1)+(H54*1)+(H55*1)+(H56*1)+(H57*23)+(H59*1+H60)+(H61*1)+(H62*1)+(H63*1)+H64+H65+H66+H67+(H68*1)+(H69*1)+(H70*1)+(H71*1)+(H72*1)+(H73*1)+(H74*1)+(H75*1)+(H76*1)+(H77*1)+(H78*1)+(H79*1)+(H80*1)+(H81*1)+(H82*23)+H85+H86+H87+H88+H89+H90+H91+H92+H93+H94+H95+H96+H97+H98+H99+H100+H101+H102+H103+H104+H105+H106+(H107*22)+H109+H110+H111+H112+H113+H114+H115+H116+H117+H118+H119+H120+H121+H122+H123+H124+H125+H126+H127+H128+H129+H130+(H131*22) -> 0 | I135: =(I9*1)+I10+(I11*1)+(I12*1)+(I13*1)+I14+I15+I16+I17+(I18*1)+(I19*1)+(I20*1)+(I21*1)+(I22*1)+(I23*1)+(I24*1)+(I25*1)+(I26*1)+(I27*1)+(I28*1)+(I29*1)+(I30*1)+(I31*1)+(I32*23)+(I34*1)+I35+(I36*1)+(I37*1)+(I38*1)+I39+I40+I41+I42+(I43*1)+(I44*1)+(I45*1)+(I46*1)+(I47*1)+(I48*1)+(I49*1)+(I50*1)+(I51*1)+(I52*1)+(I53*1)+(I54*1)+(I55*1)+(I56*1)+(I57*23)+(I59*1+I60)+(I61*1)+(I62*1)+(I63*1)+I64+I65+I66+I67+(I68*1)+(I69*1)+(I70*1)+(I71*1)+(I72*1)+(I73*1)+(I74*1)+(I75*1)+(I76*1)+(I77*1)+(I78*1)+(I79*1)+(I80*1)+(I81*1)+(I82*23)+I85+I86+I87+I88+I89+I90+I91+I92+I93+I94+I95+I96+I97+I98+I99+I100+I101+I102+I103+I104+I105+I106+(I107*22)+I109+I110+I111+I112+I113+I114+I115+I116+I117+I118+I119+I120+I121+I122+I123+I124+I125+I126+I127+I128+I129+I130+(I131*22) -> 0 | J135: =(J9*1)+J10+(J11*1)+(J12*1)+(J13*1)+J14+J15+J16+J17+(J18*1)+(J19*1)+(J20*1)+(J21*1)+(J22*1)+(J23*1)+(J24*1)+(J25*1)+(J26*1)+(J27*1)+(J28*1)+(J29*1)+(J30*1)+(J31*1)+(J32*23)+(J34*1)+J35+(J36*1)+(J37*1)+(J38*1)+J39+J40+J41+J42+(J43*1)+(J44*1)+(J45*1)+(J46*1)+(J47*1)+(J48*1)+(J49*1)+(J50*1)+(J51*1)+(J52*1)+(J53*1)+(J54*1)+(J55*1)+(J56*1)+(J57*23)+(J59*1+J60)+(J61*1)+(J62*1)+(J63*1)+J64+J65+J66+J67+(J68*1)+(J69*1)+(J70*1)+(J71*1)+(J72*1)+(J73*1)+(J74*1)+(J75*1)+(J76*1)+(J77*1)+(J78*1)+(J79*1)+(J80*1)+(J81*1)+(J82*23)+J85+J86+J87+J88+J89+J90+J91+J92+J93+J94+J95+J96+J97+J98+J99+J100+J101+J102+J103+J104+J105+J106+(J107*22)+J109+J110+J111+J112+J113+J114+J115+J116+J117+J118+J119+J120+J121+J122+J123+J124+J125+J126+J127+J128+J129+J130+(J131*22) -> 0 | K135: =(K9*1)+K10+(K11*1)+(K12*1)+(K13*1)+K14+K15+K16+K17+(K18*1)+(K19*1)+(K20*1)+(K21*1)+(K22*1)+(K23*1)+(K24*1)+(K25*1)+(K26*1)+(K27*1)+(K28*1)+(K29*1)+(K30*1)+(K31*1)+(K32*23)+(K34*1)+K35+(K36*1)+(K37*1)+(K38*1)+K39+K40+K41+K42+(K43*1)+(K44*1)+(K45*1)+(K46*1)+(K47*1)+(K48*1)+(K49*1)+(K50*1)+(K51*1)+(K52*1)+(K53*1)+(K54*1)+(K55*1)+(K56*1)+(K57*23)+(K59*1+K60)+(K61*1)+(K62*1)+(K63*1)+K64+K65+K66+K67+(K68*1)+(K69*1)+(K70*1)+(K71*1)+(K72*1)+(K73*1)+(K74*1)+(K75*1)+(K76*1)+(K77*1)+(K78*1)+(K79*1)+(K80*1)+(K81*1)+(K82*23)+K85+K86+K87+K88+K89+K90+K91+K92+K93+K94+K95+K96+K97+K98+K99+K100+K101+K102+K103+K104+K105+K106+(K107*22)+K109+K110+K111+K112+K113+K114+K115+K116+K117+K118+K119+K120+K121+K122+K123+K124+K125+K126+K127+K128+K129+K130+(K131*22) -> 0 | L135: =(L9*1)+L10+(L11*1)+(L12*1)+(L13*1)+L14+L15+L16+L17+(L18*1)+(L19*1)+(L20*1)+(L21*1)+(L22*1)+(L23*1)+(L24*1)+(L25*1)+(L26*1)+(L27*1)+(L28*1)+(L29*1)+(L30*1)+(L31*1)+(L32*23)+(L34*1)+L35+(L36*1)+(L37*1)+(L38*1)+L39+L40+L41+L42+(L43*1)+(L44*1)+(L45*1)+(L46*1)+(L47*1)+(L48*1)+(L49*1)+(L50*1)+(L51*1)+(L52*1)+(L53*1)+(L54*1)+(L55*1)+(L56*1)+(L57*23)+(L59*1+L60)+(L61*1)+(L62*1)+(L63*1)+L64+L65+L66+L67+(L68*1)+(L69*1)+(L70*1)+(L71*1)+(L72*1)+(L73*1)+(L74*1)+(L75*1)+(L76*1)+(L77*1)+(L78*1)+(L79*1)+(L80*1)+(L81*1)+(L82*23)+L85+L86+L87+L88+L89+L90+L91+L92+L93+L94+L95+L96+L97+L98+L99+L100+L101+L102+L103+L104+L105+L106+(L107*22)+L109+L110+L111+L112+L113+L114+L115+L116+L117+L118+L119+L120+L121+L122+L123+L124+L125+L126+L127+L128+L129+L130+(L131*22) -> 0 | M135: =(M9*1)+M10+(M11*1)+(M12*1)+(M13*1)+M14+M15+M16+M17+(M18*1)+(M19*1)+(M20*1)+(M21*1)+(M22*1)+(M23*1)+(M24*1)+(M25*1)+(M26*1)+(M27*1)+(M28*1)+(M29*1)+(M30*1)+(M31*1)+(M32*23)+(M34*1)+M35+(M36*1)+(M37*1)+(M38*1)+M39+M40+M41+M42+(M43*1)+(M44*1)+(M45*1)+(M46*1)+(M47*1)+(M48*1)+(M49*1)+(M50*1)+(M51*1)+(M52*1)+(M53*1)+(M54*1)+(M55*1)+(M56*1)+(M57*23)+(M59*1+M60)+(M61*1)+(M62*1)+(M63*1)+M64+M65+M66+M67+(M68*1)+(M69*1)+(M70*1)+(M71*1)+(M72*1)+(M73*1)+(M74*1)+(M75*1)+(M76*1)+(M77*1)+(M78*1)+(M79*1)+(M80*1)+(M81*1)+(M82*23)+M85+M86+M87+M88+M89+M90+M91+M92+M93+M94+M95+M96+M97+M98+M99+M100+M101+M102+M103+M104+M105+M106+(M107*22)+M109+M110+M111+M112+M113+M114+M115+M116+M117+M118+M119+M120+M121+M122+M123+M124+M125+M126+M127+M128+M129+M130+(M131*22) -> 0 | N135: =(N9*1)+N10+(N11*1)+(N12*1)+(N13*1)+N14+N15+N16+N17+(N18*1)+(N19*1)+(N20*1)+(N21*1)+(N22*1)+(N23*1)+(N24*1)+(N25*1)+(N26*1)+(N27*1)+(N28*1)+(N29*1)+(N30*1)+(N31*1)+(N32*23)+(N34*1)+N35+(N36*1)+(N37*1)+(N38*1)+N39+N40+N41+N42+(N43*1)+(N44*1)+(N45*1)+(N46*1)+(N47*1)+(N48*1)+(N49*1)+(N50*1)+(N51*1)+(N52*1)+(N53*1)+(N54*1)+(N55*1)+(N56*1)+(N57*23)+(N59*1+N60)+(N61*1)+(N62*1)+(N63*1)+N64+N65+N66+N67+(N68*1)+(N69*1)+(N70*1)+(N71*1)+(N72*1)+(N73*1)+(N74*1)+(N75*1)+(N76*1)+(N77*1)+(N78*1)+(N79*1)+(N80*1)+(N81*1)+(N82*23)+N85+N86+N87+N88+N89+N90+N91+N92+N93+N94+N95+N96+N97+N98+N99+N100+N101+N102+N103+N104+N105+N106+(N107*22)+N109+N110+N111+N112+N113+N114+N115+N116+N117+N118+N119+N120+N121+N122+N123+N124+N125+N126+N127+N128+N129+N130+(N131*22) -> 0 | O135: =(O9*1)+O10+(O11*1)+(O12*1)+(O13*1)+O14+O15+O16+O17+(O18*1)+(O19*1)+(O20*1)+(O21*1)+(O22*1)+(O23*1)+(O24*1)+(O25*1)+(O26*1)+(O27*1)+(O28*1)+(O29*1)+(O30*1)+(O31*1)+(O32*23)+(O34*1)+O35+(O36*1)+(O37*1)+(O38*1)+O39+O40+O41+O42+(O43*1)+(O44*1)+(O45*1)+(O46*1)+(O47*1)+(O48*1)+(O49*1)+(O50*1)+(O51*1)+(O52*1)+(O53*1)+(O54*1)+(O55*1)+(O56*1)+(O57*23)+(O59*1+O60)+(O61*1)+(O62*1)+(O63*1)+O64+O65+O66+O67+(O68*1)+(O69*1)+(O70*1)+(O71*1)+(O72*1)+(O73*1)+(O74*1)+(O75*1)+(O76*1)+(O77*1)+(O78*1)+(O79*1)+(O80*1)+(O81*1)+(O82*23)+O85+O86+O87+O88+O89+O90+O91+O92+O93+O94+O95+O96+O97+O98+O99+O100+O101+O102+O103+O104+O105+O106+(O107*22)+O109+O110+O111+O112+O113+O114+O115+O116+O117+O118+O119+O120+O121+O122+O123+O124+O125+O126+O127+O128+O129+O130+(O131*22) -> 0 | ... Q135: =(Q9*1)+Q10+(Q11*1)+(Q12*1)+(Q13*1)+Q14+Q15+Q16+Q17+(Q18*1)+(Q19*1)+(Q20*1)+(Q21*1)+(Q22*1)+(Q23*1)+(Q24*1)+(Q25*1)+(Q26*1)+(Q27*1)+(Q28*1)+(Q29*1)+(Q30*1)+(Q31*1)+(Q32*23)+(Q34*1)+Q35+(Q36*1)+(Q37*1)+(Q38*1)+Q39+Q40+Q41+Q42+(Q43*1)+(Q44*1)+(Q45*1)+(Q46*1)+(Q47*1)+(Q48*1)+(Q49*1)+(Q50*1)+(Q51*1)+(Q52*1)+(Q53*1)+(Q54*1)+(Q55*1)+(Q56*1)+(Q57*23)+(Q59*1+Q60)+(Q61*1)+(Q62*1)+(Q63*1)+Q64+Q65+Q66+Q67+(Q68*1)+(Q69*1)+(Q70*1)+(Q71*1)+(Q72*1)+(Q73*1)+(Q74*1)+(Q75*1)+(Q76*1)+(Q77*1)+(Q78*1)+(Q79*1)+(Q80*1)+(Q81*1)+(Q82*23)+Q85+Q86+Q87+Q88+Q89+Q90+Q91+Q92+Q93+Q94+Q95+Q96+Q97+Q98+Q99+Q100+Q101+Q102+Q103+Q104+Q105+Q106+(Q107*22)+Q109+Q110+Q111+Q112+Q113+Q114+Q115+Q116+Q117+Q118+Q119+Q120+Q121+Q122+Q123+Q124+Q125+Q126+Q127+Q128+Q129+Q130+(Q131*22) -> 0
H136: *All color specifications (RAL and NCS) are best possible approximations. Slight deviations can not be excluded.
E138: needed Spax | H138: =(R9*5)+(R10*5)+(R11*4)+(R12*6)+(R13*5)+(R14*5)+(R15*5)+(R16*5)+(R17*5)+(R18*5)+(R19*6)+(R20*6)+(R21*5)+(R22*6)+(R23*6)+(R24*7)+(R25*6)+(R26*7)+(R27*7)+(R28*7)+(R29*8)+(R30*9)+(R31*10)+(R32/23*140)+(R34*5)+(R35*5)+(R36*4)+(R37*6)+(R38*5)+(R39*5)+(R40*5)+(R41*5)+(R42*5)+(R43*5)+(R44*6)+(R45*6)+(R46*5)+(R47*6)+(R48*6)+(R49*7)+(R50*6)+(R51*7)+(R52*7)+(R53*7)+(R54*8)+(R55*9)+(R56*10)+(R57/23*140)+(R59*5)+(R60*5)+(R61*4)+(R62*6)+(R63*5)+(R64*5)+(R65*5)+(R66*5)+(R67*5)+(R68*5)+(R69*6)+(R70*6)+(R71*5)+(R72*6)+(R73*6)+(R74*7)+(R75*6)+(R76*7)+(R77*7)+(R78*7)+(R79*8)+(R80*9)+(R81*10)+(R82/23*140)+(R85*4)+(R86*5)+(R87*5)+(R88*5)+(R89*6)+(R90*5)+(R91*6)+(R92*6)+(R93*6)+(R94*6)+(R95*6)+(R96*6)+(R97*6)+(R98*6)+(R99*6)+(R100*6)+(R101*7)+(R102*6)+(R103*7)+(R104*7)+(R105*7)+(R106*6)+(R107/22*130)+(R109*4)+(R110*5)+(R111*5)+(R112*5)+(R113*6)+(R114*5)+(R115*6)+(R116*6)+(R117*6)+(R118*6)+(R119*6)+(R120*6)+(R121*6)+(R122*6)+(R123*6)+(R124*6)+(R125*7)+(R126*6)+(R127*7)+(R128*7)+(R129*7)+(R130*6)+(R131/22*130) -> 0
E140: Total Macros | H140: =H135+I135+J135+K135+L135+M135+N135+O135+P135+Q135 -> 0
E141: Total Price Macros | H141: =SUM(S9:S131) -> 0
I142: Prices without Taxes

Sheet Plywood-Volumes
Q2: Total Volumes | S2: =H91 -> 0
H3: Date: | K3: =TODAY() -> 46282 | Q3: Total Weigth (kg) | S3: =(Q9*1.5)+(Q10*2.7)+(Q11*5.1)+(Q12*9)+(Q13*16.7)+(Q14*1.8)+(Q15*3.3)+(Q16*5.8)+(Q17*10.4)+(Q18*19)+(Q19*2.1)+(Q20*3.8)+(Q21*6.8)+(Q22*12.1)+(Q23*21.8)+((Q24*121.9)/15)+(Q26*1.5)+(Q27*2.7)+(Q28*5.1)+(Q29*9)+(Q30*16.7)+(Q31*1.8)+(Q32*3.3)+(Q33*5.8)+(Q34*10.4)+(Q35*19)+(Q36*2.1)+(Q37*3.8)+(Q38*6.8)+(Q39*12.1)+(Q40*21.8)+((Q41*121.9)/15)+((Q44*4.1)/7)+(Q45*2.2)+(Q46*3.6)+(Q47*5.5)+(Q48*8.8)+((Q49*24.2)/11)+((Q50*5.56)/7)+(Q51*2.9)+(Q52*4.7)+(Q53*6.9)+(Q54*11)+((Q55*31.06)/11)+((Q56*6.68)/7)+(Q57*3.7)+(Q58*5.8)+(Q59*9)+(Q60*14.3)+((Q61*39.48)/11)+((Q62*94.74)/33)+((Q64*4.1)/7)+(Q65*2.2)+(Q66*3.6)+(Q67*5.5)+(Q68*8.8)+((Q69*24.2)/11)+((Q70*5.56)/7)+(Q71*2.9)+(Q72*4.7)+(Q73*6.9)+(Q74*11)+((Q75*31.06)/11)+((Q76*6.68)/7)+(Q77*3.7)+(Q78*5.8)+(Q79*9)+(Q80*14.3)+((Q81*39.48)/11)+((Q82*94.74)/33) -> 0
Q4: Total Price Volumes | S4: =H92 -> 0
S5: Prices without Taxes
B7: Art.-No. | C7: Name | F7: Volumes in Set | G7: Price | H7: White | I7: Black | J7: Anthracite | K7: Grey | L7: Blue | M7: Red | N7: Orange | O7: Green | P7: Special request | Q7: Number of Volumes | R7: Price (without Taxes)
B8: PETALS Plywood
B9: 3001 | C9: Petals Flat S Dual Texture | F9: 1 | G9: 120 | Q9: =(H9+I9+J9+K9+M9+L9+N9+O9+P9)*1 -> 0 | R9: =(H9+I9+J9+K9+L9+M9+N9+O9+P9)*G9 -> 0
B10: 3002 | C10: Petals Flat M Dual Texture | F10: 1 | G10: 160 | Q10: =(H10+I10+J10+K10+M10+L10+N10+O10+P10)*1 -> 0 | R10: =(H10+I10+J10+K10+L10+M10+N10+O10+P10)*G10 -> 0
B11: 3003 | C11: Petals Flat L Dual Texture | F11: 1 | G11: 240 | Q11: =(H11+I11+J11+K11+M11+L11+N11+O11+P11)*1 -> 0 | R11: =(H11+I11+J11+K11+L11+M11+N11+O11+P11)*G11 -> 0
B12: 3004 | C12: Petals Flat XL Dual Texture | F12: 1 | G12: 390 | Q12: =(H12+I12+J12+K12+M12+L12+N12+O12+P12)*1 -> 0 | R12: =(H12+I12+J12+K12+L12+M12+N12+O12+P12)*G12 -> 0
B13: 3005 | C13: Petals Flat XXL Dual Texture | F13: 1 | G13: 470 | Q13: =(H13+I13+J13+K13+M13+L13+N13+O13+P13)*1 -> 0 | R13: =(H13+I13+J13+K13+L13+M13+N13+O13+P13)*G13 -> 0
B14: 3006 | C14: Petals Medium S Dual Texture | F14: 1 | G14: 130 | Q14: =(H14+I14+J14+K14+M14+L14+N14+O14+P14)*1 -> 0 | R14: =(H14+I14+J14+K14+L14+M14+N14+O14+P14)*G14 -> 0
B15: 3007 | C15: Petals Medium M Dual Texture | F15: 1 | G15: 170 | Q15: =(H15+I15+J15+K15+M15+L15+N15+O15+P15)*1 -> 0 | R15: =(H15+I15+J15+K15+L15+M15+N15+O15+P15)*G15 -> 0
B16: 3008 | C16: Petals Medium L Dual Texture | F16: 1 | G16: 250 | Q16: =(H16+I16+J16+K16+M16+L16+N16+O16+P16)*1 -> 0 | R16: =(H16+I16+J16+K16+L16+M16+N16+O16+P16)*G16 -> 0
B17: 3009 | C17: Petals Medium XL Dual Texture | F17: 1 | G17: 400 | Q17: =(H17+I17+J17+K17+M17+L17+N17+O17+P17)*1 -> 0 | R17: =(H17+I17+J17+K17+L17+M17+N17+O17+P17)*G17 -> 0
B18: 3010 | C18: Petals Medium XXL Dual Texture | F18: 1 | G18: 500 | Q18: =(H18+I18+J18+K18+M18+L18+N18+O18+P18)*1 -> 0 | R18: =(H18+I18+J18+K18+L18+M18+N18+O18+P18)*G18 -> 0
B19: 3011 | C19: Petals Steep S Dual Texture | F19: 1 | G19: 150 | Q19: =(H19+I19+J19+K19+M19+L19+N19+O19+P19)*1 -> 0 | R19: =(H19+I19+J19+K19+L19+M19+N19+O19+P19)*G19 -> 0
B20: 3012 | C20: Petals Steep M Dual Texture | F20: 1 | G20: 200 | Q20: =(H20+I20+J20+K20+M20+L20+N20+O20+P20)*1 -> 0 | R20: =(H20+I20+J20+K20+L20+M20+N20+O20+P20)*G20 -> 0
... B23: 3015 | C23: Petals Steep XXL Dual Texture | F23: 1 | G23: 600 | Q23: =(H23+I23+J23+K23+M23+L23+N23+O23+P23)*1 -> 0 | R23: =(H23+I23+J23+K23+L23+M23+N23+O23+P23)*G23 -> 0
B24: 3016 | C24: Petals Full Range Dual Texture | F24: 15 | G24: 4500 | Q24: =(H24+I24+J24+K24+M24+L24+N24+O24+P24)*15 -> 0 | R24: =(H24+I24+J24+K24+L24+M24+N24+O24+P24)*G24 -> 0
B26: 3021 | C26: Petals Flat S Full Texture | F26: 1 | G26: 108 | Q26: =(H26+I26+J26+K26+M26+L26+N26+O26+P26)*1 -> 0 | R26: =(H26+I26+J26+K26+L26+M26+N26+O26+P26)*G26 -> 0
B27: 3022 | C27: Petals Flat M Full Texture | F27: 1 | G27: 144 | Q27: =(H27+I27+J27+K27+M27+L27+N27+O27+P27)*1 -> 0 | R27: =(H27+I27+J27+K27+L27+M27+N27+O27+P27)*G27 -> 0
B28: 3023 | C28: Petals Flat L Full Texture | F28: 1 | G28: 216 | Q28: =(H28+I28+J28+K28+M28+L28+N28+O28+P28)*1 -> 0 | R28: =(H28+I28+J28+K28+L28+M28+N28+O28+P28)*G28 -> 0
B29: 3024 | C29: Petals Flat XL Full Texture | F29: 1 | G29: 351 | Q29: =(H29+I29+J29+K29+M29+L29+N29+O29+P29)*1 -> 0 | R29: =(H29+I29+J29+K29+L29+M29+N29+O29+P29)*G29 -> 0
B30: 3025 | C30: Petals Flat XXL Full Texture | F30: 1 | G30: 423 | Q30: =(H30+I30+J30+K30+M30+L30+N30+O30+P30)*1 -> 0 | R30: =(H30+I30+J30+K30+L30+M30+N30+O30+P30)*G30 -> 0
B31: 3026 | C31: Petals Medium S Full Texture | F31: 1 | G31: 117 | Q31: =(H31+I31+J31+K31+M31+L31+N31+O31+P31)*1 -> 0 | R31: =(H31+I31+J31+K31+L31+M31+N31+O31+P31)*G31 -> 0
B32: 3027 | C32: Petals Medium M FullTexture | F32: 1 | G32: 153 | Q32: =(H32+I32+J32+K32+M32+L32+N32+O32+P32)*1 -> 0 | R32: =(H32+I32+J32+K32+L32+M32+N32+O32+P32)*G32 -> 0
B33: 3028 | C33: Petals Medium L Full Texture | F33: 1 | G33: 225 | Q33: =(H33+I33+J33+K33+M33+L33+N33+O33+P33)*1 -> 0 | R33: =(H33+I33+J33+K33+L33+M33+N33+O33+P33)*G33 -> 0
B34: 3029 | C34: Petals Medium XL Full Texture | F34: 1 | G34: 360 | Q34: =(H34+I34+J34+K34+M34+L34+N34+O34+P34)*1 -> 0 | R34: =(H34+I34+J34+K34+L34+M34+N34+O34+P34)*G34 -> 0
B35: 3030 | C35: Petals Medium XXL Full Texture | F35: 1 | G35: 450 | Q35: =(H35+I35+J35+K35+M35+L35+N35+O35+P35)*1 -> 0 | R35: =(H35+I35+J35+K35+L35+M35+N35+O35+P35)*G35 -> 0
B36: 3031 | C36: Petals Steep S Full Texture | F36: 1 | G36: 135 | Q36: =(H36+I36+J36+K36+M36+L36+N36+O36+P36)*1 -> 0 | R36: =(H36+I36+J36+K36+L36+M36+N36+O36+P36)*G36 -> 0
B37: 3032 | C37: Petals Steep M Full Texture | F37: 1 | G37: 180 | Q37: =(H37+I37+J37+K37+M37+L37+N37+O37+P37)*1 -> 0 | R37: =(H37+I37+J37+K37+L37+M37+N37+O37+P37)*G37 -> 0
... B40: 3035 | C40: Petals Steep XXL Full Texture | F40: 1 | G40: 540 | Q40: =(H40+I40+J40+K40+M40+L40+N40+O40+P40)*1 -> 0 | R40: =(H40+I40+J40+K40+L40+M40+N40+O40+P40)*G40 -> 0
B41: 3036 | C41: Petals Full Range Full Texture | F41: 15 | G41: 4050 | Q41: =(H41+I41+J41+K41+M41+L41+N41+O41+P41)*15 -> 0 | R41: =(H41+I41+J41+K41+L41+M41+N41+O41+P41)*G41 -> 0
B43: TRIOS Plywood
B44: 3101 | C44: Trios Flat 3x XS 2x S 2x M Dual Tex. | F44: 7 | G44: 450 | Q44: =(H44+I44+J44+K44+M44+L44+N44+O44+P44)*7 -> 0 | R44: =(H44+I44+J44+K44+L44+M44+N44+O44+P44)*G44 -> 0
B45: 3102 | C45: Trios Flat L Dual Tex. | F45: 1 | G45: 170 | Q45: =(H45+I45+J45+K45+M45+L45+N45+O45+P45)*1 -> 0 | R45: =(H45+I45+J45+K45+L45+M45+N45+O45+P45)*G45 -> 0
B46: 3103 | C46: Trios Flat XL Dual Tex. | F46: 1 | G46: 230 | Q46: =(H46+I46+J46+K46+M46+L46+N46+O46+P46)*1 -> 0 | R46: =(H46+I46+J46+K46+L46+M46+N46+O46+P46)*G46 -> 0
B47: 3104 | C47: Trios Flat XXL Dual Tex. | F47: 1 | G47: 290 | Q47: =(H47+I47+J47+K47+M47+L47+N47+O47+P47)*1 -> 0 | R47: =(H47+I47+J47+K47+L47+M47+N47+O47+P47)*G47 -> 0
B48: 3105 | C48: Trios Flat XXXL Dual Tex. | F48: 1 | G48: 370 | Q48: =(H48+I48+J48+K48+M48+L48+N48+O48+P48)*1 -> 0 | R48: =(H48+I48+J48+K48+L48+M48+N48+O48+P48)*G48 -> 0
B49: 3106 | C49: Trios Flat Full SET Dual Tex. | F49: 11 | G49: 1500 | Q49: =(H49+I49+J49+K49+M49+L49+N49+O49+P49)*11 -> 0 | R49: =(H49+I49+J49+K49+L49+M49+N49+O49+P49)*G49 -> 0
B50: 3107 | C50: Trios Medium 3x XS 2x S 2x M Dual Tex. | F50: 7 | G50: 500 | Q50: =(H50+I50+J50+K50+M50+L50+N50+O50+P50)*7 -> 0 | R50: =(H50+I50+J50+K50+L50+M50+N50+O50+P50)*G50 -> 0
B51: 3108 | C51: Trios Medium L Dual Tex. | F51: 1 | G51: 180 | Q51: =(H51+I51+J51+K51+M51+L51+N51+O51+P51)*1 -> 0 | R51: =(H51+I51+J51+K51+L51+M51+N51+O51+P51)*G51 -> 0
B52: 3109 | C52: Trios Medium XL Dual Tex. | F52: 1 | G52: 240 | Q52: =(H52+I52+J52+K52+M52+L52+N52+O52+P52)*1 -> 0 | R52: =(H52+I52+J52+K52+L52+M52+N52+O52+P52)*G52 -> 0
B53: 3110 | C53: Trios Medium XXL Dual Tex. | F53: 1 | G53: 310 | Q53: =(H53+I53+J53+K53+M53+L53+N53+O53+P53)*1 -> 0 | R53: =(H53+I53+J53+K53+L53+M53+N53+O53+P53)*G53 -> 0
B54: 3111 | C54: Trios Medium XXXL Dual Tex. | F54: 1 | G54: 400 | Q54: =(H54+I54+J54+K54+M54+L54+N54+O54+P54)*1 -> 0 | R54: =(H54+I54+J54+K54+L54+M54+N54+O54+P54)*G54 -> 0
B55: 3112 | C55: Trios Medium FULL SET Dual Tex. | F55: 11 | G55: 1650 | Q55: =(H55+I55+J55+K55+M55+L55+N55+O55+P55)*11 -> 0 | R55: =(H55+I55+J55+K55+L55+M55+N55+O55+P55)*G55 -> 0
B56: 3113 | C56: Trios Steep 3x XS 2x S 2x M Dual Tex. | F56: 7 | G56: 550 | Q56: =(H56+I56+J56+K56+M56+L56+N56+O56+P56)*7 -> 0 | R56: =(H56+I56+J56+K56+L56+M56+N56+O56+P56)*G56 -> 0
B57: 3114 | C57: Trios Steep L Dual Tex. | F57: 1 | G57: 200 | Q57: =(H57+I57+J57+K57+M57+L57+N57+O57+P57)*1 -> 0 | R57: =(H57+I57+J57+K57+L57+M57+N57+O57+P57)*G57 -> 0
B58: 3115 | C58: Trios Steep XL Dual Tex. | F58: 1 | G58: 290 | Q58: =(H58+I58+J58+K58+M58+L58+N58+O58+P58)*1 -> 0 | R58: =(H58+I58+J58+K58+L58+M58+N58+O58+P58)*G58 -> 0
B59: 3116 | C59: Trios Steep XXL Dual Tex. | F59: 1 | G59: 360 | Q59: =(H59+I59+J59+K59+M59+L59+N59+O59+P59)*1 -> 0 | R59: =(H59+I59+J59+K59+L59+M59+N59+O59+P59)*G59 -> 0
B60: 3117 | C60: Trios Steep XXXL Dual Tex. | F60: 1 | G60: 470 | Q60: =(H60+I60+J60+K60+M60+L60+N60+O60+P60)*1 -> 0 | R60: =(H60+I60+J60+K60+L60+M60+N60+O60+P60)*G60 -> 0
B61: 3118 | C61: Trios Steep FULL SET Dual Tex. | F61: 11 | G61: 1850 | Q61: =(H61+I61+J61+K61+M61+L61+N61+O61+P61)*11 -> 0 | R61: =(H61+I61+J61+K61+L61+M61+N61+O61+P61)*G61 -> 0
B62: 3119 | C62: Trios COMPLETE RANGE Dual Tex. | F62: 33 | G62: 5000 | Q62: =(H62+I62+J62+K62+M62+L62+N62+O62+P62)*33 -> 0 | R62: =(H62+I62+J62+K62+L62+M62+N62+O62+P62)*G62 -> 0
B64: 3121 | C64: Trios Flat 3x XS 2x S 2x M Full Tex. | F64: 7 | G64: 405 | Q64: =(H64+I64+J64+K64+M64+L64+N64+O64+P64)*7 -> 0 | R64: =(H64+I64+J64+K64+L64+M64+N64+O64+P64)*G64 -> 0
B65: 3122 | C65: Trios Flat L Full Tex. | F65: 1 | G65: 153 | Q65: =(H65+I65+J65+K65+M65+L65+N65+O65+P65)*1 -> 0 | R65: =(H65+I65+J65+K65+L65+M65+N65+O65+P65)*G65 -> 0
B66: 3123 | C66: Trios Flat XL Full Tex. | F66: 1 | G66: 207 | Q66: =(H66+I66+J66+K66+M66+L66+N66+O66+P66)*1 -> 0 | R66: =(H66+I66+J66+K66+L66+M66+N66+O66+P66)*G66 -> 0
B67: 3124 | C67: Trios Flat XXL Full Tex. | F67: 1 | G67: 261 | Q67: =(H67+I67+J67+K67+M67+L67+N67+O67+P67)*1 -> 0 | R67: =(H67+I67+J67+K67+L67+M67+N67+O67+P67)*G67 -> 0
B68: 3125 | C68: Trios Flat XXXL Full Tex. | F68: 1 | G68: 333 | Q68: =(H68+I68+J68+K68+M68+L68+N68+O68+P68)*1 -> 0 | R68: =(H68+I68+J68+K68+L68+M68+N68+O68+P68)*G68 -> 0
B69: 3126 | C69: Trios Flat FULL SET Full Tex. | F69: 11 | G69: 1350 | Q69: =(H69+I69+J69+K69+M69+L69+N69+O69+P69)*11 -> 0 | R69: =(H69+I69+J69+K69+L69+M69+N69+O69+P69)*G69 -> 0
B70: 3127 | C70: Trios Medium 3x XS 2x S 2x M Full Tex. | F70: 7 | G70: 450 | Q70: =(H70+I70+J70+K70+M70+L70+N70+O70+P70)*7 -> 0 | R70: =(H70+I70+J70+K70+L70+M70+N70+O70+P70)*G70 -> 0
B71: 3128 | C71: Trios Medium L Full Tex. | F71: 1 | G71: 162 | Q71: =(H71+I71+J71+K71+M71+L71+N71+O71+P71)*1 -> 0 | R71: =(H71+I71+J71+K71+L71+M71+N71+O71+P71)*G71 -> 0
B72: 3129 | C72: Trios Medium XL Full Tex. | F72: 1 | G72: 216 | Q72: =(H72+I72+J72+K72+M72+L72+N72+O72+P72)*1 -> 0 | R72: =(H72+I72+J72+K72+L72+M72+N72+O72+P72)*G72 -> 0
B73: 3130 | C73: Trios Medium XXL Full Tex. | F73: 1 | G73: 279 | Q73: =(H73+I73+J73+K73+M73+L73+N73+O73+P73)*1 -> 0 | R73: =(H73+I73+J73+K73+L73+M73+N73+O73+P73)*G73 -> 0
B74: 3131 | C74: Trios Medium XXXL Full Tex. | F74: 1 | G74: 360 | Q74: =(H74+I74+J74+K74+M74+L74+N74+O74+P74)*1 -> 0 | R74: =(H74+I74+J74+K74+L74+M74+N74+O74+P74)*G74 -> 0
B75: 3132 | C75: Trios Medium FULL SET Full Tex. | F75: 11 | G75: 1485 | Q75: =(H75+I75+J75+K75+M75+L75+N75+O75+P75)*11 -> 0 | R75: =(H75+I75+J75+K75+L75+M75+N75+O75+P75)*G75 -> 0
B76: 3133 | C76: Trios Steep 3x XS 2x S 2x M Full Tex. | F76: 7 | G76: 495 | Q76: =(H76+I76+J76+K76+M76+L76+N76+O76+P76)*7 -> 0 | R76: =(H76+I76+J76+K76+L76+M76+N76+O76+P76)*G76 -> 0
B77: 3134 | C77: Trios Steep L Full Tex. | F77: 1 | G77: 180 | Q77: =(H77+I77+J77+K77+M77+L77+N77+O77+P77)*1 -> 0 | R77: =(H77+I77+J77+K77+L77+M77+N77+O77+P77)*G77 -> 0
B78: 3135 | C78: Trios Steep XL Full Tex. | F78: 1 | G78: 261 | Q78: =(H78+I78+J78+K78+M78+L78+N78+O78+P78)*1 -> 0 | R78: =(H78+I78+J78+K78+L78+M78+N78+O78+P78)*G78 -> 0
B79: 3136 | C79: Trios Steep XXL Full Tex. | F79: 1 | G79: 324 | Q79: =(H79+I79+J79+K79+M79+L79+N79+O79+P79)*1 -> 0 | R79: =(H79+I79+J79+K79+L79+M79+N79+O79+P79)*G79 -> 0
B80: 3137 | C80: Trios Steep XXXL Full Tex. | F80: 1 | G80: 423 | Q80: =(H80+I80+J80+K80+M80+L80+N80+O80+P80)*1 -> 0 | R80: =(H80+I80+J80+K80+L80+M80+N80+O80+P80)*G80 -> 0
B81: 3138 | C81: Trios Steep FULL SET Full Tex. | F81: 11 | G81: 1665 | Q81: =(H81+I81+J81+K81+M81+L81+N81+O81+P81)*11 -> 0 | R81: =(H81+I81+J81+K81+L81+M81+N81+O81+P81)*G81 -> 0
B82: 3139 | C82: Trios COMPLETE RANGE Full Tex. | F82: 33 | G82: 4500 | Q82: =(H82+I82+J82+K82+M82+L82+N82+O82+P82)*33 -> 0 | R82: =(H82+I82+J82+K82+L82+M82+N82+O82+P82)*G82 -> 0
H85: RAL 9003* | I85: RAL 9005* | J85: RAL 7016* | K85: RAL 7040* | L85: RAL 5015* | M85: RAL 3020* | N85: RAL 2004* | O85: RAL 6029* | P85: wish colour
E86: Total Macros per color | H86: =(H9*1)+(H10*1)+(H11*1)+(H12*1)+(H13*1)+(H14*1)+(H15*1)+(H16*1)+(H17*1)+(H18*1)+(H19*1)+(H20*1)+(H21*1)+(H22*1)+(H23*1)+(H24*15)+H26+H27+H28+H29+H30+H31+H32+H33+H34+H35+H36+H37+H39+H38+H40+(H41*15)+(H44*7)+H45+H46+H47+H48+(H49*11)+(H50*7)+H51+H52+H53+H54+(H55*11)+(H56*7)+H57+H58+H59+H60+(H61*11)+(H62*33)+(H64*7)+H65+H66+H67+H68+(H69*11)+(H70*7)+H71+H72+H73+H74+(H75*11)+(H76*7)+H77+H78+H79+H80+(H81*11)+(H82*33) -> 0 | I86: =(I9*1)+(I10*1)+(I11*1)+(I12*1)+(I13*1)+(I14*1)+(I15*1)+(I16*1)+(I17*1)+(I18*1)+(I19*1)+(I20*1)+(I21*1)+(I22*1)+(I23*1)+(I24*15)+I26+I27+I28+I29+I30+I31+I32+I33+I34+I35+I36+I37+I39+I38+I40+(I41*15)+(I44*7)+I45+I46+I47+I48+(I49*11)+(I50*7)+I51+I52+I53+I54+(I55*11)+(I56*7)+I57+I58+I59+I60+(I61*11)+(I62*33)+(I64*7)+I65+I66+I67+I68+(I69*11)+(I70*7)+I71+I72+I73+I74+(I75*11)+(I76*7)+I77+I78+I79+I80+(I81*11)+(I82*33) -> 0 | J86: =(J9*1)+(J10*1)+(J11*1)+(J12*1)+(J13*1)+(J14*1)+(J15*1)+(J16*1)+(J17*1)+(J18*1)+(J19*1)+(J20*1)+(J21*1)+(J22*1)+(J23*1)+(J24*15)+J26+J27+J28+J29+J30+J31+J32+J33+J34+J35+J36+J37+J39+J38+J40+(J41*15)+(J44*7)+J45+J46+J47+J48+(J49*11)+(J50*7)+J51+J52+J53+J54+(J55*11)+(J56*7)+J57+J58+J59+J60+(J61*11)+(J62*33)+(J64*7)+J65+J66+J67+J68+(J69*11)+(J70*7)+J71+J72+J73+J74+(J75*11)+(J76*7)+J77+J78+J79+J80+(J81*11)+(J82*33) -> 0 | K86: =(K9*1)+(K10*1)+(K11*1)+(K12*1)+(K13*1)+(K14*1)+(K15*1)+(K16*1)+(K17*1)+(K18*1)+(K19*1)+(K20*1)+(K21*1)+(K22*1)+(K23*1)+(K24*15)+K26+K27+K28+K29+K30+K31+K32+K33+K34+K35+K36+K37+K39+K38+K40+(K41*15)+(K44*7)+K45+K46+K47+K48+(K49*11)+(K50*7)+K51+K52+K53+K54+(K55*11)+(K56*7)+K57+K58+K59+K60+(K61*11)+(K62*33)+(K64*7)+K65+K66+K67+K68+(K69*11)+(K70*7)+K71+K72+K73+K74+(K75*11)+(K76*7)+K77+K78+K79+K80+(K81*11)+(K82*33) -> 0 | L86: =(L9*1)+(L10*1)+(L11*1)+(L12*1)+(L13*1)+(L14*1)+(L15*1)+(L16*1)+(L17*1)+(L18*1)+(L19*1)+(L20*1)+(L21*1)+(L22*1)+(L23*1)+(L24*15)+L26+L27+L28+L29+L30+L31+L32+L33+L34+L35+L36+L37+L39+L38+L40+(L41*15)+(L44*7)+L45+L46+L47+L48+(L49*11)+(L50*7)+L51+L52+L53+L54+(L55*11)+(L56*7)+L57+L58+L59+L60+(L61*11)+(L62*33)+(L64*7)+L65+L66+L67+L68+(L69*11)+(L70*7)+L71+L72+L73+L74+(L75*11)+(L76*7)+L77+L78+L79+L80+(L81*11)+(L82*33) -> 0 | M86: =(M9*1)+(M10*1)+(M11*1)+(M12*1)+(M13*1)+(M14*1)+(M15*1)+(M16*1)+(M17*1)+(M18*1)+(M19*1)+(M20*1)+(M21*1)+(M22*1)+(M23*1)+(M24*15)+M26+M27+M28+M29+M30+M31+M32+M33+M34+M35+M36+M37+M39+M38+M40+(M41*15)+(M44*7)+M45+M46+M47+M48+(M49*11)+(M50*7)+M51+M52+M53+M54+(M55*11)+(M56*7)+M57+M58+M59+M60+(M61*11)+(M62*33)+(M64*7)+M65+M66+M67+M68+(M69*11)+(M70*7)+M71+M72+M73+M74+(M75*11)+(M76*7)+M77+M78+M79+M80+(M81*11)+(M82*33) -> 0 | N86: =(N9*1)+(N10*1)+(N11*1)+(N12*1)+(N13*1)+(N14*1)+(N15*1)+(N16*1)+(N17*1)+(N18*1)+(N19*1)+(N20*1)+(N21*1)+(N22*1)+(N23*1)+(N24*15)+N26+N27+N28+N29+N30+N31+N32+N33+N34+N35+N36+N37+N39+N38+N40+(N41*15)+(N44*7)+N45+N46+N47+N48+(N49*11)+(N50*7)+N51+N52+N53+N54+(N55*11)+(N56*7)+N57+N58+N59+N60+(N61*11)+(N62*33)+(N64*7)+N65+N66+N67+N68+(N69*11)+(N70*7)+N71+N72+N73+N74+(N75*11)+(N76*7)+N77+N78+N79+N80+(N81*11)+(N82*33) -> 0 | O86: =(O9*1)+(O10*1)+(O11*1)+(O12*1)+(O13*1)+(O14*1)+(O15*1)+(O16*1)+(O17*1)+(O18*1)+(O19*1)+(O20*1)+(O21*1)+(O22*1)+(O23*1)+(O24*15)+O26+O27+O28+O29+O30+O31+O32+O33+O34+O35+O36+O37+O39+O38+O40+(O41*15)+(O44*7)+O45+O46+O47+O48+(O49*11)+(O50*7)+O51+O52+O53+O54+(O55*11)+(O56*7)+O57+O58+O59+O60+(O61*11)+(O62*33)+(O64*7)+O65+O66+O67+O68+(O69*11)+(O70*7)+O71+O72+O73+O74+(O75*11)+(O76*7)+O77+O78+O79+O80+(O81*11)+(O82*33) -> 0 | P86: =(P9*1)+(P10*1)+(P11*1)+(P12*1)+(P13*1)+(P14*1)+(P15*1)+(P16*1)+(P17*1)+(P18*1)+(P19*1)+(P20*1)+(P21*1)+(P22*1)+(P23*1)+(P24*15)+P26+P27+P28+P29+P30+P31+P32+P33+P34+P35+P36+P37+P39+P38+P40+(P41*15)+(P44*7)+P45+P46+P47+P48+(P49*11)+(P50*7)+P51+P52+P53+P54+(P55*11)+(P56*7)+P57+P58+P59+P60+(P61*11)+(P62*33)+(P64*7)+P65+P66+P67+P68+(P69*11)+(P70*7)+P71+P72+P73+P74+(P75*11)+(P76*7)+P77+P78+P79+P80+(P81*11)+(P82*33) -> 0
H87: *All color specifications (RAL and NCS) are best possible approximations. Slight deviations can not be excluded.
E89: needed Spax | H89: =(Q9*3)+(Q10*4)+(Q11*9)+(Q12*10)+(Q13*10)+(Q14*3)+(Q15*4)+(Q16*9)+(Q17*10)+(Q18*10)+(Q19*3)+(Q20*4)+(Q21*9)+(Q22*10)+(Q23*10)+(Q24/15*108)+(Q26*3)+(Q27*4)+(Q28*9)+(Q29*10)+(Q30*10)+(Q31*3)+(Q32*4)+(Q33*9)+(Q34*10)+(Q35*10)+(Q36*3)+(Q37*4)+(Q38*9)+(Q39*10)+(Q40*10)+(Q41/15*108)+(Q44/7*22)+(Q45*5)+(Q46*9)+(Q47*10)+(Q48*13)+(Q49/11*59)+(Q50/7*22)+(Q51*5)+(Q52*9)+(Q53*10)+(Q54*13)+(Q55/11*59)+(Q56/7*22)+(Q57*5)+(Q58*9)+(Q59*10)+(Q60*13)+(Q61/11*59)+(Q62/33*177)+(Q64/7*22)+(Q65*5)+(Q66*9)+(Q67*10)+(Q68*13)+(Q69/11*59)+(Q70/7*22)+(Q71*5)+(Q72*9)+(Q73*10)+(Q74*13)+(Q75/11*59)+(Q76/7*22)+(Q77*5)+(Q78*9)+(Q79*10)+(Q80*13)+(Q81/11*59)+(Q82/33*177) -> 0
E91: Total Volumes | H91: =H86+I86+J86+K86+L86+M86+N86+O86+P86 -> 0
E92: Total Price Volumes | H92: =SUM(R9:R82) -> 0
I93: Prices without Taxes
